From mboxrd@z Thu Jan 1 00:00:00 1970 Return-Path: Received: from mails.dpdk.org (mails.dpdk.org [217.70.189.124]) by inbox.dpdk.org (Postfix) with ESMTP id C8DB6489BD for ; Fri, 24 Oct 2025 04:59:11 +0200 (CEST) Received: from mails.dpdk.org (localhost [127.0.0.1]) by mails.dpdk.org (Postfix) with ESMTP id C0E2340144; Fri, 24 Oct 2025 04:59:11 +0200 (CEST) Received: from mail-vs1-f99.google.com (mail-vs1-f99.google.com [209.85.217.99]) by mails.dpdk.org (Postfix) with ESMTP id A6DD340144 for ; Fri, 24 Oct 2025 04:59:10 +0200 (CEST) Received: by mail-vs1-f99.google.com with SMTP id ada2fe7eead31-5db39d2ce9fso499392137.3 for ; Thu, 23 Oct 2025 19:59:10 -0700 (PDT) DKIM-Signature: v=1; a=rsa-sha256; c=relaxed/relaxed; d=iol.unh.edu; s=unh-iol; t=1761274750; x=1761879550; darn=dpdk.org; h=references:in-reply-to:cc:to:from:subject:message-id:date:from:to :cc:subject:date:message-id:reply-to; bh=UOOw+H8IJvMa2PU7xLjQIHH+2wAVpLGOmkTT9pLoiEU=; b=gKgtLBOBy3i8HFqkBZReZASdrDWs/gncjx3jqmNZl5n2l7OZb5twjr/ep4tsGPB527 X39wAByP0rskC9n8azZNiQMlCxSxYqfkctvz16l/1T9TGacd8Ml3NMldTN+NWd7ZV61c UrmKysucYvjqI6nWr5f0QdrSJGvt71LUGNKIc= X-Google-DKIM-Signature: v=1; a=rsa-sha256; c=relaxed/relaxed; d=1e100.net; s=20230601; t=1761274750; x=1761879550; h=references:in-reply-to:cc:to:from:subject:message-id:date :x-gm-message-state:from:to:cc:subject:date:message-id:reply-to; bh=UOOw+H8IJvMa2PU7xLjQIHH+2wAVpLGOmkTT9pLoiEU=; b=j0uayIj8jn686wxXQt9VDzzq0Z4FgTIS9pegwiFG5HYAjxWa+h3fmxY+OCNB2JjpAl SGbBzfGK0YEFVFU+YEEzk0/jNBgg3r5vInVPo9wVF+55FJGhw7aW1pE4mCROaLretHOk qSC/nylRRQd7Sw9DP1GwAPGBF6SBFDOr+uBUyJBRAeqXP0zgicSgZFIoynmJipmFfet8 mAvUUqJU3/OUD06uOwMc+YLITPeXw2l9zYL4FIppGkRGWq7JeRJSFC94dvGggxu+N0pd H6IzwK/SnxxZ8v7uIqoTH0w2u2QM2oG6ZydHR4L8khJ4+MvHzHLGQ80rfcI1cAU+kCx0 hilQ== X-Gm-Message-State: AOJu0Yy5wcakkP5ezG0RayuwWcSPWpVyiMtdcKXPvWN0DditvrnH0+R+ RB5TtJTnsLn6qh/pJs1mTWvre9OJ/L0YC03JNU2WASA2zUS3aj8Pl0KhU18bZtcJrl2alGIOvtt 74vf99Iy8SnKHpEre49zo9Rj+uVGYdVGwvvywExHLULHP X-Gm-Gg: ASbGncvvn/QOX7uAdCCPcwxf7FTootyiuYZvrp+zqPydhR4BSDbtdLIM8lg5jhp4aWz DnK8lrwP5fu5Oc2yG2hhMu9A+Hhucocvy9YCqHgRgx+H0aRPiz5WaCrPyztC0NvxYAe99fHOGSZ /uKCdKTXAS3lzjxWreaOAcGM70Le0IC/op+eWBxQ8pT6badsEOrV6R+xBwrWyw33y/jxGiITPgl kgk8fS70s2Jsaht8HAsX9SiywktFERZUWqLcDTS2HIcYNOWTr3WQllJQ5sjQN0SQChGtKkhsAwq 6j2dmrBqubo1rEaRYiUwqJVJ7nQasBoJexTk+8QNBVEcMqSy6TqHOISv2OAzQURKFDDZ7oRJhtc 8D7qjVx7t/5koFQXKw96h2hNsma67qoQ= X-Google-Smtp-Source: AGHT+IFxnNnZfChCOShvntB8VW9YyL5OXE2tTSko00ab8upyvqN5Vrvm6YnQEQ58e6PytOqJ1hoCI3BF2sYC X-Received: by 2002:a05:6102:290e:b0:5d6:31f8:bf0 with SMTP id ada2fe7eead31-5db2e553283mr1774840137.20.1761274750030; Thu, 23 Oct 2025 19:59:10 -0700 (PDT) Received: from postal.iol.unh.edu (postal.iol.unh.edu. [132.177.123.84]) by smtp-relay.gmail.com with ESMTPS id ada2fe7eead31-5db2c9561f6sm385537137.3.2025.10.23.19.59.09 (version=TLS1_2 cipher=ECDHE-ECDSA-AES128-GCM-SHA256 bits=128/128); Thu, 23 Oct 2025 19:59:10 -0700 (PDT) X-Relaying-Domain: iol.unh.edu Date: Thu, 23 Oct 2025 19:59:10 -0700 (PDT) Message-ID: <68faeb7e.050a0220.69b41.332aSMTPIN_ADDED_MISSING@mx.google.com> Received: from [172.21.0.5] (unknown [172.18.0.240]) by postal.iol.unh.edu (Postfix) with ESMTP id 9C92B6051830; Thu, 23 Oct 2025 22:59:09 -0400 (EDT) Subject: |SUCCESS| pw158024-158026 [PATCH] [v9,3/3] dts: add Rx Tx offload te From: dpdklab@iol.unh.edu To: Test Report Cc: dpdk-test-reports@iol.unh.edu In-Reply-To: <20251023123223.56924-4-abailey@iol.unh.edu> References: <20251023123223.56924-4-abailey@iol.unh.edu> Content-Type: text/plain X-BeenThere: test-report@dpdk.org X-Mailman-Version: 2.1.29 Precedence: list List-Id: automatic DPDK test reports List-Unsubscribe: , List-Archive: List-Post: List-Help: List-Subscribe: , Errors-To: test-report-bounces@dpdk.org Test-Label: iol-compile-arm64-testing Test-Status: SUCCESS http://dpdk.org/patch/158026 _Testing PASS_ Submitter: Andrew Bailey Date: Thursday, October 23 2025 12:32:23 DPDK git baseline: Repo:dpdk-next-dts Branch: master CommitID:c1abcee5a9656fb4890b733e6051aa604c60f146 158024-158026 --> testing pass Upstream job id: Generic-DPDK-Compile-Meson#437121 Test environment and result as below: +------------------------------+--------------------+ | Environment | dpdk_meson_compile | +==============================+====================+ | Red Hat Enterprise Linux 9.5 | PASS | +------------------------------+--------------------+ | Ubuntu 20.04 | PASS | +------------------------------+--------------------+ | Debian GNU/Linux 12 | PASS | +------------------------------+--------------------+ | Fedora Linux 42 | PASS | +------------------------------+--------------------+ | Ubuntu 22.04 | PASS | +------------------------------+--------------------+ | Ubuntu 24.04 | PASS | +------------------------------+--------------------+ | CentOS Stream 9 | PASS | +------------------------------+--------------------+ | CentOS Stream 10 | PASS | +------------------------------+--------------------+ Red Hat Enterprise Linux 9.5 Kernel: 5.4 Compiler: gcc gcc (GCC) 11.5.0 20240719 (Red Hat 11.5.0-2) Ubuntu 20.04 Kernel: 5.15 Compiler: aarch64-linux-gnu-gcc gcc (Ubuntu 9.4.0-1ubuntu1~20.04.2) 9.4.0 Debian GNU/Linux 12 Kernel: 5.4 Compiler: gcc gcc (Debian 12.2.0-14+deb12u1) 12.2.0 Fedora Linux 42 Kernel: 5.4 Compiler: gcc gcc (GCC) 15.2.1 20250808 (Red Hat 15.2.1-1) Ubuntu 22.04 Kernel: 5.4 Compiler: gcc gcc (Ubuntu 11.4.0-1ubuntu1~22.04) 11.4.0 Ubuntu 24.04 Kernel: 5.4 Compiler: gcc gcc (Ubuntu 13.3.0-6ubuntu2~24.04) 13.3.0 CentOS Stream 9 Kernel: 5.4 Compiler: gcc gcc (GCC) 11.5.0 20240719 (Red Hat 11.5.0-11) CentOS Stream 10 Kernel: 5.4 Compiler: gcc gcc (GCC) 14.2.1 20250110 (Red Hat 14.2.1-8) To view detailed results, visit: https://lab.dpdk.org/results/dashboard/patchsets/34359/ UNH-IOL DPDK Community Lab To manage your email subscriptions, visit: https://lab.dpdk.org/results/dashboard/preferences/subscriptions/