From mboxrd@z Thu Jan 1 00:00:00 1970 Return-Path: Received: from mails.dpdk.org (mails.dpdk.org [217.70.189.124]) by inbox.dpdk.org (Postfix) with ESMTP id 98EAC489BD for ; Fri, 24 Oct 2025 05:27:22 +0200 (CEST) Received: from mails.dpdk.org (localhost [127.0.0.1]) by mails.dpdk.org (Postfix) with ESMTP id 7B02540144; Fri, 24 Oct 2025 05:27:22 +0200 (CEST) Received: from mail-oa1-f97.google.com (mail-oa1-f97.google.com [209.85.160.97]) by mails.dpdk.org (Postfix) with ESMTP id 9095440144 for ; Fri, 24 Oct 2025 05:27:21 +0200 (CEST) Received: by mail-oa1-f97.google.com with SMTP id 586e51a60fabf-3c978f55367so1024866fac.3 for ; Thu, 23 Oct 2025 20:27:21 -0700 (PDT) DKIM-Signature: v=1; a=rsa-sha256; c=relaxed/relaxed; d=iol.unh.edu; s=unh-iol; t=1761276440; x=1761881240; darn=dpdk.org; h=references:in-reply-to:cc:to:from:subject:message-id:date:from:to :cc:subject:date:message-id:reply-to; bh=DzmDHQgtXVGBS+m4bJAjENJJxjAOZoEFLujYUXre/co=; b=cHljfVzRWEFXDdctM5xwzci+Sra4S4exi7e540AkmXIujeuruQu6w0unBpB0znibqK ASRQXX//pQiqTXYDrn6myx7cd3kOstB+4WjnCV5AaYobpCbNHQQaJqNn6CsOH5wINjFn B9N7tEpr5zMXF6kTaXZOe2YXsyzdztKrF05KA= X-Google-DKIM-Signature: v=1; a=rsa-sha256; c=relaxed/relaxed; d=1e100.net; s=20230601; t=1761276440; x=1761881240; h=references:in-reply-to:cc:to:from:subject:message-id:date :x-gm-message-state:from:to:cc:subject:date:message-id:reply-to; bh=DzmDHQgtXVGBS+m4bJAjENJJxjAOZoEFLujYUXre/co=; b=ZusVseGHEw9sGocUTtss0+NPaDd0MLt5TrMR3SIKs5TZsxLWtzzsi3wih0d/EYbOUO 79QOsteIAnTuZscNMJg9KB1pXng+FF/augZZRsA9ZkXkkXjurGxLWUQVhVlfg5Iu9ZgM 0KXeylHXCstz44BrPpmciGYjVYDNT0MRcHRAhKBjCoOsLPoLQ55vICAOVI4LmPcOM7QF sN5KLldOzQUjmeyzXAFp8z0L6qOsCDDbDMKG7c5r7QAuz3yMDOsLSAPK9ooZGrlADHgD RA191Tj8FAMOdJsQrF1Lm023uscovJA3gvbDel2riHSEfCS5dotIuNkgOznvsFmPfdJt KXlA== X-Gm-Message-State: AOJu0Yy3QRINoJduQIqM/B2NG7K6V3Ksnlmd0giLdEKvvbSIcHbWkJ2l vgsFxeWRRtT1ag4x9F048WotYk4ghA7EsDOZeaGxx9GZ3OJq+HDUy/U3u9pq+cEUMlOm8FzpRRb o2ool/ABLeLNc4q8ILmB0xQJWfIkOmqgscfRAnykDdz// X-Gm-Gg: ASbGncuhK/emHQXKQ3pYyCoqGPmEP/dEGY5BF78f61Q4qlMnA6xqVmsrf5dCRRgmSZp IPZKOXiWO1J5Yf4UCeco2afc9durCuQRZieWxxxW4kS/edEWHzE8lKCnG57ki84cXV6vzjxbTYp Hp8kffK/UU5HB7QRNNAa5YArlEhqrl43LszL4WhEdUzvxcKZcS8Txbyx8izsqL0RminFWunv7yv /xcmq/bQiuuT5xwoWIOrf42C2h7EQLCQE0L2R3WtGS6zyzEeptFTDqj/Axo3FUqqIXXAswzUTdI bpYajpTiBNunEdOEFQo0U9Wu7EmHwt9O7Lxl9aojnfCsZbMglKO5J6mk4EiPah5RwkJYaOyqSpG peuutSc18F3vm44Im2otYTIAZP6veFWk= X-Google-Smtp-Source: AGHT+IE/tPP1NJtA3wh3YxNMwSOk/AIeR64s0gSooCxHtscAvkgvNdrtwMQ/X92gLfjX8LGsN62FTC+LLLgW X-Received: by 2002:a05:6870:23a1:b0:370:faf6:be02 with SMTP id 586e51a60fabf-3c98cf2c035mr11504862fac.2.1761276440687; Thu, 23 Oct 2025 20:27:20 -0700 (PDT) Received: from postal.iol.unh.edu (postal.iol.unh.edu. [132.177.123.84]) by smtp-relay.gmail.com with ESMTPS id 586e51a60fabf-3cdc4bb5b3esm340258fac.3.2025.10.23.20.27.20 (version=TLS1_2 cipher=ECDHE-ECDSA-AES128-GCM-SHA256 bits=128/128); Thu, 23 Oct 2025 20:27:20 -0700 (PDT) X-Relaying-Domain: iol.unh.edu Date: Thu, 23 Oct 2025 20:27:20 -0700 (PDT) Message-ID: <68faf218.050a0220.295d39.088eSMTPIN_ADDED_MISSING@mx.google.com> Received: from [172.21.0.3] (unknown [172.18.0.240]) by postal.iol.unh.edu (Postfix) with ESMTP id 384296051830; Thu, 23 Oct 2025 23:27:20 -0400 (EDT) Subject: |WARNING| pw158037 [PATCH] [v7] mbuf: optimize segment prefree From: dpdklab@iol.unh.edu To: Test Report Cc: dpdk-test-reports@iol.unh.edu In-Reply-To: <20251023161851.328258-1-mb@smartsharesystems.com> References: <20251023161851.328258-1-mb@smartsharesystems.com> Content-Type: text/plain X-BeenThere: test-report@dpdk.org X-Mailman-Version: 2.1.29 Precedence: list List-Id: automatic DPDK test reports List-Unsubscribe: , List-Archive: List-Post: List-Help: List-Subscribe: , Errors-To: test-report-bounces@dpdk.org Test-Label: iol-compile-amd64-testing Test-Status: WARNING http://dpdk.org/patch/158037 _Testing issues_ Submitter: Morten Brorup Date: Thursday, October 23 2025 16:18:50 DPDK git baseline: Repo:dpdk Branch: master CommitID:7c744b9a08cf3dd6bdd215689bb6d2beb8a8a4ef 158037 --> testing issues Upstream job id: Generic-DPDK-Compile-Meson#437186 Test environment and result as below: +-------------------------------+--------------------+-------------------+-------------------------+----------------------+-------------------+------------------+ | Environment | dpdk_meson_compile | dpdk_msvc_compile | dpdk_llvm_clang_compile | dpdk_mingw64_compile | dpdk_compile_spdk | dpdk_compile_ovs | +===============================+====================+===================+=========================+======================+===================+==================+ | Ubuntu 20.04 | PASS | SKIPPED | SKIPPED | SKIPPED | SKIPPED | SKIPPED | +-------------------------------+--------------------+-------------------+-------------------------+----------------------+-------------------+------------------+ | FreeBSD 14.2 | PASS | SKIPPED | SKIPPED | SKIPPED | SKIPPED | SKIPPED | +-------------------------------+--------------------+-------------------+-------------------------+----------------------+-------------------+------------------+ | CentOS Stream 9 | PEND | SKIPPED | SKIPPED | SKIPPED | PEND | SKIPPED | +-------------------------------+--------------------+-------------------+-------------------------+----------------------+-------------------+------------------+ | CentOS Stream 10 | PASS | SKIPPED | SKIPPED | SKIPPED | SKIPPED | SKIPPED | +-------------------------------+--------------------+-------------------+-------------------------+----------------------+-------------------+------------------+ | Debian GNU/Linux 12 | PASS | SKIPPED | SKIPPED | SKIPPED | WARN | SKIPPED | +-------------------------------+--------------------+-------------------+-------------------------+----------------------+-------------------+------------------+ | Fedora Linux 42 | PEND | SKIPPED | SKIPPED | SKIPPED | PEND | PEND | +-------------------------------+--------------------+-------------------+-------------------------+----------------------+-------------------+------------------+ | openSUSE Leap 15.6 | PEND | SKIPPED | SKIPPED | SKIPPED | SKIPPED | SKIPPED | +-------------------------------+--------------------+-------------------+-------------------------+----------------------+-------------------+------------------+ | Red Hat Enterprise Linux 8.10 | PEND | SKIPPED | SKIPPED | SKIPPED | SKIPPED | SKIPPED | +-------------------------------+--------------------+-------------------+-------------------------+----------------------+-------------------+------------------+ | Red Hat Enterprise Linux 9.5 | PEND | SKIPPED | SKIPPED | SKIPPED | SKIPPED | SKIPPED | +-------------------------------+--------------------+-------------------+-------------------------+----------------------+-------------------+------------------+ | Ubuntu 22.04 | PEND | SKIPPED | SKIPPED | SKIPPED | PEND | SKIPPED | +-------------------------------+--------------------+-------------------+-------------------------+----------------------+-------------------+------------------+ | Ubuntu 24.04 | PEND | SKIPPED | SKIPPED | SKIPPED | PEND | PEND | +-------------------------------+--------------------+-------------------+-------------------------+----------------------+-------------------+------------------+ | Alpine Linux 3.22.0 | PEND | SKIPPED | SKIPPED | SKIPPED | SKIPPED | SKIPPED | +-------------------------------+--------------------+-------------------+-------------------------+----------------------+-------------------+------------------+ | Windows Server 2022 | SKIPPED | PASS | PASS | PASS | SKIPPED | SKIPPED | +-------------------------------+--------------------+-------------------+-------------------------+----------------------+-------------------+------------------+ ==== 20 line log output for Debian GNU/Linux 12 (dpdk_compile_spdk): ==== --- Failed to get log output --- ==== End log output ==== Ubuntu 20.04 Kernel: 4.19 Compiler: gcc gcc (Ubuntu 9.4.0-1ubuntu1~20.04.2) 9.4.0 FreeBSD 14.2 Kernel: 14.2-RELEASE Compiler: clang 18.1.6 CentOS Stream 9 Kernel: 5.15 Compiler: gcc gcc (GCC) 11.5.0 20240719 (Red Hat 11.5.0-11) CentOS Stream 10 Kernel: 5.15 Compiler: gcc gcc (GCC) 14.2.1 20250110 (Red Hat 14.2.1-8) Debian GNU/Linux 12 Kernel: 5.15 Compiler: gcc gcc (Debian 12.2.0-14+deb12u1) 12.2.0 Fedora Linux 42 Kernel: 5.15 Compiler: clang gcc (GCC) 15.2.1 20250808 (Red Hat 15.2.1-1) openSUSE Leap 15.6 Kernel: 5.15 Compiler: gcc gcc (SUSE Linux) 7.5.0 Red Hat Enterprise Linux 8.10 Kernel: 5.15 Compiler: gcc gcc (GCC) 8.5.0 20210514 (Red Hat 8.5.0-22) Red Hat Enterprise Linux 9.5 Kernel: 5.15 Compiler: gcc gcc (GCC) 11.5.0 20240719 (Red Hat 11.5.0-2) Ubuntu 22.04 Kernel: 5.15 Compiler: gcc gcc (Ubuntu 11.4.0-1ubuntu1~22.04) 11.4.0 Ubuntu 24.04 Kernel: 5.15 Compiler: gcc gcc (Ubuntu 13.3.0-6ubuntu2~24.04) 13.3.0 Alpine Linux 3.22.0 Kernel: 5.15 Compiler: gcc gcc (Alpine 14.2.0) 14.2.0 Windows Server 2022 Kernel: 10.0.20348.2031 Compiler: clang 15.0.7, gcc 14.1.0 (MinGW), and MSVC VS 19.39.33521 To view detailed results, visit: https://lab.dpdk.org/results/dashboard/patchsets/34363/ UNH-IOL DPDK Community Lab To manage your email subscriptions, visit: https://lab.dpdk.org/results/dashboard/preferences/subscriptions/