From mboxrd@z Thu Jan 1 00:00:00 1970 Return-Path: Received: from mails.dpdk.org (mails.dpdk.org [217.70.189.124]) by inbox.dpdk.org (Postfix) with ESMTP id 90FF7489BD for ; Fri, 24 Oct 2025 05:46:31 +0200 (CEST) Received: from mails.dpdk.org (localhost [127.0.0.1]) by mails.dpdk.org (Postfix) with ESMTP id 8A5D840144; Fri, 24 Oct 2025 05:46:31 +0200 (CEST) Received: from mail-pf1-f227.google.com (mail-pf1-f227.google.com [209.85.210.227]) by mails.dpdk.org (Postfix) with ESMTP id 41E6C40144 for ; Fri, 24 Oct 2025 05:46:30 +0200 (CEST) Received: by mail-pf1-f227.google.com with SMTP id d2e1a72fcca58-7810289cd4bso1558163b3a.2 for ; Thu, 23 Oct 2025 20:46:30 -0700 (PDT) DKIM-Signature: v=1; a=rsa-sha256; c=relaxed/relaxed; d=iol.unh.edu; s=unh-iol; t=1761277589; x=1761882389; darn=dpdk.org; h=references:in-reply-to:cc:to:from:subject:message-id:date:from:to :cc:subject:date:message-id:reply-to; bh=WMVQPqnzTqbqJDlx/KYarHQwVhvncV/KSexI5WswN/M=; b=Ruue/OdnsxwEvXPo12unJt0qyGBUZiETaaqhbeZlRzgBWZGLbKW/+63LvjSTqJ8H3/ J/mP53eUDoPQgTIeVGvxvWHuBYUkuSVGfsBAzuQAAFEIEG+Eoldnt3j3NMF98MUtSaTH 1PVjB63J2dCopWhrQ1Pc+hW/2Sp+culHJaa30= X-Google-DKIM-Signature: v=1; a=rsa-sha256; c=relaxed/relaxed; d=1e100.net; s=20230601; t=1761277589; x=1761882389; h=references:in-reply-to:cc:to:from:subject:message-id:date :x-gm-message-state:from:to:cc:subject:date:message-id:reply-to; bh=WMVQPqnzTqbqJDlx/KYarHQwVhvncV/KSexI5WswN/M=; b=gI7HZWtvBlt0/9lFH+AwKYlPbJAmutoAaeNwfL8mfAV1SA4r0YT+oxycLntKv0Dylr Dh+lOMMPMiUwtGJ2pPMqby5ikjVIabytLqx/h6pEuauGDBbL52bp6kPSDpntUTgS3Z3/ +Uf63pyIkqTYgFksqYAqhoPT3nMn7/xQMh4uhf0Szn3S/0XrWb5Tkd0XD/Bud1V/5jYp QFCuZcVf2h6q3duRfHz180U38FB4k45jWBE40nyS1oHwJhvPB4vkBoIwYaeiqpjd/F9I demyN+jnBwXEHJ70u2ngnp/Qc4xJLKdXOSL/e2CX3MpFRbIQf8eLHNpxfOb6ChGLUcMp eauQ== X-Gm-Message-State: AOJu0YyYcZJd2aeYkBUmdf9zmtgXyn3SFx9uR1wAILjY3lxFrRAtKXpK y2nu67yIfwaWs36z0jBrZJaloXA5dxA0HMAip+TwAaHk1ogDMbZpvOnYGh4B4aFEBfAV6LfUiVz jdf5yuHDiSNhbDbSGMGKmPj3wXn9Ku0ecNjRExVv6QykiW5esiJ2LuBBaAMc/ X-Gm-Gg: ASbGncvJnxoKwVTPIX76LNhonsr/BCUCxNGDH+API/dcJLcgpiXarfKgrHRP0hy9aUr junOe8aDecMawPMmnXxCwttlbJ82qwSCx0Rg2j0jyFCHfCjqSJB19ySsmWZZp9oDX9u4t9brY3T k7Cnc3AI+TWpQPmmcQ2SXdX1IpQ1Vz2XOSZfiN+iQT4fILmK89IYVfgkLjgHskHszwiZtVvSeeZ dJYhZtm08ifvLuBSbKTSGHCQj/Nk474aMEkFk28ViWCRXuf9cYbOtXbkcKpLyP1jXlMs+4d/mYW eKKtm65IZ3k9wKSOOn8wzy8jjQ9Mtow22ktxHsuJWRWUYVPfax1pkicifd9IWT3iovyjngv5k+7 zqIN/Fxu9 X-Google-Smtp-Source: AGHT+IGVIJiC5OcVXmtAh0NhUGB9MepgcVs75AoTrsJ6tAtRxk3gaIlVuRxnLFr/uVW7DhgKvjsz4mohBO12 X-Received: by 2002:a05:6a00:ac2:b0:7a2:183a:924f with SMTP id d2e1a72fcca58-7a220d2720amr33068776b3a.31.1761277589400; Thu, 23 Oct 2025 20:46:29 -0700 (PDT) Received: from postal.iol.unh.edu (postal.iol.unh.edu. [2606:4100:3880:1234::84]) by smtp-relay.gmail.com with ESMTPS id d2e1a72fcca58-7a274a59959sm345644b3a.1.2025.10.23.20.46.29 (version=TLS1_2 cipher=ECDHE-ECDSA-AES128-GCM-SHA256 bits=128/128); Thu, 23 Oct 2025 20:46:29 -0700 (PDT) X-Relaying-Domain: iol.unh.edu Date: Thu, 23 Oct 2025 20:46:29 -0700 (PDT) Message-ID: <68faf695.050a0220.13a541.3547SMTPIN_ADDED_MISSING@mx.google.com> Received: from [172.21.0.2] (unknown [172.18.0.240]) by postal.iol.unh.edu (Postfix) with ESMTP id A69666051830; Thu, 23 Oct 2025 23:46:28 -0400 (EDT) Subject: |WARNING| pw158038-158056 [PATCH] [v3,19/19] drivers: fix Klocwork i From: dpdklab@iol.unh.edu To: Test Report Cc: dpdk-test-reports@iol.unh.edu In-Reply-To: <20251023172728.770661-19-ndabilpuram@marvell.com> References: <20251023172728.770661-19-ndabilpuram@marvell.com> Content-Type: text/plain X-BeenThere: test-report@dpdk.org X-Mailman-Version: 2.1.29 Precedence: list List-Id: automatic DPDK test reports List-Unsubscribe: , List-Archive: List-Post: List-Help: List-Subscribe: , Errors-To: test-report-bounces@dpdk.org Test-Label: iol-compile-amd64-testing Test-Status: WARNING http://dpdk.org/patch/158056 _Testing issues_ Submitter: Nithin Dabilpuram Date: Thursday, October 23 2025 17:27:27 DPDK git baseline: Repo:dpdk-next-net-mrvl Branch: master CommitID:2863cbd9ee6dabee2b183382d298f4054ba3e8a2 158038-158056 --> testing issues Upstream job id: Generic-DPDK-Compile-Meson#437212 Test environment and result as below: +-------------------------------+--------------------+-------------------------+-------------------+----------------------+-------------------+------------------+ | Environment | dpdk_meson_compile | dpdk_llvm_clang_compile | dpdk_msvc_compile | dpdk_mingw64_compile | dpdk_compile_spdk | dpdk_compile_ovs | +===============================+====================+=========================+===================+======================+===================+==================+ | Ubuntu 20.04 | PEND | SKIPPED | SKIPPED | SKIPPED | SKIPPED | SKIPPED | +-------------------------------+--------------------+-------------------------+-------------------+----------------------+-------------------+------------------+ | FreeBSD 14.2 | PASS | SKIPPED | SKIPPED | SKIPPED | SKIPPED | SKIPPED | +-------------------------------+--------------------+-------------------------+-------------------+----------------------+-------------------+------------------+ | CentOS Stream 9 | PASS | SKIPPED | SKIPPED | SKIPPED | WARN | SKIPPED | +-------------------------------+--------------------+-------------------------+-------------------+----------------------+-------------------+------------------+ | CentOS Stream 10 | PASS | SKIPPED | SKIPPED | SKIPPED | SKIPPED | SKIPPED | +-------------------------------+--------------------+-------------------------+-------------------+----------------------+-------------------+------------------+ | Debian GNU/Linux 12 | PASS | SKIPPED | SKIPPED | SKIPPED | PEND | SKIPPED | +-------------------------------+--------------------+-------------------------+-------------------+----------------------+-------------------+------------------+ | Fedora Linux 42 | PEND | SKIPPED | SKIPPED | SKIPPED | PEND | PEND | +-------------------------------+--------------------+-------------------------+-------------------+----------------------+-------------------+------------------+ | openSUSE Leap 15.6 | PEND | SKIPPED | SKIPPED | SKIPPED | SKIPPED | SKIPPED | +-------------------------------+--------------------+-------------------------+-------------------+----------------------+-------------------+------------------+ | Red Hat Enterprise Linux 8.10 | PEND | SKIPPED | SKIPPED | SKIPPED | SKIPPED | SKIPPED | +-------------------------------+--------------------+-------------------------+-------------------+----------------------+-------------------+------------------+ | Red Hat Enterprise Linux 9.5 | PEND | SKIPPED | SKIPPED | SKIPPED | SKIPPED | SKIPPED | +-------------------------------+--------------------+-------------------------+-------------------+----------------------+-------------------+------------------+ | Ubuntu 22.04 | PEND | SKIPPED | SKIPPED | SKIPPED | PEND | SKIPPED | +-------------------------------+--------------------+-------------------------+-------------------+----------------------+-------------------+------------------+ | Windows Server 2022 | SKIPPED | PASS | PASS | PASS | SKIPPED | SKIPPED | +-------------------------------+--------------------+-------------------------+-------------------+----------------------+-------------------+------------------+ ==== 20 line log output for CentOS Stream 9 (dpdk_compile_spdk): ==== --- Failed to get log output --- ==== End log output ==== Ubuntu 20.04 Kernel: 4.19 Compiler: gcc gcc (Ubuntu 9.4.0-1ubuntu1~20.04.2) 9.4.0 FreeBSD 14.2 Kernel: 14.2-RELEASE Compiler: clang 18.1.6 CentOS Stream 9 Kernel: 5.15 Compiler: gcc gcc (GCC) 11.5.0 20240719 (Red Hat 11.5.0-11) CentOS Stream 10 Kernel: 5.15 Compiler: gcc gcc (GCC) 14.2.1 20250110 (Red Hat 14.2.1-8) Debian GNU/Linux 12 Kernel: 5.15 Compiler: gcc gcc (Debian 12.2.0-14+deb12u1) 12.2.0 Fedora Linux 42 Kernel: 5.15 Compiler: clang gcc (GCC) 15.2.1 20250808 (Red Hat 15.2.1-1) openSUSE Leap 15.6 Kernel: 5.15 Compiler: gcc gcc (SUSE Linux) 7.5.0 Red Hat Enterprise Linux 8.10 Kernel: 5.15 Compiler: gcc gcc (GCC) 8.5.0 20210514 (Red Hat 8.5.0-22) Red Hat Enterprise Linux 9.5 Kernel: 5.15 Compiler: gcc gcc (GCC) 11.5.0 20240719 (Red Hat 11.5.0-2) Ubuntu 22.04 Kernel: 5.15 Compiler: gcc gcc (Ubuntu 11.4.0-1ubuntu1~22.04) 11.4.0 Windows Server 2022 Kernel: 10.0.20348.2031 Compiler: clang 15.0.7, gcc 14.1.0 (MinGW), and MSVC VS 19.39.33521 To view detailed results, visit: https://lab.dpdk.org/results/dashboard/patchsets/34364/ UNH-IOL DPDK Community Lab To manage your email subscriptions, visit: https://lab.dpdk.org/results/dashboard/preferences/subscriptions/