From mboxrd@z Thu Jan 1 00:00:00 1970 Return-Path: Received: from mails.dpdk.org (mails.dpdk.org [217.70.189.124]) by inbox.dpdk.org (Postfix) with ESMTP id 71BEE489BE for ; Fri, 24 Oct 2025 06:34:23 +0200 (CEST) Received: from mails.dpdk.org (localhost [127.0.0.1]) by mails.dpdk.org (Postfix) with ESMTP id 4E5A440144; Fri, 24 Oct 2025 06:34:23 +0200 (CEST) Received: from mail-yw1-f226.google.com (mail-yw1-f226.google.com [209.85.128.226]) by mails.dpdk.org (Postfix) with ESMTP id E879B40144 for ; Fri, 24 Oct 2025 06:34:21 +0200 (CEST) Received: by mail-yw1-f226.google.com with SMTP id 00721157ae682-784966ad073so20455857b3.1 for ; Thu, 23 Oct 2025 21:34:21 -0700 (PDT) DKIM-Signature: v=1; a=rsa-sha256; c=relaxed/relaxed; d=iol.unh.edu; s=unh-iol; t=1761280461; x=1761885261; darn=dpdk.org; h=references:in-reply-to:cc:to:from:subject:message-id:date:from:to :cc:subject:date:message-id:reply-to; bh=jx52DFi1blIpR7RSDaf9K+A1m2B+hL/hQkT0TIlcjSc=; b=Pzk06TXiDiB2tvZQfqq2XmoFFfa9/p8LX7beKcvclXCxJVjYNkVAGTsXdhbiE5FD8N nCvFmcVOHWrWkSe9AqiEEzRKObcEg8ByPUSb0fzhtkOrYpXAhGABsLUAh2VIt5G0sVH+ 3hK8vs1hELBGdvxluWWrPeN71KjDAt64mG1ks= X-Google-DKIM-Signature: v=1; a=rsa-sha256; c=relaxed/relaxed; d=1e100.net; s=20230601; t=1761280461; x=1761885261; h=references:in-reply-to:cc:to:from:subject:message-id:date :x-gm-message-state:from:to:cc:subject:date:message-id:reply-to; bh=jx52DFi1blIpR7RSDaf9K+A1m2B+hL/hQkT0TIlcjSc=; b=lWUN9N72dIbBKTsXATMBltwDw0cAV7mRXu0JYha4BnfdKF1Ky6JZCm8BS+OJSPhhar lrLGPn0/klh9cSZfspeHounSo6aiuAcyPBfsUA9+CRNK0FINdZqovtB/6OcmaPT5nBqt ROALzEFKjAB06oZO0QIm+77sl3qvWgjGDgZJvA9N9HtZ02yfu7PNWVahSEu5PKyod7Co g1XLSG19Y9txENdTGMYMbfMe1bq7KWAoUcKD9eY17YyXeUMa7NcUj76Z4MtA6Q5iul6x 21o634YEVFy6Z0azVkwoEm6mMcGGIUA42fGemJrijBRWTcfGZD5ejXVLkjXtgDy/I7dl frng== X-Gm-Message-State: AOJu0YzdsUFg1RQk3aIvusIwZJxXBEuL57H1z5fauEOW92VYYtRczeJF 5P3DbPgTiCPNrGaLHcY3hghdUrgPvH0dtJa0TZMlOJJSLlLbOkryhBe+pFdwMHwh5RB3i+igHBI fUnadKZx+XPGkcTngCTQ9JMs04NmTogHa9An8VFGbeGVN X-Gm-Gg: ASbGncs9p9uVnFUXxmfATLrA4TGmaNvPDNKF3nKsmWthpvAIv+bY3K7FmOuXgYeQ59/ HEBNr3kDYWNPayMO/3E+KQpL7xWyI40w1EBOwqEmTzcJaVSQ/IrSkpfeZsThQH7dWjtlvo//Uiz sHtnwR2CDvQyiyB5BBe2DRbpUSbnhFtzuO4wx+kIBzTju/xtTGHZqGsBaz1i6Mx06oYFF8be5ix 9fMIZspcPrGwHM71leIm4CofQmRrHvmGK8p3D1ym6kWmrv84wORiK1bqLr8V7dGH0hKoX7BcI63 xnPYllld5SOT5qhJhMVfQ4giO4x07Jgsgk5+cV/Bl1JWQrT6msaehrpuoLEyQKd4sCKdJDVLoA2 E+YRd9nfS+dNVC/gmrFXLNtTvQdxHW/0= X-Google-Smtp-Source: AGHT+IGVJya8qv4CqCoaB5HDM2lD5WfdCe1OoX3vI6Jzg5jmTlh7jJjmISesQI+KUMWrYQBrFnPSxcRmdnK3 X-Received: by 2002:a05:690c:600f:b0:76f:8f07:4908 with SMTP id 00721157ae682-7836d208917mr216148057b3.27.1761280461094; Thu, 23 Oct 2025 21:34:21 -0700 (PDT) Received: from postal.iol.unh.edu (postal.iol.unh.edu. [132.177.123.84]) by smtp-relay.gmail.com with ESMTPS id 00721157ae682-785cd6fc1fesm2273217b3.31.2025.10.23.21.34.21 (version=TLS1_2 cipher=ECDHE-ECDSA-AES128-GCM-SHA256 bits=128/128); Thu, 23 Oct 2025 21:34:21 -0700 (PDT) X-Relaying-Domain: iol.unh.edu Date: Thu, 23 Oct 2025 21:34:21 -0700 (PDT) Message-ID: <68fb01cd.050a0220.39a504.b625SMTPIN_ADDED_MISSING@mx.google.com> Received: from [172.21.0.2] (unknown [172.18.0.240]) by postal.iol.unh.edu (Postfix) with ESMTP id BE41B6051830; Fri, 24 Oct 2025 00:34:20 -0400 (EDT) Subject: |WARNING| pw158038-158056 [PATCH] [v3,19/19] drivers: fix Klocwork i From: dpdklab@iol.unh.edu To: Test Report Cc: dpdk-test-reports@iol.unh.edu In-Reply-To: <20251023172728.770661-19-ndabilpuram@marvell.com> References: <20251023172728.770661-19-ndabilpuram@marvell.com> Content-Type: text/plain X-BeenThere: test-report@dpdk.org X-Mailman-Version: 2.1.29 Precedence: list List-Id: automatic DPDK test reports List-Unsubscribe: , List-Archive: List-Post: List-Help: List-Subscribe: , Errors-To: test-report-bounces@dpdk.org Test-Label: iol-compile-amd64-testing Test-Status: WARNING http://dpdk.org/patch/158056 _Testing issues_ Submitter: Nithin Dabilpuram Date: Thursday, October 23 2025 17:27:27 DPDK git baseline: Repo:dpdk-next-net-mrvl Branch: master CommitID:2863cbd9ee6dabee2b183382d298f4054ba3e8a2 158038-158056 --> testing issues Upstream job id: Generic-DPDK-Compile-Meson#437214 Test environment and result as below: +-------------------------------+--------------------+-------------------------+-------------------+----------------------+-------------------+------------------+ | Environment | dpdk_meson_compile | dpdk_llvm_clang_compile | dpdk_msvc_compile | dpdk_mingw64_compile | dpdk_compile_spdk | dpdk_compile_ovs | +===============================+====================+=========================+===================+======================+===================+==================+ | Ubuntu 20.04 | PASS | SKIPPED | SKIPPED | SKIPPED | SKIPPED | SKIPPED | +-------------------------------+--------------------+-------------------------+-------------------+----------------------+-------------------+------------------+ | FreeBSD 14.2 | PASS | SKIPPED | SKIPPED | SKIPPED | SKIPPED | SKIPPED | +-------------------------------+--------------------+-------------------------+-------------------+----------------------+-------------------+------------------+ | CentOS Stream 9 | PASS | SKIPPED | SKIPPED | SKIPPED | WARN | SKIPPED | +-------------------------------+--------------------+-------------------------+-------------------+----------------------+-------------------+------------------+ | CentOS Stream 10 | PASS | SKIPPED | SKIPPED | SKIPPED | SKIPPED | SKIPPED | +-------------------------------+--------------------+-------------------------+-------------------+----------------------+-------------------+------------------+ | Debian GNU/Linux 12 | PASS | SKIPPED | SKIPPED | SKIPPED | WARN | SKIPPED | +-------------------------------+--------------------+-------------------------+-------------------+----------------------+-------------------+------------------+ | Fedora Linux 42 | PASS | SKIPPED | SKIPPED | SKIPPED | WARN | PASS | +-------------------------------+--------------------+-------------------------+-------------------+----------------------+-------------------+------------------+ | openSUSE Leap 15.6 | PASS | SKIPPED | SKIPPED | SKIPPED | SKIPPED | SKIPPED | +-------------------------------+--------------------+-------------------------+-------------------+----------------------+-------------------+------------------+ | Red Hat Enterprise Linux 8.10 | PASS | SKIPPED | SKIPPED | SKIPPED | SKIPPED | SKIPPED | +-------------------------------+--------------------+-------------------------+-------------------+----------------------+-------------------+------------------+ | Red Hat Enterprise Linux 9.5 | PASS | SKIPPED | SKIPPED | SKIPPED | SKIPPED | SKIPPED | +-------------------------------+--------------------+-------------------------+-------------------+----------------------+-------------------+------------------+ | Ubuntu 22.04 | PASS | SKIPPED | SKIPPED | SKIPPED | WARN | SKIPPED | +-------------------------------+--------------------+-------------------------+-------------------+----------------------+-------------------+------------------+ | Ubuntu 24.04 | PASS | SKIPPED | SKIPPED | SKIPPED | WARN | PASS | +-------------------------------+--------------------+-------------------------+-------------------+----------------------+-------------------+------------------+ | Alpine Linux 3.22.0 | PASS | SKIPPED | SKIPPED | SKIPPED | SKIPPED | SKIPPED | +-------------------------------+--------------------+-------------------------+-------------------+----------------------+-------------------+------------------+ | Windows Server 2022 | SKIPPED | PASS | PASS | PASS | SKIPPED | SKIPPED | +-------------------------------+--------------------+-------------------------+-------------------+----------------------+-------------------+------------------+ ==== 20 line log output for Ubuntu 24.04 (dpdk_compile_spdk): ==== --- Failed to get log output --- ==== End log output ==== Ubuntu 20.04 Kernel: 4.19 Compiler: gcc gcc (Ubuntu 9.4.0-1ubuntu1~20.04.2) 9.4.0 FreeBSD 14.2 Kernel: 14.2-RELEASE Compiler: clang 18.1.6 CentOS Stream 9 Kernel: 5.15 Compiler: gcc gcc (GCC) 11.5.0 20240719 (Red Hat 11.5.0-11) CentOS Stream 10 Kernel: 5.15 Compiler: gcc gcc (GCC) 14.2.1 20250110 (Red Hat 14.2.1-8) Debian GNU/Linux 12 Kernel: 5.15 Compiler: gcc gcc (Debian 12.2.0-14+deb12u1) 12.2.0 Fedora Linux 42 Kernel: 5.15 Compiler: clang gcc (GCC) 15.2.1 20250808 (Red Hat 15.2.1-1) openSUSE Leap 15.6 Kernel: 5.15 Compiler: gcc gcc (SUSE Linux) 7.5.0 Red Hat Enterprise Linux 8.10 Kernel: 5.15 Compiler: gcc gcc (GCC) 8.5.0 20210514 (Red Hat 8.5.0-22) Red Hat Enterprise Linux 9.5 Kernel: 5.15 Compiler: gcc gcc (GCC) 11.5.0 20240719 (Red Hat 11.5.0-2) Ubuntu 22.04 Kernel: 5.15 Compiler: gcc gcc (Ubuntu 11.4.0-1ubuntu1~22.04) 11.4.0 Ubuntu 24.04 Kernel: 5.15 Compiler: gcc gcc (Ubuntu 13.3.0-6ubuntu2~24.04) 13.3.0 Alpine Linux 3.22.0 Kernel: 5.15 Compiler: gcc gcc (Alpine 14.2.0) 14.2.0 Windows Server 2022 Kernel: 10.0.20348.2031 Compiler: clang 15.0.7, gcc 14.1.0 (MinGW), and MSVC VS 19.39.33521 To view detailed results, visit: https://lab.dpdk.org/results/dashboard/patchsets/34364/ UNH-IOL DPDK Community Lab To manage your email subscriptions, visit: https://lab.dpdk.org/results/dashboard/preferences/subscriptions/