From mboxrd@z Thu Jan 1 00:00:00 1970 Return-Path: Received: from mails.dpdk.org (mails.dpdk.org [217.70.189.124]) by inbox.dpdk.org (Postfix) with ESMTP id 7B038489BE for ; Fri, 24 Oct 2025 06:35:05 +0200 (CEST) Received: from mails.dpdk.org (localhost [127.0.0.1]) by mails.dpdk.org (Postfix) with ESMTP id 75FB740144; Fri, 24 Oct 2025 06:35:05 +0200 (CEST) Received: from mail-pg1-f227.google.com (mail-pg1-f227.google.com [209.85.215.227]) by mails.dpdk.org (Postfix) with ESMTP id E5DD540144 for ; Fri, 24 Oct 2025 06:34:51 +0200 (CEST) Received: by mail-pg1-f227.google.com with SMTP id 41be03b00d2f7-b553412a19bso1038631a12.1 for ; Thu, 23 Oct 2025 21:34:51 -0700 (PDT) DKIM-Signature: v=1; a=rsa-sha256; c=relaxed/relaxed; d=iol.unh.edu; s=unh-iol; t=1761280491; x=1761885291; darn=dpdk.org; h=cc:to:from:subject:message-id:date:from:to:cc:subject:date :message-id:reply-to; bh=C8LPf3roeLqC07wtPhc36LX/k6aAapOL+1VaeQpvtzo=; b=esrzT/RI3xywSGSjvK395qo4dJNXTGHUrvN7LfxgxEQND+lalPTw4ook9kzmg90i+s Szko2dR/Shux/D3/YOko+kTgl2SrN5lwGhlOQbOQWZS8V8kLjpeWwUpvcUHvKerdXWWs 5vpflXm2GA6hrvARGVQXVx4rwlC0VZTy6sqsk= X-Google-DKIM-Signature: v=1; a=rsa-sha256; c=relaxed/relaxed; d=1e100.net; s=20230601; t=1761280491; x=1761885291; h=cc:to:from:subject:message-id:date:x-gm-message-state:from:to:cc :subject:date:message-id:reply-to; bh=C8LPf3roeLqC07wtPhc36LX/k6aAapOL+1VaeQpvtzo=; b=uSDsIzCrdEh7edDis1/ydIP2sw9od9cfz1ZA3QDJKfp3OUzh28MReQbhlO0OEY/8bC LMc8BuUlvXYluTLY+p1tP4wJUZN3xey9+mvRwKFUjPIetAEgO1y6TpTcOSydTfb3SbjD 0PlZsQznu3svpv3/97ayLebNmqHSDkfhPIHujQrq/ckAg0QHnLaIqukShY8/YSZWfRMJ S9qY4isNN6GpmIcPjVO7gxpQPbsenPoCk69z7tEqrukW+HKNrPNHu19T3qmlBHm0Umgh SXjBTzqgzjNY36wwUOOPhnmcZqwIaEuYRPmHiXv74JcmsGMUXbV//krIsJY9qLr21ynV OUtQ== X-Gm-Message-State: AOJu0YzxSjly3zqLKb3Jy65IvlJusU56D2d7frr+uJeXUMJ5WwXYTkqD 23jUlUKzoFvKInZTdtYBMzAgXMM0fErGkFoxoZA/SKLdwNPtbWf2rdK1JjkwRFouVK7PWxMCcT0 zzbI1HUHn7azRHxQOWkcw+LDBSI2YJhg1RoU9 X-Gm-Gg: ASbGncsJXZxsiQL0MuEb/TLUOiaRwLP5X1VvE7rad+MnfOA0O6Nc68SxvpOraToRX3V bkhJ4ImY1P5/uhuM0DeaGBcEXV7FKNHP2oC7Io49/qhMCKgS3yMQsnRYUsWxt6pCx7zsc/mu4+o HoN3XkJpZDez9tKKb83/oGZtWikwAjtE1pjGDeKvRbTm/dEQhIAafq9pq8oKq230hqpS3/N+YPY C/9M48BgjhZLFYumvw4Abk5oaJFzChB5siHViiOC1ZJwwl/a+tNUeXTaxXKXsK40mk48EQIhEZW UxfyKqLsq0/wsYhwXQt8xr4py63iItIyTVjd727fF7p/8RiMtwXn6JNIQE9DG8rNd1099x+GnSb 2roVkuAZO9TQEsKeB0SZT35WeKXngUJA= X-Google-Smtp-Source: AGHT+IEcHu1BsO8tkMbhp4nWWlk00LhIlVfQdOW4CVRb0E4nPTRbMryd9qemG9Q6df/nOZijoVvwK3c3Oxbt X-Received: by 2002:a17:903:1c9:b0:250:643e:c947 with SMTP id d9443c01a7336-2948ba0d434mr12416145ad.28.1761280491022; Thu, 23 Oct 2025 21:34:51 -0700 (PDT) Received: from postal.iol.unh.edu (postal.iol.unh.edu. [132.177.123.84]) by smtp-relay.gmail.com with ESMTPS id 98e67ed59e1d1-33e248a8df1sm82864a91.0.2025.10.23.21.34.50 (version=TLS1_2 cipher=ECDHE-ECDSA-AES128-GCM-SHA256 bits=128/128); Thu, 23 Oct 2025 21:34:51 -0700 (PDT) X-Relaying-Domain: iol.unh.edu Date: Thu, 23 Oct 2025 21:34:51 -0700 (PDT) Message-ID: <68fb01eb.170a0220.10f99.45cdSMTPIN_ADDED_MISSING@mx.google.com> Received: from [172.21.0.2] (unknown [172.18.0.240]) by postal.iol.unh.edu (Postfix) with ESMTP id 21D8B6051830; Fri, 24 Oct 2025 00:34:50 -0400 (EDT) Subject: |SUCCESS| [GIT MASTER] 3b43ce3f4a54468e7ef65760c2fd7b4d6ee6d9fc From: dpdklab@iol.unh.edu To: Test Report Cc: dpdk-test-reports@iol.unh.edu, Xueming Li , Christian Ehrhardt , Kevin Traynor , Luca Boccassi Content-Type: text/plain X-BeenThere: test-report@dpdk.org X-Mailman-Version: 2.1.29 Precedence: list List-Id: automatic DPDK test reports List-Unsubscribe: , List-Archive: List-Post: List-Help: List-Subscribe: , Errors-To: test-report-bounces@dpdk.org _Testing PASS_ Branch: tags/v22.11 3b43ce3f4a54468e7ef65760c2fd7b4d6ee6d9fc --> testing pass Upstream job id: Generic-VM-DPDK-Compile-Meson#39221 Test environment and result as below: +---------------------+-------------------------+--------------------+----------------------+ | Environment | dpdk_llvm_clang_compile | dpdk_meson_compile | dpdk_mingw64_compile | +=====================+=========================+====================+======================+ | Windows Server 2022 | PASS | SKIPPED | PASS | +---------------------+-------------------------+--------------------+----------------------+ | Ubuntu 20.04 | SKIPPED | PASS | SKIPPED | +---------------------+-------------------------+--------------------+----------------------+ | FreeBSD 14.2 | SKIPPED | PASS | SKIPPED | +---------------------+-------------------------+--------------------+----------------------+ Windows Server 2022 Kernel: 10.0.20348.2031 Compiler: clang 15.0.7, gcc 14.1.0 (MinGW), and MSVC VS 19.39.33521 Ubuntu 20.04 Kernel: 4.19 Compiler: gcc gcc (Ubuntu 9.4.0-1ubuntu1~20.04.2) 9.4.0 FreeBSD 14.2 Kernel: 14.2-RELEASE Compiler: clang 18.1.6 To view detailed results, visit: https://lab.dpdk.org/results/dashboard/tarballs/35324/ UNH-IOL DPDK Community Lab To manage your email subscriptions, visit: https://lab.dpdk.org/results/dashboard/preferences/subscriptions/