From mboxrd@z Thu Jan 1 00:00:00 1970 Return-Path: Received: from mails.dpdk.org (mails.dpdk.org [217.70.189.124]) by inbox.dpdk.org (Postfix) with ESMTP id 88BD3489BE for ; Fri, 24 Oct 2025 06:35:05 +0200 (CEST) Received: from mails.dpdk.org (localhost [127.0.0.1]) by mails.dpdk.org (Postfix) with ESMTP id 7D12940268; Fri, 24 Oct 2025 06:35:05 +0200 (CEST) Received: from mail-io1-f99.google.com (mail-io1-f99.google.com [209.85.166.99]) by mails.dpdk.org (Postfix) with ESMTP id 2369740144 for ; Fri, 24 Oct 2025 06:34:57 +0200 (CEST) Received: by mail-io1-f99.google.com with SMTP id ca18e2360f4ac-93e7ece3025so65239039f.1 for ; Thu, 23 Oct 2025 21:34:57 -0700 (PDT) DKIM-Signature: v=1; a=rsa-sha256; c=relaxed/relaxed; d=iol.unh.edu; s=unh-iol; t=1761280496; x=1761885296; darn=dpdk.org; h=cc:to:from:subject:message-id:date:from:to:cc:subject:date :message-id:reply-to; bh=a40mjZHVHrI7piBwSedq5n5dLJrI3Zq1I63Fz/oYACo=; b=AWeTtREWTp9vGDwOrvZEQm+n027XyX691GXPUEfa1+cjqcuq99e76aNgTvMRKaH6m7 /8WZyEaDPcN8H9tHCrVjkEjZ0cqQdih0rgjdvH9a2nlIEDzjS0Wb1muavPXmrT2p/6Ti kS/JmgIZUkRjDSDH9mT0tUvR0BHwoPNLnOsUs= X-Google-DKIM-Signature: v=1; a=rsa-sha256; c=relaxed/relaxed; d=1e100.net; s=20230601; t=1761280496; x=1761885296; h=cc:to:from:subject:message-id:date:x-gm-message-state:from:to:cc :subject:date:message-id:reply-to; bh=a40mjZHVHrI7piBwSedq5n5dLJrI3Zq1I63Fz/oYACo=; b=vBT0ihqvAMaja7T2l/dJOkOSereqMiLNkX5NZpF5nff8UOx7fj0dASyGQ41tk4pL4r PeaecHTbOHc6ig6FmM9xiniuqr+FNQ4ncM6ZTL/fkkuyTkCedbX2KQu//RgX+mhXbM1k RsEd+XeiEIdKOMWYezDVW0yP7+kTnqCIXnUMqcjZvrQkdfwulN94RhjY+Vf/TXkOPazF sU5UQG0gmiOjG/o9aYvL9D53ElgkMcS+/01L3TGeQk9/0lC+Czr5DKhF40Wkc68K18Dv HY0hj2Cetm+iTjLDAFOFQ6dJRUkN7EmlMiCJWMsxC2FQcaXT9wFEzqO7EpoSJjBPx2UE ZxqA== X-Gm-Message-State: AOJu0YxihCJsxzEGlhKUCpIMq2zGX2VJMVNSbEYf0Qm/+DFTWKVjY7s5 wPitn3V+EIL5wvJpWYCwPIFdBUXCFMyvmPiGk5SMQql5/bCJNYO3S/NTxpQgrFAt7P6A+rE1GOv YmTsrKNJjqVBiINfoal0PuzyxqgbZhip3dnRZ X-Gm-Gg: ASbGncsFHHLbueGwTKh4P6Gw7UdT3E1Qhhnk+weTlBS1TJG1+lHRj3JCkZI6HFQIbWT 216rTbBbhI1xOouHRu/XfFPZouO99lVwAzvntClFT8YSIEE9MYGEyptHOQqKwLGrANSoC9f4jbZ L6BnZvwlQShZ45FF093QjfthTWyqvDpF9H6+0t/D97V/dq8g91FcAeQPbmuax9Yt0VxQIEKgtho 8ipz+hXDMw+lNbOElNJCZOpQaCl91vndNr5ACFUjDGZkulenUOO9uKKdE60MObbJUJCD3wQzeob z6pqYJ2GCBIpcBynF9VhOKZuUV1ObqM9OxQql923yq0X6hznIO/TxVFORwmOgPgAo2xzmWsX+Ir 4Ycv0frESRqUGW/N1bBYusQsxRIipuWo= X-Google-Smtp-Source: AGHT+IEHkrkXt11mvnYFX8Q5mV+pxGBnbtYEdrB2tOsZd2T4WtBIsDJtUOPuIseYeYnyrAfCZhBN41uRpH8C X-Received: by 2002:a05:6602:1684:b0:93e:8d3c:7ce1 with SMTP id ca18e2360f4ac-941da9351admr227494039f.0.1761280496477; Thu, 23 Oct 2025 21:34:56 -0700 (PDT) Received: from postal.iol.unh.edu (postal.iol.unh.edu. [132.177.123.84]) by smtp-relay.gmail.com with ESMTPS id 8926c6da1cb9f-5abb1aed9ebsm314274173.0.2025.10.23.21.34.56 (version=TLS1_2 cipher=ECDHE-ECDSA-AES128-GCM-SHA256 bits=128/128); Thu, 23 Oct 2025 21:34:56 -0700 (PDT) X-Relaying-Domain: iol.unh.edu Date: Thu, 23 Oct 2025 21:34:56 -0700 (PDT) Message-ID: <68fb01f0.050a0220.e59f9.06c1SMTPIN_ADDED_MISSING@mx.google.com> Received: from [172.21.0.2] (unknown [172.18.0.240]) by postal.iol.unh.edu (Postfix) with ESMTP id 2040F6051830; Fri, 24 Oct 2025 00:34:56 -0400 (EDT) Subject: |SUCCESS| [GIT MASTER] b287e404643aeab5bb5db084c142789df187844e From: dpdklab@iol.unh.edu To: Test Report Cc: dpdk-test-reports@iol.unh.edu, Xueming Li , Christian Ehrhardt , Kevin Traynor , Luca Boccassi Content-Type: text/plain X-BeenThere: test-report@dpdk.org X-Mailman-Version: 2.1.29 Precedence: list List-Id: automatic DPDK test reports List-Unsubscribe: , List-Archive: List-Post: List-Help: List-Subscribe: , Errors-To: test-report-bounces@dpdk.org _Testing PASS_ Branch: tags/v24.11 b287e404643aeab5bb5db084c142789df187844e --> testing pass Upstream job id: Generic-VM-DPDK-Compile-Meson#39225 Test environment and result as below: +---------------------+--------------------+-------------------+-------------------------+----------------------+ | Environment | dpdk_meson_compile | dpdk_msvc_compile | dpdk_llvm_clang_compile | dpdk_mingw64_compile | +=====================+====================+===================+=========================+======================+ | FreeBSD 14.2 | PASS | SKIPPED | SKIPPED | SKIPPED | +---------------------+--------------------+-------------------+-------------------------+----------------------+ | Ubuntu 20.04 | PASS | SKIPPED | SKIPPED | SKIPPED | +---------------------+--------------------+-------------------+-------------------------+----------------------+ | Windows Server 2022 | SKIPPED | PASS | PASS | PASS | +---------------------+--------------------+-------------------+-------------------------+----------------------+ FreeBSD 14.2 Kernel: 14.2-RELEASE Compiler: clang 18.1.6 Ubuntu 20.04 Kernel: 4.19 Compiler: gcc gcc (Ubuntu 9.4.0-1ubuntu1~20.04.2) 9.4.0 Windows Server 2022 Kernel: 10.0.20348.2031 Compiler: clang 15.0.7, gcc 14.1.0 (MinGW), and MSVC VS 19.39.33521 To view detailed results, visit: https://lab.dpdk.org/results/dashboard/tarballs/35326/ UNH-IOL DPDK Community Lab To manage your email subscriptions, visit: https://lab.dpdk.org/results/dashboard/preferences/subscriptions/