* |WARNING| [GIT MASTER] b287e404643aeab5bb5db084c142789df187844e
@ 2025-10-24 6:11 dpdklab
0 siblings, 0 replies; 4+ messages in thread
From: dpdklab @ 2025-10-24 6:11 UTC (permalink / raw)
To: Test Report
Cc: dpdk-test-reports, Xueming Li, Christian Ehrhardt, Kevin Traynor,
Luca Boccassi
_Testing issues_
Branch: tags/v24.11
b287e404643aeab5bb5db084c142789df187844e --> testing issues
Upstream job id: Template-DTS-Pipeline#251072
Test environment and result as below:
+--------------+----------------------+----------------------+
| Environment | dpdk_fips_validation | compressdev_zlib_pmd |
+==============+======================+======================+
| Ubuntu 20.04 | WARN | SKIPPED |
+--------------+----------------------+----------------------+
| Ubuntu 22.04 | SKIPPED | PASS |
+--------------+----------------------+----------------------+
==== 20 line log output for Ubuntu 20.04 (dpdk_fips_validation): ====
Traceback (most recent call last):
File "/dpdk-ci/tools/acvp/acvp_tool.py", line 368, in <module>
main(
File "/dpdk-ci/tools/acvp/acvp_tool.py", line 314, in main
with open(response_path, 'r') as upload_file:
FileNotFoundError: [Errno 2] No such file or directory: '/root/workspace/ACVP-FIPS-testing/out/hmac-sha-1-answers.rsp'
INFO:root:Using response file...
Traceback (most recent call last):
File "/dpdk-ci/tools/acvp/acvp_tool.py", line 368, in <module>
main(
File "/dpdk-ci/tools/acvp/acvp_tool.py", line 314, in main
with open(response_path, 'r') as upload_file:
FileNotFoundError: [Errno 2] No such file or directory: '/root/workspace/ACVP-FIPS-testing/out/acvp-tdes-cbc-answers.rsp'
INFO:root:Using response file...
Traceback (most recent call last):
File "/dpdk-ci/tools/acvp/acvp_tool.py", line 368, in <module>
main(
File "/dpdk-ci/tools/acvp/acvp_tool.py", line 314, in main
with open(response_path, 'r') as upload_file:
FileNotFoundError: [Errno 2] No such file or directory: '/root/workspace/ACVP-FIPS-testing/out/acvp-aes-ctr-answers.rsp'
==== End log output ====
Ubuntu 20.04
Kernel: 5.15
Compiler: gcc gcc (Ubuntu 9.4.0-1ubuntu1~20.04.2) 9.4.0
Ubuntu 22.04
Kernel: 5.15
Compiler: gcc gcc (Ubuntu 11.4.0-1ubuntu1~22.04.2) 11.4.0
To view detailed results, visit:
https://lab.dpdk.org/results/dashboard/tarballs/35326/
UNH-IOL DPDK Community Lab
To manage your email subscriptions, visit:
https://lab.dpdk.org/results/dashboard/preferences/subscriptions/
^ permalink raw reply [flat|nested] 4+ messages in thread
* |WARNING| [GIT MASTER] b287e404643aeab5bb5db084c142789df187844e
@ 2025-10-24 4:53 dpdklab
0 siblings, 0 replies; 4+ messages in thread
From: dpdklab @ 2025-10-24 4:53 UTC (permalink / raw)
To: Test Report
Cc: dpdk-test-reports, Xueming Li, Christian Ehrhardt, Kevin Traynor,
Luca Boccassi
_Testing issues_
Branch: tags/v24.11
b287e404643aeab5bb5db084c142789df187844e --> testing issues
Upstream job id: ACVP-FIPS-testing#11542
Test environment and result as below:
+--------------+----------------------+----------------------+
| Environment | dpdk_fips_validation | compressdev_zlib_pmd |
+==============+======================+======================+
| Ubuntu 20.04 | WARN | SKIPPED |
+--------------+----------------------+----------------------+
| Ubuntu 22.04 | SKIPPED | PASS |
+--------------+----------------------+----------------------+
==== 20 line log output for Ubuntu 20.04 (dpdk_fips_validation): ====
Traceback (most recent call last):
File "/dpdk-ci/tools/acvp/acvp_tool.py", line 368, in <module>
main(
File "/dpdk-ci/tools/acvp/acvp_tool.py", line 314, in main
with open(response_path, 'r') as upload_file:
FileNotFoundError: [Errno 2] No such file or directory: '/root/workspace/ACVP-FIPS-testing/out/hmac-sha-1-answers.rsp'
INFO:root:Using response file...
Traceback (most recent call last):
File "/dpdk-ci/tools/acvp/acvp_tool.py", line 368, in <module>
main(
File "/dpdk-ci/tools/acvp/acvp_tool.py", line 314, in main
with open(response_path, 'r') as upload_file:
FileNotFoundError: [Errno 2] No such file or directory: '/root/workspace/ACVP-FIPS-testing/out/acvp-tdes-cbc-answers.rsp'
INFO:root:Using response file...
Traceback (most recent call last):
File "/dpdk-ci/tools/acvp/acvp_tool.py", line 368, in <module>
main(
File "/dpdk-ci/tools/acvp/acvp_tool.py", line 314, in main
with open(response_path, 'r') as upload_file:
FileNotFoundError: [Errno 2] No such file or directory: '/root/workspace/ACVP-FIPS-testing/out/acvp-aes-ctr-answers.rsp'
==== End log output ====
Ubuntu 20.04
Kernel: 5.15
Compiler: gcc gcc (Ubuntu 9.4.0-1ubuntu1~20.04.2) 9.4.0
Ubuntu 22.04
Kernel: 5.15
Compiler: gcc gcc (Ubuntu 11.4.0-1ubuntu1~22.04.2) 11.4.0
To view detailed results, visit:
https://lab.dpdk.org/results/dashboard/tarballs/35326/
UNH-IOL DPDK Community Lab
To manage your email subscriptions, visit:
https://lab.dpdk.org/results/dashboard/preferences/subscriptions/
^ permalink raw reply [flat|nested] 4+ messages in thread
* |WARNING| [GIT MASTER] b287e404643aeab5bb5db084c142789df187844e
@ 2025-10-21 6:21 dpdklab
0 siblings, 0 replies; 4+ messages in thread
From: dpdklab @ 2025-10-21 6:21 UTC (permalink / raw)
To: Test Report
Cc: dpdk-test-reports, Xueming Li, Christian Ehrhardt, Kevin Traynor,
Luca Boccassi
_Testing issues_
Branch: tags/v24.11
b287e404643aeab5bb5db084c142789df187844e --> testing issues
Upstream job id: ACVP-FIPS-testing#11507
Test environment and result as below:
+--------------+----------------------+----------------------+
| Environment | compressdev_zlib_pmd | dpdk_fips_validation |
+==============+======================+======================+
| Ubuntu 22.04 | PASS | SKIPPED |
+--------------+----------------------+----------------------+
| Ubuntu 20.04 | SKIPPED | WARN |
+--------------+----------------------+----------------------+
==== 20 line log output for Ubuntu 20.04 (dpdk_fips_validation): ====
INFO:root:Downloading verdict for vector set 3469547
INFO:root:Vector set verdict not ready, waiting 30 seconds...
INFO:root:Vector set verdict not ready, waiting 30 seconds...
INFO:root:Vector set verdict not ready, waiting 30 seconds...
INFO:root:Done
INFO:root:Using response file...
INFO:root:Uploading response file...
INFO:root:Fetching verdict...
INFO:root:Downloading verdict for vector set 3469548
INFO:root:Vector set verdict not ready, waiting 30 seconds...
INFO:root:Vector set verdict not ready, waiting 30 seconds...
INFO:root:Vector set verdict not ready, waiting 30 seconds...
INFO:root:Done
INFO:root:Using response file...
INFO:root:Uploading response file...
INFO:root:Fetching verdict...
INFO:root:Downloading verdict for vector set 3469549
INFO:root:Vector set verdict not ready, waiting 30 seconds...
INFO:root:Vector set verdict not ready, waiting 30 seconds...
INFO:root:Done
==== End log output ====
Ubuntu 22.04
Kernel: 5.15
Compiler: gcc gcc (Ubuntu 11.4.0-1ubuntu1~22.04.2) 11.4.0
Ubuntu 20.04
Kernel: 5.15
Compiler: gcc gcc (Ubuntu 9.4.0-1ubuntu1~20.04.2) 9.4.0
To view detailed results, visit:
https://lab.dpdk.org/results/dashboard/tarballs/35291/
UNH-IOL DPDK Community Lab
To manage your email subscriptions, visit:
https://lab.dpdk.org/results/dashboard/preferences/subscriptions/
^ permalink raw reply [flat|nested] 4+ messages in thread
* |WARNING| [GIT MASTER] b287e404643aeab5bb5db084c142789df187844e
@ 2025-09-10 5:30 dpdklab
0 siblings, 0 replies; 4+ messages in thread
From: dpdklab @ 2025-09-10 5:30 UTC (permalink / raw)
To: Test Report
Cc: dpdk-test-reports, Xueming Li, Christian Ehrhardt, Kevin Traynor,
Luca Boccassi
_Testing issues_
Branch: tags/v24.11
b287e404643aeab5bb5db084c142789df187844e --> testing issues
Upstream job id: Generic-DPDK-Compile-Meson#423784
Test environment and result as below:
+-------------------------------+--------------------+-------------------+------------------+-------------------+-------------------------+----------------------+
| Environment | dpdk_meson_compile | dpdk_compile_spdk | dpdk_compile_ovs | dpdk_msvc_compile | dpdk_llvm_clang_compile | dpdk_mingw64_compile |
+===============================+====================+===================+==================+===================+=========================+======================+
| CentOS Stream 9 | PASS | PASS | SKIPPED | SKIPPED | SKIPPED | SKIPPED |
+-------------------------------+--------------------+-------------------+------------------+-------------------+-------------------------+----------------------+
| CentOS Stream 10 | PASS | SKIPPED | SKIPPED | SKIPPED | SKIPPED | SKIPPED |
+-------------------------------+--------------------+-------------------+------------------+-------------------+-------------------------+----------------------+
| Fedora Linux 42 | PASS | WARN | PASS | SKIPPED | SKIPPED | SKIPPED |
+-------------------------------+--------------------+-------------------+------------------+-------------------+-------------------------+----------------------+
| Debian GNU/Linux 12 | PASS | WARN | SKIPPED | SKIPPED | SKIPPED | SKIPPED |
+-------------------------------+--------------------+-------------------+------------------+-------------------+-------------------------+----------------------+
| Red Hat Enterprise Linux 8.10 | PASS | SKIPPED | SKIPPED | SKIPPED | SKIPPED | SKIPPED |
+-------------------------------+--------------------+-------------------+------------------+-------------------+-------------------------+----------------------+
| openSUSE Leap 15.6 | PASS | SKIPPED | SKIPPED | SKIPPED | SKIPPED | SKIPPED |
+-------------------------------+--------------------+-------------------+------------------+-------------------+-------------------------+----------------------+
| Ubuntu 24.04 | PASS | WARN | PASS | SKIPPED | SKIPPED | SKIPPED |
+-------------------------------+--------------------+-------------------+------------------+-------------------+-------------------------+----------------------+
| Alpine Linux 3.22.0 | PASS | SKIPPED | SKIPPED | SKIPPED | SKIPPED | SKIPPED |
+-------------------------------+--------------------+-------------------+------------------+-------------------+-------------------------+----------------------+
| Ubuntu 22.04 | PASS | PASS | SKIPPED | SKIPPED | SKIPPED | SKIPPED |
+-------------------------------+--------------------+-------------------+------------------+-------------------+-------------------------+----------------------+
| Red Hat Enterprise Linux 9.5 | PASS | SKIPPED | SKIPPED | SKIPPED | SKIPPED | SKIPPED |
+-------------------------------+--------------------+-------------------+------------------+-------------------+-------------------------+----------------------+
| Ubuntu 20.04 | PASS | SKIPPED | SKIPPED | SKIPPED | SKIPPED | SKIPPED |
+-------------------------------+--------------------+-------------------+------------------+-------------------+-------------------------+----------------------+
| FreeBSD 14.2 | PASS | SKIPPED | SKIPPED | SKIPPED | SKIPPED | SKIPPED |
+-------------------------------+--------------------+-------------------+------------------+-------------------+-------------------------+----------------------+
| Windows Server 2022 | SKIPPED | SKIPPED | SKIPPED | PASS | PASS | PASS |
+-------------------------------+--------------------+-------------------+------------------+-------------------+-------------------------+----------------------+
==== 20 line log output for Ubuntu 24.04 (dpdk_compile_spdk): ====
--- Failed to get log output ---
==== End log output ====
CentOS Stream 9
Kernel: 5.15
Compiler: gcc gcc (GCC) 11.5.0 20240719 (Red Hat 11.5.0-11)
CentOS Stream 10
Kernel: 5.15
Compiler: gcc gcc (GCC) 14.2.1 20250110 (Red Hat 14.2.1-8)
Fedora Linux 42
Kernel: 5.15
Compiler: clang gcc (GCC) 15.2.1 20250808 (Red Hat 15.2.1-1)
Debian GNU/Linux 12
Kernel: 5.15
Compiler: gcc gcc (Debian 12.2.0-14+deb12u1) 12.2.0
Red Hat Enterprise Linux 8.10
Kernel: 5.15
Compiler: gcc gcc (GCC) 8.5.0 20210514 (Red Hat 8.5.0-22)
openSUSE Leap 15.6
Kernel: 5.15
Compiler: gcc gcc (SUSE Linux) 7.5.0
Ubuntu 24.04
Kernel: 5.15
Compiler: gcc gcc (Ubuntu 13.3.0-6ubuntu2~24.04) 13.3.0
Alpine Linux 3.22.0
Kernel: 5.15
Compiler: gcc gcc (Alpine 14.2.0) 14.2.0
Ubuntu 22.04
Kernel: 5.15
Compiler: gcc gcc (Ubuntu 11.4.0-1ubuntu1~22.04) 11.4.0
Red Hat Enterprise Linux 9.5
Kernel: 5.15
Compiler: gcc gcc (GCC) 11.5.0 20240719 (Red Hat 11.5.0-2)
Ubuntu 20.04
Kernel: 5.15
Compiler: gcc gcc (Ubuntu 9.4.0-1ubuntu1~20.04.2) 9.4.0
FreeBSD 14.2
Kernel: 14.2-RELEASE
Compiler: clang 18.1.6
Windows Server 2022
Kernel: 10.0.20348.2031
Compiler: clang 15.0.7, gcc 14.1.0 (MinGW), and MSVC VS 19.39.33521
To view detailed results, visit:
https://lab.dpdk.org/results/dashboard/tarballs/34821/
UNH-IOL DPDK Community Lab
To manage your email subscriptions, visit:
https://lab.dpdk.org/results/dashboard/preferences/subscriptions/
^ permalink raw reply [flat|nested] 4+ messages in thread
end of thread, other threads:[~2025-10-24 6:11 UTC | newest]
Thread overview: 4+ messages (download: mbox.gz / follow: Atom feed)
-- links below jump to the message on this page --
2025-10-24 6:11 |WARNING| [GIT MASTER] b287e404643aeab5bb5db084c142789df187844e dpdklab
-- strict thread matches above, loose matches on Subject: below --
2025-10-24 4:53 dpdklab
2025-10-21 6:21 dpdklab
2025-09-10 5:30 dpdklab
This is a public inbox, see mirroring instructions
for how to clone and mirror all data and code used for this inbox;
as well as URLs for NNTP newsgroup(s).