From mboxrd@z Thu Jan 1 00:00:00 1970 Return-Path: Received: from mails.dpdk.org (mails.dpdk.org [217.70.189.124]) by inbox.dpdk.org (Postfix) with ESMTP id 437EE489C0 for ; Fri, 24 Oct 2025 08:22:56 +0200 (CEST) Received: from mails.dpdk.org (localhost [127.0.0.1]) by mails.dpdk.org (Postfix) with ESMTP id 3E5B740395; Fri, 24 Oct 2025 08:22:56 +0200 (CEST) Received: from mail-qk1-f226.google.com (mail-qk1-f226.google.com [209.85.222.226]) by mails.dpdk.org (Postfix) with ESMTP id CD84040395 for ; Fri, 24 Oct 2025 08:22:55 +0200 (CEST) Received: by mail-qk1-f226.google.com with SMTP id af79cd13be357-856701dc22aso175746285a.3 for ; Thu, 23 Oct 2025 23:22:55 -0700 (PDT) DKIM-Signature: v=1; a=rsa-sha256; c=relaxed/relaxed; d=iol.unh.edu; s=unh-iol; t=1761286975; x=1761891775; darn=dpdk.org; h=cc:to:from:subject:message-id:date:from:to:cc:subject:date :message-id:reply-to; bh=s6Kx1Wuh/9AaQj26s82K31pcNtUn93ao9IymiMCq9AE=; b=brhhxe1wu2n1QGc295ueL/gYTtuQ5brWoUwVWh4SAuGa77knebJDZyQUcsl1hqlbRW g/pHvDlDeHgqpmrFgWXG/7F/i64zVO4Wp8OSCU/hlPV5+CZeEE4XpKCZFmJdxUevft6b eK13drlztjlqwlkbE2dprmWTSrz9M6J3lTrDE= X-Google-DKIM-Signature: v=1; a=rsa-sha256; c=relaxed/relaxed; d=1e100.net; s=20230601; t=1761286975; x=1761891775; h=cc:to:from:subject:message-id:date:x-gm-message-state:from:to:cc :subject:date:message-id:reply-to; bh=s6Kx1Wuh/9AaQj26s82K31pcNtUn93ao9IymiMCq9AE=; b=FwhTXDPa4BNx8yGGuXHcfbbHdoA90V47ltS8prmzOKLmU/1epISlExyiEXQXRl4Jwf sQAwCezAH1ChTYVv0tlv8MRPLX1fO7Te1Ig+Qj95sI4GBaKd2FFu515Ak4TX4kUt4eLH HuL1CPHUYc0cKlMDYkao0ptvdJBYilc7MIbzX+bZ3+f2y/9ZSb/Ba9FnmCd8EXSk4Gfy jdaPUAJAwvpRUT6H68ZyvwXiAWvFeMB9kAJEzmfXbJ/yQ4lxjIUiHNZMs9xdkTPNzFTM U7LWSiDj2IO6VbACS1OPzq4ImaapqqjQDjNPY8wASDrPPYU5CaX6BQA7MoEME8I6waRG eNmQ== X-Gm-Message-State: AOJu0Yx7uS+PGcPZDjgcuPNGRM5dv87+i6NPE9BF8uscNXsxytoUHj1G xlK82u93/LzzDobyO6f/giccaxwZwHWbVCfS1ztV//MpUaf80FUIBgXdcjwCfzyNYkKEqECXWFx MgHpV3cGqS5LlhsfMiil4U5dsi6GfO71otDj2 X-Gm-Gg: ASbGncuRcW/NsmALvZqNE+g9PjCo/P368/gC6srZ2TpKNN5iYpH1az0VMY88b47clNr zeAYZxs8i00LKGxp+wGur+HwTX9ARvivs+cPWpnKQIPvxyqHhg9U2vV2pIMylmF32oduvfN15zK cj/9ebrlUFZ8A8xEZfTmpbjOVtnh6x6tSfQoJPPHkaiZAmiftNwpNDQAGh5XBeGqONbHPoo1t/k er4Xh99M5zZTQimEmd4h1Co5Z3wYiAYNNwYtj0CXA0SGraWbwcOUO3hBt9BsFBNcXqCzPF0DsCT 7+BiScu3maJL68HqKnVGRmsMuNzlme/CMSxudryEi75zZym5ZjGliBDh3oNomTdbD34feIu3b5U 2ANeeUSWOrqHqLC+W9kbNL/Bu8g1cgBs= X-Google-Smtp-Source: AGHT+IGco60vWz9b+mCvVST1Ix+YHORDOsQSMolLkfk+4lgx4f1hac5r79GRiJZg9/hrNWu5M0hffh5ikBb0 X-Received: by 2002:a05:620a:3951:b0:891:c248:a519 with SMTP id af79cd13be357-891c248a6fdmr2861626985a.57.1761286975168; Thu, 23 Oct 2025 23:22:55 -0700 (PDT) Received: from postal.iol.unh.edu (postal.iol.unh.edu. [132.177.123.84]) by smtp-relay.gmail.com with ESMTPS id af79cd13be357-89c0dad3777sm36292885a.1.2025.10.23.23.22.55 (version=TLS1_2 cipher=ECDHE-ECDSA-AES128-GCM-SHA256 bits=128/128); Thu, 23 Oct 2025 23:22:55 -0700 (PDT) X-Relaying-Domain: iol.unh.edu Date: Thu, 23 Oct 2025 23:22:55 -0700 (PDT) Message-ID: <68fb1b3f.050a0220.1caee2.1f7fSMTPIN_ADDED_MISSING@mx.google.com> Received: from [172.21.0.2] (unknown [172.18.0.240]) by postal.iol.unh.edu (Postfix) with ESMTP id B69FB6051830; Fri, 24 Oct 2025 02:22:54 -0400 (EDT) Subject: |SUCCESS| [GIT MASTER] b287e404643aeab5bb5db084c142789df187844e From: dpdklab@iol.unh.edu To: Test Report Cc: dpdk-test-reports@iol.unh.edu, Xueming Li , Christian Ehrhardt , Kevin Traynor , Luca Boccassi Content-Type: text/plain X-BeenThere: test-report@dpdk.org X-Mailman-Version: 2.1.29 Precedence: list List-Id: automatic DPDK test reports List-Unsubscribe: , List-Archive: List-Post: List-Help: List-Subscribe: , Errors-To: test-report-bounces@dpdk.org _Testing PASS_ Branch: tags/v24.11 b287e404643aeab5bb5db084c142789df187844e --> testing pass Upstream job id: Generic-Unit-Test-DPDK#384844 Test environment and result as below: +-------------------------------+----------------+ | Environment | dpdk_unit_test | +===============================+================+ | Fedora Linux 40 | PASS | +-------------------------------+----------------+ | Debian GNU/Linux 12 | PASS | +-------------------------------+----------------+ | CentOS Stream 9 | PASS | +-------------------------------+----------------+ | Fedora Linux 41 | PASS | +-------------------------------+----------------+ | CentOS Stream 10 | PASS | +-------------------------------+----------------+ | Fedora Linux 42 | PASS | +-------------------------------+----------------+ | Red Hat Enterprise Linux 8.10 | PASS | +-------------------------------+----------------+ | Ubuntu 20.04 | PASS | +-------------------------------+----------------+ | Red Hat Enterprise Linux 9.5 | PASS | +-------------------------------+----------------+ | Ubuntu 22.04 | PASS | +-------------------------------+----------------+ | Ubuntu 24.04 | PASS | +-------------------------------+----------------+ | Windows Server 2022 | PASS | +-------------------------------+----------------+ Fedora Linux 40 Kernel: 5.15 Compiler: gcc gcc (GCC) 14.2.1 20240912 (Red Hat 14.2.1-3) Debian GNU/Linux 12 Kernel: 5.15 Compiler: gcc gcc (Debian 12.2.0-14+deb12u1) 12.2.0 CentOS Stream 9 Kernel: 5.15 Compiler: gcc gcc (GCC) 11.5.0 20240719 (Red Hat 11.5.0-11) Fedora Linux 41 Kernel: 5.15 Compiler: clang gcc (GCC) 14.3.1 20250523 (Red Hat 14.3.1-1) CentOS Stream 10 Kernel: 5.15 Compiler: gcc gcc (GCC) 14.2.1 20250110 (Red Hat 14.2.1-8) Fedora Linux 42 Kernel: 5.15 Compiler: clang gcc (GCC) 15.2.1 20250808 (Red Hat 15.2.1-1) Red Hat Enterprise Linux 8.10 Kernel: 5.15 Compiler: gcc gcc (GCC) 8.5.0 20210514 (Red Hat 8.5.0-22) Ubuntu 20.04 Kernel: 5.15 Compiler: gcc gcc (Ubuntu 9.4.0-1ubuntu1~20.04.2) 9.4.0 Red Hat Enterprise Linux 9.5 Kernel: 5.15 Compiler: gcc gcc (GCC) 11.5.0 20240719 (Red Hat 11.5.0-2) Ubuntu 22.04 Kernel: 5.15 Compiler: gcc gcc (Ubuntu 11.4.0-1ubuntu1~22.04) 11.4.0 Ubuntu 24.04 Kernel: 5.15 Compiler: gcc gcc (Ubuntu 13.3.0-6ubuntu2~24.04) 13.3.0 Windows Server 2022 Kernel: 10.0.20348.2031 Compiler: clang 15.0.7, gcc 14.1.0 (MinGW), and MSVC VS 19.39.33521 To view detailed results, visit: https://lab.dpdk.org/results/dashboard/tarballs/35326/ UNH-IOL DPDK Community Lab To manage your email subscriptions, visit: https://lab.dpdk.org/results/dashboard/preferences/subscriptions/