From mboxrd@z Thu Jan 1 00:00:00 1970 Return-Path: Received: from mails.dpdk.org (mails.dpdk.org [217.70.189.124]) by inbox.dpdk.org (Postfix) with ESMTP id 6D1E5489C0 for ; Fri, 24 Oct 2025 08:32:54 +0200 (CEST) Received: from mails.dpdk.org (localhost [127.0.0.1]) by mails.dpdk.org (Postfix) with ESMTP id 4A51740276; Fri, 24 Oct 2025 08:32:54 +0200 (CEST) Received: from mail-io1-f99.google.com (mail-io1-f99.google.com [209.85.166.99]) by mails.dpdk.org (Postfix) with ESMTP id B8AEA40276 for ; Fri, 24 Oct 2025 08:32:53 +0200 (CEST) Received: by mail-io1-f99.google.com with SMTP id ca18e2360f4ac-92aee734585so68889539f.3 for ; Thu, 23 Oct 2025 23:32:53 -0700 (PDT) DKIM-Signature: v=1; a=rsa-sha256; c=relaxed/relaxed; d=iol.unh.edu; s=unh-iol; t=1761287573; x=1761892373; darn=dpdk.org; h=references:in-reply-to:cc:to:from:subject:message-id:date:from:to :cc:subject:date:message-id:reply-to; bh=LyxvwjI/LJeMQeLVGgqt1BUrBAfV+7Q+qU41c+2K9GE=; b=HMs9b14REnYsSJITCxpfHo+aLGv5NxyV8OgaCVzogObKt2cSTzTmHfV29iIDJes/6A kOIVr3lDpb+8J7Yy1twsDtMhk/vntmgnoyHGKg+w/Oat7XM/2QLJfQBzKzdfOYoefl9J KrkDB4suHiSWpFw2da+l6TcXPUw7+oi+J0Pho= X-Google-DKIM-Signature: v=1; a=rsa-sha256; c=relaxed/relaxed; d=1e100.net; s=20230601; t=1761287573; x=1761892373; h=references:in-reply-to:cc:to:from:subject:message-id:date :x-gm-message-state:from:to:cc:subject:date:message-id:reply-to; bh=LyxvwjI/LJeMQeLVGgqt1BUrBAfV+7Q+qU41c+2K9GE=; b=BQPedXN10tREgECGLGET5ZadncJ1A6elIn6gpUr+B6mnOKya13AD0nMdjT+F7tQRAa tnhcYwlWwpGLhdMWTGQ+UrQwXmHYMi4Yakc7zgpAB0QYMtNm0ViUxlZSNdlkcDsiMyqR t1Oe8CLfKAjSkmoK5Cs8QnxVzxtOc6vBpzGrlMv/ldte87tVJfPOUQ49qovK2XICHmqv +hLTi0nMyXmuxl/5M7BP7F6CCpYXA0BsNwlFS9ADBD4Qs8bhzkH2sXRgAjYl4vVxXDZK qxNRmkiMWUIY0nDRKnpxMUh6V+GPb01OkzWEyXLtKyHoSZzk576aTIMKvXhu0U23dRVe TiGw== X-Gm-Message-State: AOJu0Yz1k6f/RTQaYonSmfuNfxvgqGvx1mq2KMJ5bID+tTAm4hreIsh/ Ye2bHINEf0pPk7Inc9d4PxdCWaMFHA3QP3yVgSxOaqV+6WylJe9WOlwh7x+VAK+IcvZ0LTW7eS+ fPMb2D5AwH7jreRm+BpDiriCVF5X5APpCsB1OqSBGHOZW X-Gm-Gg: ASbGnctxeFIXdW7g3+6KqE0paHl4CedGf6bKQv2JhSn6j+9QsGazRdcbp7ZfL1lLttd poE1ah1er0Seat6qKgPzmHHYKTH2YGwpSq9AZgE9DDzULc5PXlcGRZDtctIky7ZEe9nstgc+PGO ZSlfzQBxIhuVr5j/AotEKWID88aOhuRqS+V2P14WuIFjosVuiSjfMI8FUw0Or8WE9y90Uv+Lkml XRT9ecd4LPxamTu0cXORHPgloord4fMMeVhkFgXpb+9+/UeCyILFYaaxoNaHNN0ZBsND2AfuzFm VxmhjSRvc8/+Gy9iMXl4xkPHS0vYAzmLgjkOZjwaf07qXzeTn0eoEYRpBpp5n/CyomH3QdnzVZj 6Cl0BoMoyEXcJ6Slcnvjkk9pxAdlvItI= X-Google-Smtp-Source: AGHT+IEA6XM5U5lYR7bzNFLxsXn4RsBWtyaHSAieZjH8T1xOJ9j+QJ2qRgOvYOrMSaH7p+7g989gaQw4AOl0 X-Received: by 2002:a05:6602:3a11:b0:928:c6cc:3b1a with SMTP id ca18e2360f4ac-93e76471803mr3845055639f.18.1761287573021; Thu, 23 Oct 2025 23:32:53 -0700 (PDT) Received: from postal.iol.unh.edu (postal.iol.unh.edu. [132.177.123.84]) by smtp-relay.gmail.com with ESMTPS id 8926c6da1cb9f-5abb701de2esm335535173.23.2025.10.23.23.32.52 (version=TLS1_2 cipher=ECDHE-ECDSA-AES128-GCM-SHA256 bits=128/128); Thu, 23 Oct 2025 23:32:53 -0700 (PDT) X-Relaying-Domain: iol.unh.edu Date: Thu, 23 Oct 2025 23:32:53 -0700 (PDT) Message-ID: <68fb1d95.050a0220.1127f8.1475SMTPIN_ADDED_MISSING@mx.google.com> Received: from [172.21.0.5] (unknown [172.18.0.240]) by postal.iol.unh.edu (Postfix) with ESMTP id 813AC6051830; Fri, 24 Oct 2025 02:32:52 -0400 (EDT) Subject: |SUCCESS| pw158012-158017 [PATCH] [v6,6/6] net/cnxk: report link mod From: dpdklab@iol.unh.edu To: Test Report Cc: dpdk-test-reports@iol.unh.edu In-Reply-To: <20251023110332.6231-6-skori@marvell.com> References: <20251023110332.6231-6-skori@marvell.com> Content-Type: text/plain X-BeenThere: test-report@dpdk.org X-Mailman-Version: 2.1.29 Precedence: list List-Id: automatic DPDK test reports List-Unsubscribe: , List-Archive: List-Post: List-Help: List-Subscribe: , Errors-To: test-report-bounces@dpdk.org Test-Label: iol-unit-arm64-testing Test-Status: SUCCESS http://dpdk.org/patch/158017 _Testing PASS_ Submitter: Sunil Kumar Kori Date: Thursday, October 23 2025 11:02:06 DPDK git baseline: Repo:dpdk-next-net-mrvl Branch: master CommitID:2863cbd9ee6dabee2b183382d298f4054ba3e8a2 158012-158017 --> testing pass Upstream job id: Generic-Unit-Test-DPDK#384491 Test environment and result as below: +------------------------------+--------------+------------------------------+---------------------------+----------------+ | Environment | lpm_autotest | cryptodev_sw_snow3g_autotest | cryptodev_sw_zuc_autotest | dpdk_unit_test | +==============================+==============+==============================+===========================+================+ | Ubuntu 20.04 | PASS | SKIPPED | SKIPPED | PASS | +------------------------------+--------------+------------------------------+---------------------------+----------------+ | Debian 12 (arm) | SKIPPED | PASS | PASS | SKIPPED | +------------------------------+--------------+------------------------------+---------------------------+----------------+ | Fedora Linux 41 | SKIPPED | SKIPPED | SKIPPED | PASS | +------------------------------+--------------+------------------------------+---------------------------+----------------+ | Debian GNU/Linux 12 | SKIPPED | SKIPPED | SKIPPED | PASS | +------------------------------+--------------+------------------------------+---------------------------+----------------+ | Ubuntu 22.04 | SKIPPED | SKIPPED | SKIPPED | PASS | +------------------------------+--------------+------------------------------+---------------------------+----------------+ | Fedora Linux 40 | SKIPPED | SKIPPED | SKIPPED | PASS | +------------------------------+--------------+------------------------------+---------------------------+----------------+ | CentOS Stream 9 | SKIPPED | SKIPPED | SKIPPED | PASS | +------------------------------+--------------+------------------------------+---------------------------+----------------+ | Ubuntu 24.04 | SKIPPED | SKIPPED | SKIPPED | PASS | +------------------------------+--------------+------------------------------+---------------------------+----------------+ | CentOS Stream 10 | SKIPPED | SKIPPED | SKIPPED | PASS | +------------------------------+--------------+------------------------------+---------------------------+----------------+ | Fedora Linux 42 | SKIPPED | SKIPPED | SKIPPED | PASS | +------------------------------+--------------+------------------------------+---------------------------+----------------+ | Red Hat Enterprise Linux 9.5 | SKIPPED | SKIPPED | SKIPPED | PASS | +------------------------------+--------------+------------------------------+---------------------------+----------------+ Ubuntu 20.04 Kernel: 5.4 Compiler: gcc gcc (Ubuntu 9.4.0-1ubuntu1~20.04.2) 9.4.0 Debian 12 (arm) Kernel: Depends on container host Compiler: gcc (Debian 12.2.0-14) 12.2.0 Fedora Linux 41 Kernel: 5.4 Compiler: gcc gcc (GCC) 14.3.1 20250523 (Red Hat 14.3.1-1) Debian GNU/Linux 12 Kernel: 5.4 Compiler: gcc gcc (Debian 12.2.0-14+deb12u1) 12.2.0 Ubuntu 22.04 Kernel: 5.15 Compiler: gcc gcc (Ubuntu 11.4.0-1ubuntu1~22.04.2) 11.4.0 Fedora Linux 40 Kernel: 5.4 Compiler: clang gcc (GCC) 14.2.1 20240912 (Red Hat 14.2.1-3) CentOS Stream 9 Kernel: 5.4 Compiler: gcc gcc (GCC) 11.5.0 20240719 (Red Hat 11.5.0-11) Ubuntu 24.04 Kernel: 5.4 Compiler: gcc gcc (Ubuntu 13.3.0-6ubuntu2~24.04) 13.3.0 CentOS Stream 10 Kernel: 5.4 Compiler: gcc gcc (GCC) 14.2.1 20250110 (Red Hat 14.2.1-8) Fedora Linux 42 Kernel: 5.4 Compiler: gcc gcc (GCC) 15.2.1 20250808 (Red Hat 15.2.1-1) Red Hat Enterprise Linux 9.5 Kernel: 5.4 Compiler: gcc gcc (GCC) 11.5.0 20240719 (Red Hat 11.5.0-2) To view detailed results, visit: https://lab.dpdk.org/results/dashboard/patchsets/34357/ UNH-IOL DPDK Community Lab To manage your email subscriptions, visit: https://lab.dpdk.org/results/dashboard/preferences/subscriptions/