From mboxrd@z Thu Jan 1 00:00:00 1970 Return-Path: Received: from mails.dpdk.org (mails.dpdk.org [217.70.189.124]) by inbox.dpdk.org (Postfix) with ESMTP id 4979A489C3 for ; Fri, 24 Oct 2025 10:40:12 +0200 (CEST) Received: from mails.dpdk.org (localhost [127.0.0.1]) by mails.dpdk.org (Postfix) with ESMTP id 2B81040156; Fri, 24 Oct 2025 10:40:12 +0200 (CEST) Received: from mail-pl1-f227.google.com (mail-pl1-f227.google.com [209.85.214.227]) by mails.dpdk.org (Postfix) with ESMTP id AF69940156 for ; Fri, 24 Oct 2025 10:40:11 +0200 (CEST) Received: by mail-pl1-f227.google.com with SMTP id d9443c01a7336-29470bc80ceso19427735ad.1 for ; Fri, 24 Oct 2025 01:40:11 -0700 (PDT) DKIM-Signature: v=1; a=rsa-sha256; c=relaxed/relaxed; d=iol.unh.edu; s=unh-iol; t=1761295211; x=1761900011; darn=dpdk.org; h=references:in-reply-to:cc:to:from:subject:message-id:date:from:to :cc:subject:date:message-id:reply-to; bh=DjbcwDYVVopPeyIlI6U/kV5NAbBXoUQNcmroOP1fe1k=; b=JvWVpZ2tk6Wt9PQyxQ4wgZrcn12Md4ZXAQ3jTcZbhLdVHOaGAkRHRDfoxyOn8tLyVX b47t+6V3g0Tc9ZfFeVANEYgaUcaJ3lnSM/+9akn6gPDRtMJ2TD3IzXicAgoBdU4QjLmb 44KD++c4Cm2Xy6tn+rtwR9mzvVyDxTFFmVgx0= X-Google-DKIM-Signature: v=1; a=rsa-sha256; c=relaxed/relaxed; d=1e100.net; s=20230601; t=1761295211; x=1761900011; h=references:in-reply-to:cc:to:from:subject:message-id:date :x-gm-message-state:from:to:cc:subject:date:message-id:reply-to; bh=DjbcwDYVVopPeyIlI6U/kV5NAbBXoUQNcmroOP1fe1k=; b=o851HfQ3uS3orMOYLfM6hVXThQR9TEs5f5AKDedRXXlubwpUOlKz5vlfx0fQpAnzVh dtRXJb00aNN515FQ3X4OtXQxbgte0qBISgqVUoyenR6EM9sEV5JQoyAWLOMuK+1H2RS7 GLQeyObGI+vtySW8LhFVusVJzLGmpea6FWPzI9eNj0T4STJBI3vx2t1yD6V1x66fQMZM k/6HPkuXlj2kShNcDw2taHdvOSjJd6YAn8aBZEKHHwKBevDg9toW5nV6TsL24ST95ESy kVBAytx9FDKa4WP8jZUQzqM38KgnTpeTQpZAX+5E5LRBQuqq0QTUmuq+Zkw8RzByZ8Yj wiAA== X-Gm-Message-State: AOJu0Yw//LKDsXuJutbkSM//j+vksZnjZfTGHn7pPezDYaLJ3mkui6nB P2GV6vfeX9Bg9Y6nNeg3NZGQpNCVCkmilHInlPZGweYPuYIEFaud3Yo3Zhv1lXI5MyyG+pOHCwx Kw4j3jGAv5vXkUF5wS2lVrOYRg4LkAnhe44Pbfwu0VQd+YUyZ/Spi84cDOYpB X-Gm-Gg: ASbGnct4v4XfWnkbm/FJriQmYDioLG9xaZQuG7awFfrKp38KnJ0o4Otm6tO3qNCTcVQ WhUDxS0ylTzspDbMCcS8DsLMkfhjOCIBGHPZd44qz9Nt2pG/1+MTiwaS4jNsOu4IJWS/LkuFN2n 1jjMqA6TuF17Sv5Ug4LaoPElHZF45xj7g3bmbFtH7IlhVmnU+85rsp9aO+4FCNm3JUqob0MVv1e 1tbRC1z4cYzDPkQ7mHW334iPjIkqBavENUhdR2uFaPetTdtjHgHq7T6LVvzysyNWSI5CaBWlUND LSguDo9A1DOVCYb1JeX//zrQpcd6DRgw+4FQCDLh1rWL/3Kxemx9XofyBAFQfMFS2B+H3McXLcL mTuIYmuni X-Google-Smtp-Source: AGHT+IFr1KOs0fs7JVy9EC+t3IyNb9IOkUEzNVrHisrifMzwbOLHTaZaypT4BlXcDUztwqzJTKB6UvjOy3FZ X-Received: by 2002:a17:902:cec6:b0:24c:db7c:bc34 with SMTP id d9443c01a7336-29489dfb0b0mr25009245ad.13.1761295210846; Fri, 24 Oct 2025 01:40:10 -0700 (PDT) Received: from postal.iol.unh.edu (postal.iol.unh.edu. [2606:4100:3880:1234::84]) by smtp-relay.gmail.com with ESMTPS id d9443c01a7336-2946dde16f1sm4901535ad.23.2025.10.24.01.40.10 (version=TLS1_2 cipher=ECDHE-ECDSA-AES128-GCM-SHA256 bits=128/128); Fri, 24 Oct 2025 01:40:10 -0700 (PDT) X-Relaying-Domain: iol.unh.edu Date: Fri, 24 Oct 2025 01:40:10 -0700 (PDT) Message-ID: <68fb3b6a.170a0220.38be8b.8a82SMTPIN_ADDED_MISSING@mx.google.com> Received: from [172.21.0.2] (unknown [172.18.0.240]) by postal.iol.unh.edu (Postfix) with ESMTP id 3BD2160003E7; Fri, 24 Oct 2025 04:40:10 -0400 (EDT) Subject: |SUCCESS| pw158077 [PATCH] [v6,1/1] eal/riscv: optimize rte_memcpy w From: dpdklab@iol.unh.edu To: Test Report Cc: dpdk-test-reports@iol.unh.edu In-Reply-To: <20251024072734.1573077-2-chen.qiguo@zte.com.cn> References: <20251024072734.1573077-2-chen.qiguo@zte.com.cn> Content-Type: text/plain X-BeenThere: test-report@dpdk.org X-Mailman-Version: 2.1.29 Precedence: list List-Id: automatic DPDK test reports List-Unsubscribe: , List-Archive: List-Post: List-Help: List-Subscribe: , Errors-To: test-report-bounces@dpdk.org Test-Label: iol-unit-amd64-testing Test-Status: SUCCESS http://dpdk.org/patch/158077 _Testing PASS_ Submitter: Qiguo Chen Date: Friday, October 24 2025 07:27:34 DPDK git baseline: Repo:dpdk Branch: master CommitID:6edcec237e31fcdb848cca6c151ee7a5bf057c28 158077 --> testing pass Upstream job id: Generic-VM-Unit-Test-DPDK#32035 Test environment and result as below: +-------------------------------+----------------+ | Environment | dpdk_unit_test | +===============================+================+ | CentOS Stream 9 | PASS | +-------------------------------+----------------+ | CentOS Stream 10 | PASS | +-------------------------------+----------------+ | Fedora Linux 40 | PASS | +-------------------------------+----------------+ | Debian GNU/Linux 12 | PASS | +-------------------------------+----------------+ | Fedora Linux 41 | PASS | +-------------------------------+----------------+ | Red Hat Enterprise Linux 9.5 | PASS | +-------------------------------+----------------+ | Fedora Linux 42 | PASS | +-------------------------------+----------------+ | Ubuntu 20.04 | PASS | +-------------------------------+----------------+ | Ubuntu 24.04 | PASS | +-------------------------------+----------------+ | Red Hat Enterprise Linux 8.10 | PASS | +-------------------------------+----------------+ | Ubuntu 22.04 | PASS | +-------------------------------+----------------+ | Windows Server 2022 | PASS | +-------------------------------+----------------+ CentOS Stream 9 Kernel: 5.15 Compiler: gcc gcc (GCC) 11.5.0 20240719 (Red Hat 11.5.0-11) CentOS Stream 10 Kernel: 5.15 Compiler: gcc gcc (GCC) 14.2.1 20250110 (Red Hat 14.2.1-8) Fedora Linux 40 Kernel: 5.15 Compiler: gcc gcc (GCC) 14.2.1 20240912 (Red Hat 14.2.1-3) Debian GNU/Linux 12 Kernel: 5.15 Compiler: gcc gcc (Debian 12.2.0-14+deb12u1) 12.2.0 Fedora Linux 41 Kernel: 5.15 Compiler: clang gcc (GCC) 14.3.1 20250523 (Red Hat 14.3.1-1) Red Hat Enterprise Linux 9.5 Kernel: 5.15 Compiler: gcc gcc (GCC) 11.5.0 20240719 (Red Hat 11.5.0-2) Fedora Linux 42 Kernel: 5.15 Compiler: clang gcc (GCC) 15.2.1 20250808 (Red Hat 15.2.1-1) Ubuntu 20.04 Kernel: 5.15 Compiler: gcc gcc (Ubuntu 9.4.0-1ubuntu1~20.04.2) 9.4.0 Ubuntu 24.04 Kernel: 5.15 Compiler: gcc gcc (Ubuntu 13.3.0-6ubuntu2~24.04) 13.3.0 Red Hat Enterprise Linux 8.10 Kernel: 5.15 Compiler: gcc gcc (GCC) 8.5.0 20210514 (Red Hat 8.5.0-22) Ubuntu 22.04 Kernel: 5.15 Compiler: gcc gcc (Ubuntu 11.4.0-1ubuntu1~22.04) 11.4.0 Windows Server 2022 Kernel: 10.0.20348.2031 Compiler: clang 15.0.7, gcc 14.1.0 (MinGW), and MSVC VS 19.39.33521 To view detailed results, visit: https://lab.dpdk.org/results/dashboard/patchsets/34370/ UNH-IOL DPDK Community Lab To manage your email subscriptions, visit: https://lab.dpdk.org/results/dashboard/preferences/subscriptions/