From mboxrd@z Thu Jan 1 00:00:00 1970 Return-Path: Received: from mails.dpdk.org (mails.dpdk.org [217.70.189.124]) by inbox.dpdk.org (Postfix) with ESMTP id 1EB4F489C3 for ; Fri, 24 Oct 2025 10:48:32 +0200 (CEST) Received: from mails.dpdk.org (localhost [127.0.0.1]) by mails.dpdk.org (Postfix) with ESMTP id E9AE340156; Fri, 24 Oct 2025 10:48:31 +0200 (CEST) Received: from mail-pf1-f228.google.com (mail-pf1-f228.google.com [209.85.210.228]) by mails.dpdk.org (Postfix) with ESMTP id E1FD040156 for ; Fri, 24 Oct 2025 10:48:30 +0200 (CEST) Received: by mail-pf1-f228.google.com with SMTP id d2e1a72fcca58-76e2ea933b7so1849873b3a.1 for ; Fri, 24 Oct 2025 01:48:30 -0700 (PDT) DKIM-Signature: v=1; a=rsa-sha256; c=relaxed/relaxed; d=iol.unh.edu; s=unh-iol; t=1761295710; x=1761900510; darn=dpdk.org; h=references:in-reply-to:cc:to:from:subject:message-id:date:from:to :cc:subject:date:message-id:reply-to; bh=5m7UIDWdz8iY7P99a80wR5Dtc+mSjPWuZInauZx4d7o=; b=Ko6MX9YNG2mB0xyn0+w/UcIrpjnxGEIBl4MeLm668/zwgbTBZd/qvl3o2X7x9HEFz+ uAJe8Sy21Mk88YZdJq3ELrotG1IkzAQtBroZ8Wgt6wMJvI4A2A93qEOXcuhdA/RFoyIv KHTVZvPBhGWZXKo9ysf+cM+VQ8ofmir0cWfoM= X-Google-DKIM-Signature: v=1; a=rsa-sha256; c=relaxed/relaxed; d=1e100.net; s=20230601; t=1761295710; x=1761900510; h=references:in-reply-to:cc:to:from:subject:message-id:date :x-gm-message-state:from:to:cc:subject:date:message-id:reply-to; bh=5m7UIDWdz8iY7P99a80wR5Dtc+mSjPWuZInauZx4d7o=; b=soVnFTAoyV8TfMcmf901T7V5XucZwWgCKAFiIUyrjsEFy+WtMB8xUXuTzE2tC1MpRp J6eGt1sqfBR9w5VBNyjKkgCvrCZfst552mVa3uZe9zLnMgANB2o9Y5K3mv+dL09tLYIW k2i0x78cN7uZF2cHzt99jLeE+KxJSfA48qaJB+hmk8jjPQtO+/WjERNn3DnHK7RlEE78 fzwpe9Uv8nguuIP1fFy/mHf91Cjw7bs7vIWXDBvXaAdhiYz2uT8kHVp5JGM9XqwCf+ED ERn70KvJckKg+qSui3pLS8GTAmZWlJR6xX83by34xa5twfguzBc57zplWDnvCwDBPA8Q x4wA== X-Gm-Message-State: AOJu0Yw7H6itTvqvZFG3gYkdMIV0v4dApbm0G+bzJU0FtTioEHvMTGTW jhX0cTUfBYoBAezeWDmy9dwPnGQ/rAzgm6tY0RQYcGUFsYe4HYG51EXvKVo1teGZPX6WIlZcA2w ycIPlzD1w3NtlMTyyIAFjhS3jHi3G5IH7VQTS2U1i13wJIcow4oBX8oOKFJcd X-Gm-Gg: ASbGncuMf4ILxnOnlQFMx6+m1VzxT+fiLWryywB3NRoGErlWUHRG1yOYLU8MKAIUxAb sT0Gs2ydJ05FjQcCTajE/1aXnK5abDr4LkytXcXKFxYSzA3EImNZxImt7p3mMB/JnQ55L4d9KxN g1YDkaKs14im5QdcfOD0/nP+j0vPlmMFqROWcIcnePP2xL3sWdrcY+nUPV+pa88GkuKQLB640wN CBUy7EP4GKP/hxisomVv0AsbgrhAyr4dJYTg1O5tVDbiFIK8JvcnECrmI/b8Vj9mYWHiBXTItsQ +Mwmutr7vLLEzfIptS/lkSbil111D797B3y4ZhyAFh1363jawGg8D5r/+AKghAZEvtZixvd0Mm6 KuwlBLCgO X-Google-Smtp-Source: AGHT+IHfIquRaCz+0mYzEzfc2JKgYpz/uvoWx3a7XzoT1ySmMFix0lHtPmNg1rBkZUxQPqvE8sk+etlzfK1U X-Received: by 2002:a05:6a00:3d99:b0:78a:f579:15bb with SMTP id d2e1a72fcca58-7a284c1d062mr1987659b3a.3.1761295709409; Fri, 24 Oct 2025 01:48:29 -0700 (PDT) Received: from postal.iol.unh.edu (postal.iol.unh.edu. [2606:4100:3880:1234::84]) by smtp-relay.gmail.com with ESMTPS id d2e1a72fcca58-7a274a59959sm405293b3a.1.2025.10.24.01.48.29 (version=TLS1_2 cipher=ECDHE-ECDSA-AES128-GCM-SHA256 bits=128/128); Fri, 24 Oct 2025 01:48:29 -0700 (PDT) X-Relaying-Domain: iol.unh.edu Date: Fri, 24 Oct 2025 01:48:29 -0700 (PDT) Message-ID: <68fb3d5d.050a0220.13a541.6d7bSMTPIN_ADDED_MISSING@mx.google.com> Received: from [172.21.0.2] (unknown [172.18.0.240]) by postal.iol.unh.edu (Postfix) with ESMTP id 80C2F6051830; Fri, 24 Oct 2025 04:48:28 -0400 (EDT) Subject: |SUCCESS| pw158024-158026 [PATCH] [v9,3/3] dts: add Rx Tx offload te From: dpdklab@iol.unh.edu To: Test Report Cc: dpdk-test-reports@iol.unh.edu In-Reply-To: <20251023123223.56924-4-abailey@iol.unh.edu> References: <20251023123223.56924-4-abailey@iol.unh.edu> Content-Type: text/plain X-BeenThere: test-report@dpdk.org X-Mailman-Version: 2.1.29 Precedence: list List-Id: automatic DPDK test reports List-Unsubscribe: , List-Archive: List-Post: List-Help: List-Subscribe: , Errors-To: test-report-bounces@dpdk.org Test-Label: iol-unit-arm64-testing Test-Status: SUCCESS http://dpdk.org/patch/158026 _Testing PASS_ Submitter: Andrew Bailey Date: Thursday, October 23 2025 12:32:23 DPDK git baseline: Repo:dpdk-next-dts Branch: master CommitID:c1abcee5a9656fb4890b733e6051aa604c60f146 158024-158026 --> testing pass Upstream job id: Generic-Unit-Test-DPDK#384545 Test environment and result as below: +------------------------------+----------------+--------------+---------------------------+------------------------------+ | Environment | dpdk_unit_test | lpm_autotest | cryptodev_sw_zuc_autotest | cryptodev_sw_snow3g_autotest | +==============================+================+==============+===========================+==============================+ | Fedora Linux 40 | PASS | SKIPPED | SKIPPED | SKIPPED | +------------------------------+----------------+--------------+---------------------------+------------------------------+ | CentOS Stream 9 | PASS | SKIPPED | SKIPPED | SKIPPED | +------------------------------+----------------+--------------+---------------------------+------------------------------+ | CentOS Stream 10 | PASS | SKIPPED | SKIPPED | SKIPPED | +------------------------------+----------------+--------------+---------------------------+------------------------------+ | Fedora Linux 42 | PASS | SKIPPED | SKIPPED | SKIPPED | +------------------------------+----------------+--------------+---------------------------+------------------------------+ | Fedora Linux 41 | PASS | SKIPPED | SKIPPED | SKIPPED | +------------------------------+----------------+--------------+---------------------------+------------------------------+ | Red Hat Enterprise Linux 9.5 | PASS | SKIPPED | SKIPPED | SKIPPED | +------------------------------+----------------+--------------+---------------------------+------------------------------+ | Ubuntu 22.04 | PASS | SKIPPED | SKIPPED | SKIPPED | +------------------------------+----------------+--------------+---------------------------+------------------------------+ | Ubuntu 24.04 | PASS | SKIPPED | SKIPPED | SKIPPED | +------------------------------+----------------+--------------+---------------------------+------------------------------+ | Debian GNU/Linux 12 | PASS | SKIPPED | SKIPPED | SKIPPED | +------------------------------+----------------+--------------+---------------------------+------------------------------+ | Ubuntu 20.04 | PASS | PASS | SKIPPED | SKIPPED | +------------------------------+----------------+--------------+---------------------------+------------------------------+ | Debian 12 (arm) | SKIPPED | SKIPPED | PASS | PASS | +------------------------------+----------------+--------------+---------------------------+------------------------------+ Fedora Linux 40 Kernel: 5.4 Compiler: gcc gcc (GCC) 14.2.1 20240912 (Red Hat 14.2.1-3) CentOS Stream 9 Kernel: 5.4 Compiler: gcc gcc (GCC) 11.5.0 20240719 (Red Hat 11.5.0-11) CentOS Stream 10 Kernel: 5.4 Compiler: gcc gcc (GCC) 14.2.1 20250110 (Red Hat 14.2.1-8) Fedora Linux 42 Kernel: 5.4 Compiler: gcc gcc (GCC) 15.2.1 20250808 (Red Hat 15.2.1-1) Fedora Linux 41 Kernel: 5.4 Compiler: clang gcc (GCC) 14.3.1 20250523 (Red Hat 14.3.1-1) Red Hat Enterprise Linux 9.5 Kernel: 5.4 Compiler: gcc gcc (GCC) 11.5.0 20240719 (Red Hat 11.5.0-2) Ubuntu 22.04 Kernel: 5.4 Compiler: gcc gcc (Ubuntu 11.4.0-1ubuntu1~22.04) 11.4.0 Ubuntu 24.04 Kernel: 5.4 Compiler: gcc gcc (Ubuntu 13.3.0-6ubuntu2~24.04) 13.3.0 Debian GNU/Linux 12 Kernel: 5.4 Compiler: gcc gcc (Debian 12.2.0-14+deb12u1) 12.2.0 Ubuntu 20.04 Kernel: 5.4 Compiler: gcc gcc (Ubuntu 9.4.0-1ubuntu1~20.04.2) 9.4.0 Debian 12 (arm) Kernel: Depends on container host Compiler: gcc (Debian 12.2.0-14) 12.2.0 To view detailed results, visit: https://lab.dpdk.org/results/dashboard/patchsets/34359/ UNH-IOL DPDK Community Lab To manage your email subscriptions, visit: https://lab.dpdk.org/results/dashboard/preferences/subscriptions/