From mboxrd@z Thu Jan 1 00:00:00 1970 Return-Path: Received: from mails.dpdk.org (mails.dpdk.org [217.70.189.124]) by inbox.dpdk.org (Postfix) with ESMTP id 81805489C4 for ; Fri, 24 Oct 2025 12:05:31 +0200 (CEST) Received: from mails.dpdk.org (localhost [127.0.0.1]) by mails.dpdk.org (Postfix) with ESMTP id 7D5F74025E; Fri, 24 Oct 2025 12:05:31 +0200 (CEST) Received: from mail-pl1-f225.google.com (mail-pl1-f225.google.com [209.85.214.225]) by mails.dpdk.org (Postfix) with ESMTP id 9CA6F4025E for ; Fri, 24 Oct 2025 12:05:30 +0200 (CEST) Received: by mail-pl1-f225.google.com with SMTP id d9443c01a7336-27d4d6b7ab5so27363205ad.2 for ; Fri, 24 Oct 2025 03:05:30 -0700 (PDT) DKIM-Signature: v=1; a=rsa-sha256; c=relaxed/relaxed; d=iol.unh.edu; s=unh-iol; t=1761300330; x=1761905130; darn=dpdk.org; h=references:in-reply-to:cc:to:from:subject:message-id:date:from:to :cc:subject:date:message-id:reply-to; bh=R0TfGYxlV8DSgis8kk4lKN7Lmjola3n4GxQbB5V9v9M=; b=C5mgY3Lj9Um4Twe/35ju28Liyfa3OjWA7o91pKAfNi/My0RXL3EsMKLYDLrtblqpn8 N/UQaxGkl0/pUSBEkvyIPQimtZtaDfzbY8trtTX9DQEKG+142JRe468b4oxvz/oOyXmd ByfbhYVtEILWZ3o5VNCUMEoNJBeFCERz5aeck= X-Google-DKIM-Signature: v=1; a=rsa-sha256; c=relaxed/relaxed; d=1e100.net; s=20230601; t=1761300330; x=1761905130; h=references:in-reply-to:cc:to:from:subject:message-id:date :x-gm-message-state:from:to:cc:subject:date:message-id:reply-to; bh=R0TfGYxlV8DSgis8kk4lKN7Lmjola3n4GxQbB5V9v9M=; b=OJAibgPgc0MZ/Kych7l+iCjAuwYovQKsLLMgAMf5YZS2p4enoqad5SPt4ZcRCN/Qz4 pYm184mZSNAskZUMI+l4CyPhM9Z0a55+TEZYXQrGNUw1aJLwdNT6FyOdsr8YGRoNdKHe pOiWjzVej0qm+qV7VwXOSL2vmPJz1EB4eqOoNXY/FMUXvUZSJCrBIg8nrFYtkhIzz+dT NvwkyMLbFmxpcqfYTAF9nNKkSzowgbQvI6KuxHSMz2O1bJ98HkDryPuj9WSht3o4BBoa tpTHVJfID8yL6YTuHzzbJdi1wI51LGV86vgjbAsPq64U1sx+9YkjneSIj7Pj+u7X+9NU AS+A== X-Gm-Message-State: AOJu0Yy5zP9O5uxAiDvzr0KYC9102JGgHXl7PUh2DKYlEqUi9ifSiQMe xLZmU8kkG7PGeiOqPS+NI5300mTgjZ/RzClKf174N1Wybj8jo3yR02yrR2eWd/vGAUi2y8q/V+4 D5Cu84FxyCJ+Xsqgu/IiJJmlh3BLPaOKjxi1eaCmIiPs1 X-Gm-Gg: ASbGnctazrJfuvTDK3KT8oQGlXr6+/GX8XfZ3e7UmkMn3e+rAqRrqcn2UZNfnVvXw6P KrGHEZiALKV7h86eaVJhk+NAK2wj0OwGw8yNmIbbD2QVy3bHpt+hlgB9WZQOECXAud7YSqcR9DS 72wrOiLcStBM4gKCZlyrbiZlGfr7wuAKCDxRzEE8+TF/KT3keLrM5zm6duWXGaBphH/AYnTkHdr IW7d6Ve0lUIwrjwu/Ydq/sVScrPRCIi2KKzfarUDsp7xhEysTl4pJtFn5lt7Q1ZW+XlC59a1FNe Fc769YpwTeuj39OGTEP7YtBCSGq9p9cMYgI/qvxyXI0vGPvCsyjSelE0KiGwv1yGacTviPOt2Zf /kEebtZyBZY2hXlp/8m+56G43LEdrgwU= X-Google-Smtp-Source: AGHT+IHcKdHeAd93hElMfx/QUGIPCy9nEapK3m2yqoWaVSD/+pSOC4lqLyM6nW3Vnz98PT0hcTKIS3DOQnx/ X-Received: by 2002:a17:902:db0b:b0:264:70da:7a3b with SMTP id d9443c01a7336-290cb27af60mr386140725ad.49.1761300329786; Fri, 24 Oct 2025 03:05:29 -0700 (PDT) Received: from postal.iol.unh.edu (postal.iol.unh.edu. [132.177.123.84]) by smtp-relay.gmail.com with ESMTPS id d9443c01a7336-2946deec6b7sm4852845ad.44.2025.10.24.03.05.29 (version=TLS1_2 cipher=ECDHE-ECDSA-AES128-GCM-SHA256 bits=128/128); Fri, 24 Oct 2025 03:05:29 -0700 (PDT) X-Relaying-Domain: iol.unh.edu Date: Fri, 24 Oct 2025 03:05:29 -0700 (PDT) Message-ID: <68fb4f69.170a0220.34ea59.83a1SMTPIN_ADDED_MISSING@mx.google.com> Received: from [172.21.0.2] (unknown [172.18.0.240]) by postal.iol.unh.edu (Postfix) with ESMTP id 3B1406051830; Fri, 24 Oct 2025 06:05:29 -0400 (EDT) Subject: |SUCCESS| pw158078 [PATCH] [v1,1/1] bus/pci: fix resource leak in se From: dpdklab@iol.unh.edu To: Test Report Cc: dpdk-test-reports@iol.unh.edu In-Reply-To: <54e4e95f31382c1bb3babee07c107f1e39dc9093.1761297496.git.anatoly.burakov@intel.com> References: <54e4e95f31382c1bb3babee07c107f1e39dc9093.1761297496.git.anatoly.burakov@intel.com> Content-Type: text/plain X-BeenThere: test-report@dpdk.org X-Mailman-Version: 2.1.29 Precedence: list List-Id: automatic DPDK test reports List-Unsubscribe: , List-Archive: List-Post: List-Help: List-Subscribe: , Errors-To: test-report-bounces@dpdk.org Test-Label: iol-compile-amd64-testing Test-Status: SUCCESS http://dpdk.org/patch/158078 _Testing PASS_ Submitter: Anatoly Burakov Date: Friday, October 24 2025 09:18:24 DPDK git baseline: Repo:dpdk Branch: master CommitID:6edcec237e31fcdb848cca6c151ee7a5bf057c28 158078 --> testing pass Upstream job id: Windows-Compile-DPDK-Native#31868 Test environment and result as below: +---------------------+--------------------+-------------------------+-------------------+----------------------+ | Environment | dpdk_meson_compile | dpdk_llvm_clang_compile | dpdk_msvc_compile | dpdk_mingw64_compile | +=====================+====================+=========================+===================+======================+ | Ubuntu 20.04 | PASS | SKIPPED | SKIPPED | SKIPPED | +---------------------+--------------------+-------------------------+-------------------+----------------------+ | FreeBSD 14.2 | PASS | SKIPPED | SKIPPED | SKIPPED | +---------------------+--------------------+-------------------------+-------------------+----------------------+ | Windows Server 2022 | SKIPPED | PASS | PASS | PASS | +---------------------+--------------------+-------------------------+-------------------+----------------------+ Ubuntu 20.04 Kernel: 4.19 Compiler: gcc gcc (Ubuntu 9.4.0-1ubuntu1~20.04.2) 9.4.0 FreeBSD 14.2 Kernel: 14.2-RELEASE Compiler: clang 18.1.6 Windows Server 2022 Kernel: 10.0.20348.2031 Compiler: clang 15.0.7, gcc 14.1.0 (MinGW), and MSVC VS 19.39.33521 To view detailed results, visit: https://lab.dpdk.org/results/dashboard/patchsets/34371/ UNH-IOL DPDK Community Lab To manage your email subscriptions, visit: https://lab.dpdk.org/results/dashboard/preferences/subscriptions/