From mboxrd@z Thu Jan 1 00:00:00 1970 Return-Path: Received: from mails.dpdk.org (mails.dpdk.org [217.70.189.124]) by inbox.dpdk.org (Postfix) with ESMTP id 56F36489C4 for ; Fri, 24 Oct 2025 12:23:02 +0200 (CEST) Received: from mails.dpdk.org (localhost [127.0.0.1]) by mails.dpdk.org (Postfix) with ESMTP id 376BC4025E; Fri, 24 Oct 2025 12:23:02 +0200 (CEST) Received: from mail-vs1-f100.google.com (mail-vs1-f100.google.com [209.85.217.100]) by mails.dpdk.org (Postfix) with ESMTP id EABBD4025E for ; Fri, 24 Oct 2025 12:23:00 +0200 (CEST) Received: by mail-vs1-f100.google.com with SMTP id ada2fe7eead31-5d3fb34ba53so2121776137.1 for ; Fri, 24 Oct 2025 03:23:00 -0700 (PDT) DKIM-Signature: v=1; a=rsa-sha256; c=relaxed/relaxed; d=iol.unh.edu; s=unh-iol; t=1761301380; x=1761906180; darn=dpdk.org; h=references:in-reply-to:cc:to:from:subject:message-id:date:from:to :cc:subject:date:message-id:reply-to; bh=4bYQo3A7dWn12hmRRVxDUSbmXnVdmkxL963/uNVcjMw=; b=KBJOsciNGwHBTLWQPMNfyzVC1np2kz1s78GvMVWgkvv0q5e0YO4HaThCiy3mGAhHN1 7hesaPs2Gsnp5Pf3aX5geW1xv/fZvuZ0T6oqQVS1lPxcY0/X4wV2HVEpqp3/6tMk1hNI KYYh2Wj/l3Sm/DCa/LD9gDtdtRSmdc0ZrIoTA= X-Google-DKIM-Signature: v=1; a=rsa-sha256; c=relaxed/relaxed; d=1e100.net; s=20230601; t=1761301380; x=1761906180; h=references:in-reply-to:cc:to:from:subject:message-id:date :x-gm-message-state:from:to:cc:subject:date:message-id:reply-to; bh=4bYQo3A7dWn12hmRRVxDUSbmXnVdmkxL963/uNVcjMw=; b=m5uUTV0DLRYisc9UWh4k/gDA5hJc+SokplIYwplTp0Omso363sYTjwDvQr+2S4z1br FZDTPRppjjf7d+XbGD8T2m1QTyCgd3e2l1j6Nt/pfayB1scni+6JyVCqMJnfzBoUHZFV iTjDJREGasRPCMqOtch+W5DAf5xoXMjXk8jUEmQX2UZ89tUYr17zZfdXmZuEIRxr2p2j h0aaGGOUC4jZ3+1d9AkudWB161a/H5cgf62H3izxhUw6rbep3NM8rbxgJd+2wuJUg7RL PZ64WBj+mZ7wZLuVACGDwKkXzSZX2MQXYemUPQXW+5k5VW4ZeZKeXvPZ71Ie6EiMeGc5 /img== X-Gm-Message-State: AOJu0YySQ3c/DEAYTQXIM8voorL5WL2gVmCS2E5eU+N0WJEtnVBBsyWn 2zOmQtQx7tPAVpL6UkFNQDrjHP09gkkfatofQJQy5JteURgpgGD3CqjBAphR0sCjvJGduSMur5E Xf0JYdRNGvwu2Ez0xdIqOk1sqOe+q+/Fb9BQL1mBwOb8M X-Gm-Gg: ASbGncu4OFTEgeUTDAv/oN8JOQuo/LSr2tPlf8x5HYnwFef/Ub/az+MgtObm9SJKIoK 0B4UkPD+RQECM+yISxaaqzuqQXFXXkKDAse+0QhoPQniIW4anSJpFfSLt0WCZbj5/otEVWT3lHW R4St84z2otF1EYadJoyUVcMxo/fjQzVuNZgU1SwmkkGIbXr43OpJT72iZuOVA1wnHRCzNfyxqr0 0BsDVthhWqyBqFTdX754hf4HWcQs6Wa+uc/gxaghLvIzZjrpj6TKmV0qw8uuzmIfVSSTalLpoKR b53QwKy2mhW1Zc5Y7zjsEPSpEds0aJpGuWOTjJ1TEgMhQ7+Rz76hwDzuuAL4/tzfWnN0txbV962 s6I5Pbk/km6qgJoNUZFOrrEI999H0MD0= X-Google-Smtp-Source: AGHT+IEnZPHGwDVO6WsNJiX9WQaagb/KfQiwjtRR4pyhHoJbBiaqhYvzlwOWQcAZL5NE2UA0lFMKCWLC9Wbv X-Received: by 2002:a05:6102:cce:b0:552:aa04:c61 with SMTP id ada2fe7eead31-5d7dd6a44a3mr9373159137.23.1761301380224; Fri, 24 Oct 2025 03:23:00 -0700 (PDT) Received: from postal.iol.unh.edu (postal.iol.unh.edu. [132.177.123.84]) by smtp-relay.gmail.com with ESMTPS id ada2fe7eead31-5db2c763d74sm506695137.1.2025.10.24.03.23.00 (version=TLS1_2 cipher=ECDHE-ECDSA-AES128-GCM-SHA256 bits=128/128); Fri, 24 Oct 2025 03:23:00 -0700 (PDT) X-Relaying-Domain: iol.unh.edu Date: Fri, 24 Oct 2025 03:23:00 -0700 (PDT) Message-ID: <68fb5384.050a0220.37f351.9e8cSMTPIN_ADDED_MISSING@mx.google.com> Received: from [172.21.0.3] (unknown [172.18.0.240]) by postal.iol.unh.edu (Postfix) with ESMTP id C646E6051830; Fri, 24 Oct 2025 06:22:59 -0400 (EDT) Subject: |SUCCESS| pw158078 [PATCH] [v1,1/1] bus/pci: fix resource leak in se From: dpdklab@iol.unh.edu To: Test Report Cc: dpdk-test-reports@iol.unh.edu In-Reply-To: <54e4e95f31382c1bb3babee07c107f1e39dc9093.1761297496.git.anatoly.burakov@intel.com> References: <54e4e95f31382c1bb3babee07c107f1e39dc9093.1761297496.git.anatoly.burakov@intel.com> Content-Type: text/plain X-BeenThere: test-report@dpdk.org X-Mailman-Version: 2.1.29 Precedence: list List-Id: automatic DPDK test reports List-Unsubscribe: , List-Archive: List-Post: List-Help: List-Subscribe: , Errors-To: test-report-bounces@dpdk.org Test-Label: iol-unit-amd64-testing Test-Status: SUCCESS http://dpdk.org/patch/158078 _Testing PASS_ Submitter: Anatoly Burakov Date: Friday, October 24 2025 09:18:24 DPDK git baseline: Repo:dpdk Branch: master CommitID:6edcec237e31fcdb848cca6c151ee7a5bf057c28 158078 --> testing pass Upstream job id: Generic-Unit-Test-DPDK#384947 Test environment and result as below: +-------------------------------+----------------+ | Environment | dpdk_unit_test | +===============================+================+ | CentOS Stream 10 | PASS | +-------------------------------+----------------+ | Debian GNU/Linux 12 | PASS | +-------------------------------+----------------+ | Fedora Linux 40 | PASS | +-------------------------------+----------------+ | CentOS Stream 9 | PASS | +-------------------------------+----------------+ | Fedora Linux 41 | PASS | +-------------------------------+----------------+ | Fedora Linux 42 | PASS | +-------------------------------+----------------+ | Windows Server 2022 | PASS | +-------------------------------+----------------+ | Red Hat Enterprise Linux 9.5 | PASS | +-------------------------------+----------------+ | Ubuntu 22.04 | PASS | +-------------------------------+----------------+ | Ubuntu 24.04 | PASS | +-------------------------------+----------------+ | Ubuntu 20.04 | PASS | +-------------------------------+----------------+ | Red Hat Enterprise Linux 8.10 | PASS | +-------------------------------+----------------+ CentOS Stream 10 Kernel: 5.15 Compiler: gcc gcc (GCC) 14.2.1 20250110 (Red Hat 14.2.1-8) Debian GNU/Linux 12 Kernel: 5.15 Compiler: gcc gcc (Debian 12.2.0-14+deb12u1) 12.2.0 Fedora Linux 40 Kernel: 5.15 Compiler: gcc gcc (GCC) 14.2.1 20240912 (Red Hat 14.2.1-3) CentOS Stream 9 Kernel: 5.15 Compiler: gcc gcc (GCC) 11.5.0 20240719 (Red Hat 11.5.0-11) Fedora Linux 41 Kernel: 5.15 Compiler: clang gcc (GCC) 14.3.1 20250523 (Red Hat 14.3.1-1) Fedora Linux 42 Kernel: 5.15 Compiler: gcc gcc (GCC) 15.2.1 20250808 (Red Hat 15.2.1-1) Windows Server 2022 Kernel: 10.0.20348.2031 Compiler: clang 15.0.7, gcc 14.1.0 (MinGW), and MSVC VS 19.39.33521 Red Hat Enterprise Linux 9.5 Kernel: 5.15 Compiler: gcc gcc (GCC) 11.5.0 20240719 (Red Hat 11.5.0-2) Ubuntu 22.04 Kernel: 5.15 Compiler: gcc gcc (Ubuntu 11.4.0-1ubuntu1~22.04) 11.4.0 Ubuntu 24.04 Kernel: 5.15 Compiler: gcc gcc (Ubuntu 13.3.0-6ubuntu2~24.04) 13.3.0 Ubuntu 20.04 Kernel: 5.15 Compiler: gcc gcc (Ubuntu 9.4.0-1ubuntu1~20.04.2) 9.4.0 Red Hat Enterprise Linux 8.10 Kernel: 5.15 Compiler: gcc gcc (GCC) 8.5.0 20210514 (Red Hat 8.5.0-22) To view detailed results, visit: https://lab.dpdk.org/results/dashboard/patchsets/34371/ UNH-IOL DPDK Community Lab To manage your email subscriptions, visit: https://lab.dpdk.org/results/dashboard/preferences/subscriptions/