From: dpdklab@iol.unh.edu
To: Test Report <test-report@dpdk.org>
Cc: dpdk-test-reports@iol.unh.edu
Subject: |WARNING| pw158078 [PATCH] [v1,1/1] bus/pci: fix resource leak in se
Date: Fri, 24 Oct 2025 03:23:04 -0700 (PDT) [thread overview]
Message-ID: <68fb5388.050a0220.e59f9.3ec1SMTPIN_ADDED_MISSING@mx.google.com> (raw)
In-Reply-To: <54e4e95f31382c1bb3babee07c107f1e39dc9093.1761297496.git.anatoly.burakov@intel.com>
Test-Label: iol-sample-apps-testing
Test-Status: WARNING
http://dpdk.org/patch/158078
_Testing issues_
Submitter: Anatoly Burakov <anatoly.burakov@intel.com>
Date: Friday, October 24 2025 09:18:24
DPDK git baseline: Repo:dpdk
Branch: master
CommitID:6edcec237e31fcdb848cca6c151ee7a5bf057c28
158078 --> testing issues
Upstream job id: Template-DTS-Pipeline#251128
Test environment and result as below:
+--------------+----------------------+----------------------+
| Environment | dpdk_fips_validation | compressdev_zlib_pmd |
+==============+======================+======================+
| Ubuntu 20.04 | WARN | SKIPPED |
+--------------+----------------------+----------------------+
| Ubuntu 22.04 | SKIPPED | PASS |
+--------------+----------------------+----------------------+
==== 20 line log output for Ubuntu 20.04 (dpdk_fips_validation): ====
Traceback (most recent call last):
File "/dpdk-ci/tools/acvp/acvp_tool.py", line 368, in <module>
main(
File "/dpdk-ci/tools/acvp/acvp_tool.py", line 314, in main
with open(response_path, 'r') as upload_file:
FileNotFoundError: [Errno 2] No such file or directory: '/root/workspace/ACVP-FIPS-testing/out/hmac-sha-1-answers.rsp'
INFO:root:Using response file...
Traceback (most recent call last):
File "/dpdk-ci/tools/acvp/acvp_tool.py", line 368, in <module>
main(
File "/dpdk-ci/tools/acvp/acvp_tool.py", line 314, in main
with open(response_path, 'r') as upload_file:
FileNotFoundError: [Errno 2] No such file or directory: '/root/workspace/ACVP-FIPS-testing/out/acvp-tdes-cbc-answers.rsp'
INFO:root:Using response file...
Traceback (most recent call last):
File "/dpdk-ci/tools/acvp/acvp_tool.py", line 368, in <module>
main(
File "/dpdk-ci/tools/acvp/acvp_tool.py", line 314, in main
with open(response_path, 'r') as upload_file:
FileNotFoundError: [Errno 2] No such file or directory: '/root/workspace/ACVP-FIPS-testing/out/acvp-aes-ctr-answers.rsp'
==== End log output ====
Ubuntu 20.04
Kernel: 5.15
Compiler: gcc gcc (Ubuntu 9.4.0-1ubuntu1~20.04.2) 9.4.0
Ubuntu 22.04
Kernel: 5.15
Compiler: gcc gcc (Ubuntu 11.4.0-1ubuntu1~22.04.2) 11.4.0
To view detailed results, visit:
https://lab.dpdk.org/results/dashboard/patchsets/34371/
UNH-IOL DPDK Community Lab
To manage your email subscriptions, visit:
https://lab.dpdk.org/results/dashboard/preferences/subscriptions/
next prev parent reply other threads:[~2025-10-24 10:23 UTC|newest]
Thread overview: 23+ messages / expand[flat|nested] mbox.gz Atom feed top
[not found] <54e4e95f31382c1bb3babee07c107f1e39dc9093.1761297496.git.anatoly.burakov@intel.com>
2025-10-24 8:49 ` |SUCCESS| pw158078 [PATCH v1 1/1] bus/pci: fix resource leak in secondary process qemudev
2025-10-24 8:54 ` qemudev
2025-10-24 9:19 ` checkpatch
2025-10-24 9:40 ` |PENDING| pw158078 [PATCH] [v1,1/1] bus/pci: fix resource leak in se dpdklab
2025-10-24 9:44 ` |SUCCESS| " dpdklab
2025-10-24 9:47 ` dpdklab
2025-10-24 9:49 ` |PENDING| " dpdklab
2025-10-24 9:51 ` |WARNING| " dpdklab
2025-10-24 9:52 ` dpdklab
2025-10-24 10:00 ` |SUCCESS| " dpdklab
2025-10-24 10:03 ` dpdklab
2025-10-24 10:05 ` dpdklab
2025-10-24 10:05 ` dpdklab
2025-10-24 10:05 ` dpdklab
2025-10-24 10:05 ` dpdklab
2025-10-24 10:23 ` dpdklab
2025-10-24 10:23 ` dpdklab [this message]
2025-10-24 10:45 ` dpdklab
2025-10-24 11:00 ` |SUCCESS| pw158078 [PATCH v1 1/1] bus/pci: fix resource leak in secondary process 0-day Robot
2025-10-24 11:00 ` 0-day Robot
2025-10-25 8:21 ` |PENDING| pw158078 [PATCH] [v1,1/1] bus/pci: fix resource leak in se dpdklab
2025-10-25 10:31 ` |WARNING| " dpdklab
2025-10-25 18:16 ` |SUCCESS| " dpdklab
Reply instructions:
You may reply publicly to this message via plain-text email
using any one of the following methods:
* Save the following mbox file, import it into your mail client,
and reply-to-all from there: mbox
Avoid top-posting and favor interleaved quoting:
https://en.wikipedia.org/wiki/Posting_style#Interleaved_style
* Reply using the --to, --cc, and --in-reply-to
switches of git-send-email(1):
git send-email \
--in-reply-to=68fb5388.050a0220.e59f9.3ec1SMTPIN_ADDED_MISSING@mx.google.com \
--to=dpdklab@iol.unh.edu \
--cc=dpdk-test-reports@iol.unh.edu \
--cc=test-report@dpdk.org \
/path/to/YOUR_REPLY
https://kernel.org/pub/software/scm/git/docs/git-send-email.html
* If your mail client supports setting the In-Reply-To header
via mailto: links, try the mailto: link
Be sure your reply has a Subject: header at the top and a blank line
before the message body.
This is a public inbox, see mirroring instructions
for how to clone and mirror all data and code used for this inbox;
as well as URLs for NNTP newsgroup(s).