automatic DPDK test reports
 help / color / mirror / Atom feed
From: dpdklab@iol.unh.edu
To: Test Report <test-report@dpdk.org>
Cc: dpdk-test-reports@iol.unh.edu
Subject: |WARNING| pw158079-158080 [PATCH] [v1,2/2] bus/cdx: fix incorrect de
Date: Fri, 24 Oct 2025 03:31:15 -0700 (PDT)	[thread overview]
Message-ID: <68fb5573.050a0220.adf45.3a43SMTPIN_ADDED_MISSING@mx.google.com> (raw)
In-Reply-To: <05ecc81aefbbe2073416c0e78aed926ec9ad54b5.1761299581.git.anatoly.burakov@intel.com>

Test-Label: iol-sample-apps-testing
Test-Status: WARNING
http://dpdk.org/patch/158080

_Testing issues_

Submitter: Anatoly Burakov <anatoly.burakov@intel.com>
Date: Friday, October 24 2025 09:53:10 
DPDK git baseline: Repo:dpdk
  Branch: master
  CommitID:6edcec237e31fcdb848cca6c151ee7a5bf057c28

158079-158080 --> testing issues

Upstream job id: Template-DTS-Pipeline#251143

Test environment and result as below:

+--------------+----------------------+----------------------+
| Environment  | dpdk_fips_validation | compressdev_zlib_pmd |
+==============+======================+======================+
| Ubuntu 20.04 | WARN                 | SKIPPED              |
+--------------+----------------------+----------------------+
| Ubuntu 22.04 | SKIPPED              | PASS                 |
+--------------+----------------------+----------------------+

==== 20 line log output for Ubuntu 20.04 (dpdk_fips_validation): ====
Traceback (most recent call last):
File "/dpdk-ci/tools/acvp/acvp_tool.py", line 368, in <module>
main(
File "/dpdk-ci/tools/acvp/acvp_tool.py", line 314, in main
with open(response_path, 'r') as upload_file:
FileNotFoundError: [Errno 2] No such file or directory: '/root/workspace/ACVP-FIPS-testing/out/hmac-sha-1-answers.rsp'
INFO:root:Using response file...
Traceback (most recent call last):
File "/dpdk-ci/tools/acvp/acvp_tool.py", line 368, in <module>
main(
File "/dpdk-ci/tools/acvp/acvp_tool.py", line 314, in main
with open(response_path, 'r') as upload_file:
FileNotFoundError: [Errno 2] No such file or directory: '/root/workspace/ACVP-FIPS-testing/out/acvp-tdes-cbc-answers.rsp'
INFO:root:Using response file...
Traceback (most recent call last):
File "/dpdk-ci/tools/acvp/acvp_tool.py", line 368, in <module>
main(
File "/dpdk-ci/tools/acvp/acvp_tool.py", line 314, in main
with open(response_path, 'r') as upload_file:
FileNotFoundError: [Errno 2] No such file or directory: '/root/workspace/ACVP-FIPS-testing/out/acvp-aes-ctr-answers.rsp'
==== End log output ====

Ubuntu 20.04
	Kernel: 5.15
	Compiler: gcc gcc (Ubuntu 9.4.0-1ubuntu1~20.04.2) 9.4.0

Ubuntu 22.04
	Kernel: 5.15
	Compiler: gcc gcc (Ubuntu 11.4.0-1ubuntu1~22.04.2) 11.4.0

To view detailed results, visit:
https://lab.dpdk.org/results/dashboard/patchsets/34372/

UNH-IOL DPDK Community Lab

To manage your email subscriptions, visit: 
https://lab.dpdk.org/results/dashboard/preferences/subscriptions/

  parent reply	other threads:[~2025-10-24 10:31 UTC|newest]

Thread overview: 25+ messages / expand[flat|nested]  mbox.gz  Atom feed  top
     [not found] <05ecc81aefbbe2073416c0e78aed926ec9ad54b5.1761299581.git.anatoly.burakov@intel.com>
2025-10-24  9:19 ` |SUCCESS| pw158079-158080 [PATCH v1 2/2] bus/cdx: fix incorrect device release on error qemudev
2025-10-24  9:24 ` qemudev
2025-10-24  9:53 ` |SUCCESS| pw158080 " checkpatch
2025-10-24 10:18 ` |PENDING| pw158079-158080 [PATCH] [v1,2/2] bus/cdx: fix incorrect de dpdklab
2025-10-24 10:21 ` dpdklab
2025-10-24 10:23 ` |SUCCESS| " dpdklab
2025-10-24 10:27 ` dpdklab
2025-10-24 10:30 ` |WARNING| " dpdklab
2025-10-24 10:31 ` |PENDING| " dpdklab
2025-10-24 10:31 ` dpdklab [this message]
2025-10-24 10:39 ` |SUCCESS| " dpdklab
2025-10-24 10:42 ` dpdklab
2025-10-24 10:42 ` dpdklab
2025-10-24 10:44 ` dpdklab
2025-10-24 10:44 ` dpdklab
2025-10-24 10:48 ` dpdklab
2025-10-24 10:55 ` dpdklab
2025-10-24 11:00 ` |SUCCESS| pw158080 [PATCH v1 2/2] bus/cdx: fix incorrect device release on error 0-day Robot
2025-10-24 11:00 ` 0-day Robot
2025-10-24 11:08 ` |WARNING| pw158079-158080 [PATCH] [v1,2/2] bus/cdx: fix incorrect de dpdklab
2025-10-24 11:14 ` |SUCCESS| " dpdklab
2025-10-25 10:01 ` |PENDING| " dpdklab
2025-10-25 10:47 ` |WARNING| " dpdklab
2025-10-25 11:29 ` dpdklab
2025-10-25 18:16 ` |SUCCESS| " dpdklab

Reply instructions:

You may reply publicly to this message via plain-text email
using any one of the following methods:

* Save the following mbox file, import it into your mail client,
  and reply-to-all from there: mbox

  Avoid top-posting and favor interleaved quoting:
  https://en.wikipedia.org/wiki/Posting_style#Interleaved_style

* Reply using the --to, --cc, and --in-reply-to
  switches of git-send-email(1):

  git send-email \
    --in-reply-to=68fb5573.050a0220.adf45.3a43SMTPIN_ADDED_MISSING@mx.google.com \
    --to=dpdklab@iol.unh.edu \
    --cc=dpdk-test-reports@iol.unh.edu \
    --cc=test-report@dpdk.org \
    /path/to/YOUR_REPLY

  https://kernel.org/pub/software/scm/git/docs/git-send-email.html

* If your mail client supports setting the In-Reply-To header
  via mailto: links, try the mailto: link
Be sure your reply has a Subject: header at the top and a blank line before the message body.
This is a public inbox, see mirroring instructions
for how to clone and mirror all data and code used for this inbox;
as well as URLs for NNTP newsgroup(s).