From mboxrd@z Thu Jan 1 00:00:00 1970 Return-Path: Received: from mails.dpdk.org (mails.dpdk.org [217.70.189.124]) by inbox.dpdk.org (Postfix) with ESMTP id 01597489C4 for ; Fri, 24 Oct 2025 12:48:16 +0200 (CEST) Received: from mails.dpdk.org (localhost [127.0.0.1]) by mails.dpdk.org (Postfix) with ESMTP id D4B5E4025E; Fri, 24 Oct 2025 12:48:16 +0200 (CEST) Received: from mail-pl1-f227.google.com (mail-pl1-f227.google.com [209.85.214.227]) by mails.dpdk.org (Postfix) with ESMTP id EDE394025E for ; Fri, 24 Oct 2025 12:48:15 +0200 (CEST) Received: by mail-pl1-f227.google.com with SMTP id d9443c01a7336-27d3540a43fso18907455ad.3 for ; Fri, 24 Oct 2025 03:48:15 -0700 (PDT) DKIM-Signature: v=1; a=rsa-sha256; c=relaxed/relaxed; d=iol.unh.edu; s=unh-iol; t=1761302895; x=1761907695; darn=dpdk.org; h=references:in-reply-to:cc:to:from:subject:message-id:date:from:to :cc:subject:date:message-id:reply-to; bh=Seqeq8OxwOg5V9jc8QXtdBTmVVYqA639pKJ8+CX6szs=; b=WnMn1aaN6Czi5ulrXd0TalGnLTRj9q6rcNtHQ4I9as8RoTsG/RTOBvRd5cSiFOm5XD WLn1EGA2Kq4hMSdpwvZqOgI2h8Wvtq9fOHTbM0l1zZ3SeHBYUo7Imee/QZrWVjZM2eyP Hdu0q/p4An4MZqEeD3UHeEvOOd5npNctPLkNM= X-Google-DKIM-Signature: v=1; a=rsa-sha256; c=relaxed/relaxed; d=1e100.net; s=20230601; t=1761302895; x=1761907695; h=references:in-reply-to:cc:to:from:subject:message-id:date :x-gm-message-state:from:to:cc:subject:date:message-id:reply-to; bh=Seqeq8OxwOg5V9jc8QXtdBTmVVYqA639pKJ8+CX6szs=; b=ZHh82My7GLajIv/UYfx5tL/c8DuvEsC0HPVID52Ok+hCddrn/azzjj24X7sVsC+OT1 hyac2NhdYLKZQFFXWH+hoA/yHvAj/RW0hI7pLcn5HyxXH3th2fM4Qc8eWs3dNfNt2G8N LjmbbRcxOar29UfHOHJb2ABUzywX2CsRupUCbqmK7ghBe/YKtr6BvVSn3yu+RyoaSnVb KjjlE1EkzMmrtgO950GOnTBWpX78+GllRvS5vJ2yWVlFQUFZuU1yUUIvS0Sjimdl/kOc I+vURALdwEm0FyRbnCYUsWIiZt5DGQF3FLuEsPVwaFTpI8w0BjhcbQd6VI6zC1ND5UkB YGbQ== X-Gm-Message-State: AOJu0YxYPJkAduG105iQ9r2EWClFsKvASpxrv+NROaua9JN4QSX9UZth ifASKEfJnTIhlSOr0cqis+eAxUJHH7nXgml5vNY2w7UnY+2Hm5k7kJdlW17MCXG1ycQL4RdhCp3 Mfkm44mVXUGYvTPxKeenHU4MuLMnYLmPpR+B5GdTnhvKZAsROXlDBRUzNPBYP X-Gm-Gg: ASbGncu628R+DzeHYRBw+dEUGW+Mzp8FCPq5zATSGlnuVq00xgQfHc0cCSm0mRCve+U 6gk2zmVEcseuqmbhcRElErqVGFi6lZTw44GHnL1vZaFquq5BLbzIt/24/bBYd/HLkIDFtr3CBCF kqhxv087JEA02UHTwKk8KDY3r32ljeOjC09vd2/HT0PDbeGePltuR9uisQuT+7CM4VEAoAzzAmH UZFSDZJsiVISSKXH03WbV0HACAlgd0CXo1rZUPaLgQ94p8H8VtwXnjcxqNIdbY/Ls+UVxPNIu+0 eAbgQ2J0xyNI3lN2V8z+Inj9s3wMaEaeoNdxIkIJ7K2QKYJ9kjqUH+C+tHs6FSgIiArMW3O3W6G wdS+nzDj/ X-Google-Smtp-Source: AGHT+IFU4ul0jC1Kgxesp/Lj4v/RZBIcYnTHWcGu5tu87npQqsGlD/mUp+anYeAygwWXsz2phTD6Drg00WBk X-Received: by 2002:a17:903:94e:b0:290:533b:25c9 with SMTP id d9443c01a7336-290c9c8ae4dmr313660295ad.2.1761302895047; Fri, 24 Oct 2025 03:48:15 -0700 (PDT) Received: from postal.iol.unh.edu (postal.iol.unh.edu. [2606:4100:3880:1234::84]) by smtp-relay.gmail.com with ESMTPS id d9443c01a7336-2946dfd068dsm4929215ad.55.2025.10.24.03.48.14 (version=TLS1_2 cipher=ECDHE-ECDSA-AES128-GCM-SHA256 bits=128/128); Fri, 24 Oct 2025 03:48:15 -0700 (PDT) X-Relaying-Domain: iol.unh.edu Date: Fri, 24 Oct 2025 03:48:15 -0700 (PDT) Message-ID: <68fb596f.170a0220.2ec2b4.8b1fSMTPIN_ADDED_MISSING@mx.google.com> Received: from [172.21.0.2] (unknown [172.18.0.240]) by postal.iol.unh.edu (Postfix) with ESMTP id 760CB6051830; Fri, 24 Oct 2025 06:48:14 -0400 (EDT) Subject: |SUCCESS| pw158079-158080 [PATCH] [v1,2/2] bus/cdx: fix incorrect de From: dpdklab@iol.unh.edu To: Test Report Cc: dpdk-test-reports@iol.unh.edu In-Reply-To: <05ecc81aefbbe2073416c0e78aed926ec9ad54b5.1761299581.git.anatoly.burakov@intel.com> References: <05ecc81aefbbe2073416c0e78aed926ec9ad54b5.1761299581.git.anatoly.burakov@intel.com> Content-Type: text/plain X-BeenThere: test-report@dpdk.org X-Mailman-Version: 2.1.29 Precedence: list List-Id: automatic DPDK test reports List-Unsubscribe: , List-Archive: List-Post: List-Help: List-Subscribe: , Errors-To: test-report-bounces@dpdk.org Test-Label: iol-unit-amd64-testing Test-Status: SUCCESS http://dpdk.org/patch/158080 _Testing PASS_ Submitter: Anatoly Burakov Date: Friday, October 24 2025 09:53:10 DPDK git baseline: Repo:dpdk Branch: master CommitID:6edcec237e31fcdb848cca6c151ee7a5bf057c28 158079-158080 --> testing pass Upstream job id: Generic-Unit-Test-DPDK#384989 Test environment and result as below: +-------------------------------+----------------+ | Environment | dpdk_unit_test | +===============================+================+ | CentOS Stream 10 | PASS | +-------------------------------+----------------+ | CentOS Stream 9 | PASS | +-------------------------------+----------------+ | Fedora Linux 40 | PASS | +-------------------------------+----------------+ | Debian GNU/Linux 12 | PASS | +-------------------------------+----------------+ | Fedora Linux 41 | PASS | +-------------------------------+----------------+ | Red Hat Enterprise Linux 8.10 | PASS | +-------------------------------+----------------+ | Fedora Linux 42 | PASS | +-------------------------------+----------------+ | Red Hat Enterprise Linux 9.5 | PASS | +-------------------------------+----------------+ | Ubuntu 20.04 | PASS | +-------------------------------+----------------+ | Ubuntu 24.04 | PASS | +-------------------------------+----------------+ | Ubuntu 22.04 | PASS | +-------------------------------+----------------+ | Windows Server 2022 | PASS | +-------------------------------+----------------+ CentOS Stream 10 Kernel: 5.15 Compiler: gcc gcc (GCC) 14.2.1 20250110 (Red Hat 14.2.1-8) CentOS Stream 9 Kernel: 5.15 Compiler: gcc gcc (GCC) 11.5.0 20240719 (Red Hat 11.5.0-11) Fedora Linux 40 Kernel: 5.15 Compiler: gcc gcc (GCC) 14.2.1 20240912 (Red Hat 14.2.1-3) Debian GNU/Linux 12 Kernel: 5.15 Compiler: gcc gcc (Debian 12.2.0-14+deb12u1) 12.2.0 Fedora Linux 41 Kernel: 5.15 Compiler: gcc gcc (GCC) 14.3.1 20250523 (Red Hat 14.3.1-1) Red Hat Enterprise Linux 8.10 Kernel: 5.15 Compiler: gcc gcc (GCC) 8.5.0 20210514 (Red Hat 8.5.0-22) Fedora Linux 42 Kernel: 5.15 Compiler: clang gcc (GCC) 15.2.1 20250808 (Red Hat 15.2.1-1) Red Hat Enterprise Linux 9.5 Kernel: 5.15 Compiler: gcc gcc (GCC) 11.5.0 20240719 (Red Hat 11.5.0-2) Ubuntu 20.04 Kernel: 5.15 Compiler: gcc gcc (Ubuntu 9.4.0-1ubuntu1~20.04.2) 9.4.0 Ubuntu 24.04 Kernel: 5.15 Compiler: gcc gcc (Ubuntu 13.3.0-6ubuntu2~24.04) 13.3.0 Ubuntu 22.04 Kernel: 5.15 Compiler: gcc gcc (Ubuntu 11.4.0-1ubuntu1~22.04) 11.4.0 Windows Server 2022 Kernel: 10.0.20348.2031 Compiler: clang 15.0.7, gcc 14.1.0 (MinGW), and MSVC VS 19.39.33521 To view detailed results, visit: https://lab.dpdk.org/results/dashboard/patchsets/34372/ UNH-IOL DPDK Community Lab To manage your email subscriptions, visit: https://lab.dpdk.org/results/dashboard/preferences/subscriptions/