From mboxrd@z Thu Jan 1 00:00:00 1970 Return-Path: Received: from mails.dpdk.org (mails.dpdk.org [217.70.189.124]) by inbox.dpdk.org (Postfix) with ESMTP id 2F4E4489C5 for ; Fri, 24 Oct 2025 14:46:15 +0200 (CEST) Received: from mails.dpdk.org (localhost [127.0.0.1]) by mails.dpdk.org (Postfix) with ESMTP id 2B21B40150; Fri, 24 Oct 2025 14:46:15 +0200 (CEST) Received: from mail-pj1-f98.google.com (mail-pj1-f98.google.com [209.85.216.98]) by mails.dpdk.org (Postfix) with ESMTP id 3D0EA40150 for ; Fri, 24 Oct 2025 14:46:14 +0200 (CEST) Received: by mail-pj1-f98.google.com with SMTP id 98e67ed59e1d1-3327f8ed081so2655505a91.1 for ; Fri, 24 Oct 2025 05:46:14 -0700 (PDT) DKIM-Signature: v=1; a=rsa-sha256; c=relaxed/relaxed; d=iol.unh.edu; s=unh-iol; t=1761309973; x=1761914773; darn=dpdk.org; h=references:in-reply-to:cc:to:from:subject:message-id:date:from:to :cc:subject:date:message-id:reply-to; bh=cKNWuFaOnBdHyQUjrUeNifqdhbfjGf02gfj2Mff2iq0=; b=fGJ7nAsG/fLNoPHZol5BeiFid0tBuTByDBpyzkwDjBwrNOkjs6abDdjtjQxS9siJky tgzv+J1NP0QCAEIQzdWeylBxQTUdfH2VfJ0swMBTJSumDKBg4sWL5zfEwQ30nNnOAxPm fExJnblKy5vdQMzQvIwu462P0WS1OpkwsDEiQ= X-Google-DKIM-Signature: v=1; a=rsa-sha256; c=relaxed/relaxed; d=1e100.net; s=20230601; t=1761309973; x=1761914773; h=references:in-reply-to:cc:to:from:subject:message-id:date :x-gm-message-state:from:to:cc:subject:date:message-id:reply-to; bh=cKNWuFaOnBdHyQUjrUeNifqdhbfjGf02gfj2Mff2iq0=; b=DF2z/K8TxAKnrFCB739PCeXGJD7TkdVywInrp32vOk/Z9yIUEhZINRhDVKHZuGmTHz RvC2ew+CdciEJG+IN5K/vRKTTI7gOThZuamMkfZut4jUmP7ZALa3bazTcxGizaP5fuKT 9ifKvpdtknMJTpFj1gjTOuZncF5N+SxjPd+4KsSCMRElU7w0yjEb5yYEP56LrU/9N9aR PxgmlDszzTJ7gG14u2sZ3LKZbtZOCNdGr9XP/rLSKfvVvgG56DDTuwXuOW8+3MaHZDQ6 N2xtBJx0ffMtwtd4NECGi+qqrH+XlMqfhwvZsvQzGkKqYg8ayN7VHPl291WyH+C8Kcsl PYUA== X-Gm-Message-State: AOJu0Yx9TWoyyxFVIpI0KtA+yBGO5faWBYlzZ3CspWAZKB2M1fRRI2jY a6vQ3fLHpv/ZaPUmf+uYs4srkhd1XH1Ci1Rxj2GhmpsYqE2neF00ttOlHaxxHLJUqlFxtELpp/B ofX/+5b+rfBGcMDW5zPmlRynmTzyicwBvXCKt7NUm6bfeYG/GusS01C33C50p X-Gm-Gg: ASbGncsg0g8TDBY5H1cZ3tH8ny6vB6VUZmiNngDDNFegD7vKKphHuRJAKax37wGoxg4 VzfrzV/fyV6MYwLjTFx4HFT/wQ2Nwbs1fAIbykKxXyCtmEaDxaYkGi2DF/G6uajue1aDUNoldBN sW3YUTK57fSGHnmwmnJLp/3CTe6z1gn1QXx4SZkm4gbASkp/M5U/7ZNH29DVOi3HmFA0BPpjzff pgL9pv9X/MQcsU7QSoCQL4dN6R8hLXnQHrLtuuQz2/3p8qrFx3zyGG2rHfROwBH+eAZCQvxgfdU Aoy1nJ0ua1eTt27NgcSpgwL0t2kWm7bcdIxFo4xp7CkJWAd1Nv4sUXqPlW4MPxrWFSh1X3w1q7T KVnsczkSk X-Google-Smtp-Source: AGHT+IHH1hc/CBDLxXcCVRCRsHzsYklZKjcpAjRZ7Zo8BKd54QPSt8WxpmYwYQB27vkZHtS4tntsroluIWhX X-Received: by 2002:a17:90b:1c0d:b0:32e:70f5:6988 with SMTP id 98e67ed59e1d1-33bcf90c0b5mr30977647a91.32.1761309973336; Fri, 24 Oct 2025 05:46:13 -0700 (PDT) Received: from postal.iol.unh.edu (postal.iol.unh.edu. [2606:4100:3880:1234::84]) by smtp-relay.gmail.com with ESMTPS id 41be03b00d2f7-b6cf4b933d8sm351750a12.2.2025.10.24.05.46.13 (version=TLS1_2 cipher=ECDHE-ECDSA-AES128-GCM-SHA256 bits=128/128); Fri, 24 Oct 2025 05:46:13 -0700 (PDT) X-Relaying-Domain: iol.unh.edu Date: Fri, 24 Oct 2025 05:46:13 -0700 (PDT) Message-ID: <68fb7515.050a0220.925e3.225dSMTPIN_ADDED_MISSING@mx.google.com> Received: from [172.21.0.3] (unknown [172.18.0.240]) by postal.iol.unh.edu (Postfix) with ESMTP id 879686050A61; Fri, 24 Oct 2025 08:46:12 -0400 (EDT) Subject: |SUCCESS| pw158081-158084 [PATCH] [v1,4/4] doc: add PTP IDPF documen From: dpdklab@iol.unh.edu To: Test Report Cc: dpdk-test-reports@iol.unh.edu, Bruce Richardson In-Reply-To: <20251024120840.420016-5-soumyadeep.hore@intel.com> References: <20251024120840.420016-5-soumyadeep.hore@intel.com> Content-Type: text/plain X-BeenThere: test-report@dpdk.org X-Mailman-Version: 2.1.29 Precedence: list List-Id: automatic DPDK test reports List-Unsubscribe: , List-Archive: List-Post: List-Help: List-Subscribe: , Errors-To: test-report-bounces@dpdk.org Test-Label: iol-compile-amd64-testing Test-Status: SUCCESS http://dpdk.org/patch/158084 _Testing PASS_ Submitter: Soumyadeep Hore Date: Friday, October 24 2025 12:08:40 DPDK git baseline: Repo:dpdk-next-net-intel Branch: master CommitID:6b997d6b9ffdbb4f8ecd14d1f217da69cdc783af 158081-158084 --> testing pass Upstream job id: Windows-Compile-DPDK-Native#31872 Test environment and result as below: +---------------------+--------------------+-------------------------+-------------------+----------------------+ | Environment | dpdk_meson_compile | dpdk_llvm_clang_compile | dpdk_msvc_compile | dpdk_mingw64_compile | +=====================+====================+=========================+===================+======================+ | Ubuntu 20.04 | PASS | SKIPPED | SKIPPED | SKIPPED | +---------------------+--------------------+-------------------------+-------------------+----------------------+ | FreeBSD 14.2 | PASS | SKIPPED | SKIPPED | SKIPPED | +---------------------+--------------------+-------------------------+-------------------+----------------------+ | Windows Server 2022 | SKIPPED | PASS | PASS | PASS | +---------------------+--------------------+-------------------------+-------------------+----------------------+ Ubuntu 20.04 Kernel: 4.19 Compiler: gcc gcc (Ubuntu 9.4.0-1ubuntu1~20.04.2) 9.4.0 FreeBSD 14.2 Kernel: 14.2-RELEASE Compiler: clang 18.1.6 Windows Server 2022 Kernel: 10.0.20348.2031 Compiler: clang 15.0.7, gcc 14.1.0 (MinGW), and MSVC VS 19.39.33521 To view detailed results, visit: https://lab.dpdk.org/results/dashboard/patchsets/34373/ UNH-IOL DPDK Community Lab To manage your email subscriptions, visit: https://lab.dpdk.org/results/dashboard/preferences/subscriptions/