From mboxrd@z Thu Jan 1 00:00:00 1970 Return-Path: Received: from mails.dpdk.org (mails.dpdk.org [217.70.189.124]) by inbox.dpdk.org (Postfix) with ESMTP id 841BE489C5 for ; Fri, 24 Oct 2025 15:24:05 +0200 (CEST) Received: from mails.dpdk.org (localhost [127.0.0.1]) by mails.dpdk.org (Postfix) with ESMTP id 5EE4440150; Fri, 24 Oct 2025 15:24:05 +0200 (CEST) Received: from mail-pf1-f225.google.com (mail-pf1-f225.google.com [209.85.210.225]) by mails.dpdk.org (Postfix) with ESMTP id E6FD840150 for ; Fri, 24 Oct 2025 15:24:04 +0200 (CEST) Received: by mail-pf1-f225.google.com with SMTP id d2e1a72fcca58-78af743c232so2026592b3a.1 for ; Fri, 24 Oct 2025 06:24:04 -0700 (PDT) DKIM-Signature: v=1; a=rsa-sha256; c=relaxed/relaxed; d=iol.unh.edu; s=unh-iol; t=1761312244; x=1761917044; darn=dpdk.org; h=references:in-reply-to:cc:to:from:subject:message-id:date:from:to :cc:subject:date:message-id:reply-to; bh=Kzt8sm1IQQlEin6asDMPf/vcDULQtCKa1IZANB7j6lo=; b=EUGAwWItxGEv69TOgDsl7jDjMpJQcvJqHybJAmsHMFoLZ8xN5a/RhYIXJP5aZgDE4k Zwss+hA7qzONkY3lZaNbnzscYu7C6XnwtV51frZcMN7cQpsQOY92CFS+rylqp/VcuTEp KKBiVOuTUl1mPcoO99wixXh8uQyGE57c9GXKU= X-Google-DKIM-Signature: v=1; a=rsa-sha256; c=relaxed/relaxed; d=1e100.net; s=20230601; t=1761312244; x=1761917044; h=references:in-reply-to:cc:to:from:subject:message-id:date :x-gm-message-state:from:to:cc:subject:date:message-id:reply-to; bh=Kzt8sm1IQQlEin6asDMPf/vcDULQtCKa1IZANB7j6lo=; b=QuHnCJFu/B7ac/oH2TTCiDhOoxzmYKqvS0a8xcjyKeejWj6s7wqAsOgK8xZPBaLRMB ums0F4judQJVbL/Ckc2OojRn1ecJVRqe1gf+9hOyEUiEekXbTvq5lbWZh5FdO1JlAX5M zLZWHSYzrDLJs/y+j/twm8qbVG8tYdmxd/BeEi8fWB0ROKeWLFi4EjKX4kAW1K5xz8ge Pm8SquojqDmFtzh8LY7AFDFAOiSRb4zqOM7DEH7GcCKp3hHzt/Qu+zkhPg65sUdsYPGL z5CKMIdnyn/w7ziHhJmqwAOF0nlImzXd8+0Q9/qbVtSnn88it+4BS7QskHs+elvu/fUU E6lw== X-Gm-Message-State: AOJu0YwxkwXXBahWpMUqUnl6H+32GFM6Ly4514XRtklwZKx/9i7A7tBR LOhcWjpwYFVngoo1QNah9g/7tVWfq8Vc+ZcZ6Kvm/zD9VW2E6b0hfCiOVcVvYmPHaJJf3rfg0er KDAa9Ej435y2L5TOkXFTBGOuOqaTHT9vked+NA2o3C2X0 X-Gm-Gg: ASbGncsix+8YmJe9jvbMLz9l23tXEnSg/wGm942XXW7YrxqrK2+jUf0fuAFm2Xs2kCr 31Fo648FGVE2PL7d22u0xIHPm2fw7dC9qUL0ZWbBHoKgtKtm0/nMPWeaNOvthwHv8qc/ypHWfhn ODoyI0riGGF8g97+8ccAHEMOP3Yy94wAspD5ADd1aha8S7wk/il96ePOoYEjS5y5hNeCaBasips hJOOxRm8xuURAIoWQG6Y1Ni+QHcnLMYFhS/c69eeV+mli3D8ZKCQXPxrCsZ3KEC6oRuse4hxeoh OGncgpJl3O0mecGm5u1c2jng+m6fICuug6e5bupT+/KhRTeu6EAgt/ENEqBVVXnrWYpTG2JQ8+J lM90vONDeL9R7shY7viCNcZw6Wq1xLbU= X-Google-Smtp-Source: AGHT+IGOrZiDOb7VKo0CSembS9swOVzWzv93jcJdgAtO7b5bMN9n3eSZQC7OdY6MzRq/wEYGQ2HuU+4D8arB X-Received: by 2002:a05:6a00:189f:b0:7a2:7811:55c2 with SMTP id d2e1a72fcca58-7a28685edd5mr2954563b3a.24.1761312243911; Fri, 24 Oct 2025 06:24:03 -0700 (PDT) Received: from postal.iol.unh.edu (postal.iol.unh.edu. [132.177.123.84]) by smtp-relay.gmail.com with ESMTPS id d2e1a72fcca58-7a274b40fb3sm434167b3a.10.2025.10.24.06.24.03 (version=TLS1_2 cipher=ECDHE-ECDSA-AES128-GCM-SHA256 bits=128/128); Fri, 24 Oct 2025 06:24:03 -0700 (PDT) X-Relaying-Domain: iol.unh.edu Date: Fri, 24 Oct 2025 06:24:03 -0700 (PDT) Message-ID: <68fb7df3.050a0220.1c13a0.7eb7SMTPIN_ADDED_MISSING@mx.google.com> Received: from [172.21.0.2] (unknown [172.18.0.240]) by postal.iol.unh.edu (Postfix) with ESMTP id 79023604D420; Fri, 24 Oct 2025 09:24:02 -0400 (EDT) Subject: |SUCCESS| pw158081-158084 [PATCH] [v1,4/4] doc: add PTP IDPF documen From: dpdklab@iol.unh.edu To: Test Report Cc: dpdk-test-reports@iol.unh.edu, Bruce Richardson In-Reply-To: <20251024120840.420016-5-soumyadeep.hore@intel.com> References: <20251024120840.420016-5-soumyadeep.hore@intel.com> Content-Type: text/plain X-BeenThere: test-report@dpdk.org X-Mailman-Version: 2.1.29 Precedence: list List-Id: automatic DPDK test reports List-Unsubscribe: , List-Archive: List-Post: List-Help: List-Subscribe: , Errors-To: test-report-bounces@dpdk.org Test-Label: iol-unit-amd64-testing Test-Status: SUCCESS http://dpdk.org/patch/158084 _Testing PASS_ Submitter: Soumyadeep Hore Date: Friday, October 24 2025 12:08:40 DPDK git baseline: Repo:dpdk-next-net-intel Branch: master CommitID:6b997d6b9ffdbb4f8ecd14d1f217da69cdc783af 158081-158084 --> testing pass Upstream job id: Generic-Unit-Test-DPDK#385018 Test environment and result as below: +-------------------------------+----------------+ | Environment | dpdk_unit_test | +===============================+================+ | CentOS Stream 9 | PASS | +-------------------------------+----------------+ | Debian GNU/Linux 12 | PASS | +-------------------------------+----------------+ | Fedora Linux 40 | PASS | +-------------------------------+----------------+ | Fedora Linux 41 | PASS | +-------------------------------+----------------+ | Fedora Linux 42 | PASS | +-------------------------------+----------------+ | CentOS Stream 10 | PASS | +-------------------------------+----------------+ | Red Hat Enterprise Linux 8.10 | PASS | +-------------------------------+----------------+ | Ubuntu 20.04 | PASS | +-------------------------------+----------------+ | Ubuntu 24.04 | PASS | +-------------------------------+----------------+ | Windows Server 2022 | PASS | +-------------------------------+----------------+ | Ubuntu 22.04 | PASS | +-------------------------------+----------------+ | Red Hat Enterprise Linux 9.5 | PASS | +-------------------------------+----------------+ CentOS Stream 9 Kernel: 5.15 Compiler: gcc gcc (GCC) 11.5.0 20240719 (Red Hat 11.5.0-11) Debian GNU/Linux 12 Kernel: 5.15 Compiler: gcc gcc (Debian 12.2.0-14+deb12u1) 12.2.0 Fedora Linux 40 Kernel: 5.15 Compiler: gcc gcc (GCC) 14.2.1 20240912 (Red Hat 14.2.1-3) Fedora Linux 41 Kernel: 5.15 Compiler: clang gcc (GCC) 14.3.1 20250523 (Red Hat 14.3.1-1) Fedora Linux 42 Kernel: 5.15 Compiler: clang gcc (GCC) 15.2.1 20250808 (Red Hat 15.2.1-1) CentOS Stream 10 Kernel: 5.15 Compiler: gcc gcc (GCC) 14.2.1 20250110 (Red Hat 14.2.1-8) Red Hat Enterprise Linux 8.10 Kernel: 5.15 Compiler: gcc gcc (GCC) 8.5.0 20210514 (Red Hat 8.5.0-22) Ubuntu 20.04 Kernel: 5.15 Compiler: gcc gcc (Ubuntu 9.4.0-1ubuntu1~20.04.2) 9.4.0 Ubuntu 24.04 Kernel: 5.15 Compiler: gcc gcc (Ubuntu 13.3.0-6ubuntu2~24.04) 13.3.0 Windows Server 2022 Kernel: 10.0.20348.2031 Compiler: clang 15.0.7, gcc 14.1.0 (MinGW), and MSVC VS 19.39.33521 Ubuntu 22.04 Kernel: 5.15 Compiler: gcc gcc (Ubuntu 11.4.0-1ubuntu1~22.04) 11.4.0 Red Hat Enterprise Linux 9.5 Kernel: 5.15 Compiler: gcc gcc (GCC) 11.5.0 20240719 (Red Hat 11.5.0-2) To view detailed results, visit: https://lab.dpdk.org/results/dashboard/patchsets/34373/ UNH-IOL DPDK Community Lab To manage your email subscriptions, visit: https://lab.dpdk.org/results/dashboard/preferences/subscriptions/