From mboxrd@z Thu Jan 1 00:00:00 1970 Return-Path: Received: from mails.dpdk.org (mails.dpdk.org [217.70.189.124]) by inbox.dpdk.org (Postfix) with ESMTP id 9D4E8489C5 for ; Fri, 24 Oct 2025 15:33:15 +0200 (CEST) Received: from mails.dpdk.org (localhost [127.0.0.1]) by mails.dpdk.org (Postfix) with ESMTP id 793AD40150; Fri, 24 Oct 2025 15:33:15 +0200 (CEST) Received: from mail-io1-f98.google.com (mail-io1-f98.google.com [209.85.166.98]) by mails.dpdk.org (Postfix) with ESMTP id D742740150 for ; Fri, 24 Oct 2025 15:33:13 +0200 (CEST) Received: by mail-io1-f98.google.com with SMTP id ca18e2360f4ac-93e830d84d6so197714039f.3 for ; Fri, 24 Oct 2025 06:33:13 -0700 (PDT) DKIM-Signature: v=1; a=rsa-sha256; c=relaxed/relaxed; d=iol.unh.edu; s=unh-iol; t=1761312793; x=1761917593; darn=dpdk.org; h=references:in-reply-to:cc:to:from:subject:message-id:date:from:to :cc:subject:date:message-id:reply-to; bh=kvvbVMQ+PxWj7iXSoCQP3dcZ6y7enGCMNv3Hn4KOsCQ=; b=ZHrzlYSydqAjgneYwMFABPzPxngqrMIJPf6gVKqJ1qcX7ZM43DaTOy58Gslln1MeKq MM/89/aFKkzj4MbMXh67UEadj1v6g+PaWbV5FaQxkjBhjBP9ubOGKoNZEKKFh6eWN8s6 EYKAPC9yee4wedElvvGp71MnUHzk6uL9TlApM= X-Google-DKIM-Signature: v=1; a=rsa-sha256; c=relaxed/relaxed; d=1e100.net; s=20230601; t=1761312793; x=1761917593; h=references:in-reply-to:cc:to:from:subject:message-id:date :x-gm-message-state:from:to:cc:subject:date:message-id:reply-to; bh=kvvbVMQ+PxWj7iXSoCQP3dcZ6y7enGCMNv3Hn4KOsCQ=; b=ewXhrJgRz4M3q3u+mz4pBCze30M8owHtyLFSe9vGckZOa64qxu4nLEoanXm88I09z5 KhzdhW6icV6VrI5OXkO37JL8d0hzVauXcGuwDno+v6Z+BLE5othr66LVztMCzRmPEYF+ bVNPC21nLZDrt0nHVH8+bMkE74TCQrWdUpc3dnKoHcVv1GZ3voO9GzQKVIebC7BZm2UP d0twioxXgMYqB4rSUXFqxsgwX2Ga9aziLYD95BzCA6n8iDwciLtsXgJfMNZ6XJ1G4HM5 wZXbGtWjy/aRAquIX+END3eheJBXj0zlPQAeuvpU8JyW0LwyGFTDlJeXo3ckk7Jvtkwu LhYw== X-Gm-Message-State: AOJu0Yz999h2LEUOgvAkFQqzV8GHppJl5NkTmVsg4FnC6RGiN+GIez8q k0a14MX6c7/KDTiYqxP+k+faYkH2MER/wHSQoIFlNXLyNRmqrlvrsFWKpi6KXqCCNp6J3dCIR1a nFsBrpS996bEXwhhE19YThtIS6u/KH58sNuxmPeS/zQb7W8uX8iIQVlrL2T5E X-Gm-Gg: ASbGnctmbqx506ElhikUNfePXFuculEAPI6k8iS5rmzT/TgYNMcDzQDrAY3aHyjkM3w KrE2VMfGoLAO2/kvUC0ko2NVd32NI44l7C5eIsftIvAcxn+x2Mmpy7lXyvfF6d/AMngcfMFzSrS e0TqJ5KphA6zYHFd0KZAraKi/hLUlt+KNtqn32TIksPsNPIDE+D3SHwxJlcogcZodt6xBJzanVq wfPIGqoX/+s1spFgbZSzkSCcL/U2IPBqsv1sZkaZp2L7cRrvM4tuQaHuqmCkGZ71zm5PTpp0P3+ eFOec+bRcRyLjvzwkMugKkGX2qrOaLaAyMqvjibIlMMsUJBLa7cPMCZqR1+Wm5c2N6QynIngW5R xMWi00/Hn X-Google-Smtp-Source: AGHT+IEb3PTuEfsBQ7Xc6u2Zxs4EZ3U7d7LeJrQudlU+XxSEpnowMEDya3wl6QenWYcHvqXTCKBUYABygDbz X-Received: by 2002:a05:6602:154b:b0:941:3f8:5bbc with SMTP id ca18e2360f4ac-94103f862admr899542639f.11.1761312793044; Fri, 24 Oct 2025 06:33:13 -0700 (PDT) Received: from postal.iol.unh.edu (postal.iol.unh.edu. [2606:4100:3880:1234::84]) by smtp-relay.gmail.com with ESMTPS id ca18e2360f4ac-94102df5e45sm32076839f.6.2025.10.24.06.33.12 (version=TLS1_2 cipher=ECDHE-ECDSA-AES128-GCM-SHA256 bits=128/128); Fri, 24 Oct 2025 06:33:13 -0700 (PDT) X-Relaying-Domain: iol.unh.edu Date: Fri, 24 Oct 2025 06:33:13 -0700 (PDT) Message-ID: <68fb8019.5e0a0220.1fd190.061fSMTPIN_ADDED_MISSING@mx.google.com> Received: from [172.21.0.2] (unknown [172.18.0.240]) by postal.iol.unh.edu (Postfix) with ESMTP id B6266604D420; Fri, 24 Oct 2025 09:33:12 -0400 (EDT) Subject: |WARNING| pw158058-158060 [PATCH] [RFC,3/3] common/cnxk: re-enable v From: dpdklab@iol.unh.edu To: Test Report Cc: dpdk-test-reports@iol.unh.edu In-Reply-To: <20251023194237.197681-4-stephen@networkplumber.org> References: <20251023194237.197681-4-stephen@networkplumber.org> Content-Type: text/plain X-BeenThere: test-report@dpdk.org X-Mailman-Version: 2.1.29 Precedence: list List-Id: automatic DPDK test reports List-Unsubscribe: , List-Archive: List-Post: List-Help: List-Subscribe: , Errors-To: test-report-bounces@dpdk.org Test-Label: iol-compile-amd64-testing Test-Status: WARNING http://dpdk.org/patch/158060 _Testing issues_ Submitter: Stephen Hemminger Date: Thursday, October 23 2025 19:41:33 DPDK git baseline: Repo:dpdk-next-net-mrvl Branch: master CommitID:2863cbd9ee6dabee2b183382d298f4054ba3e8a2 158058-158060 --> testing issues Upstream job id: Generic-DPDK-Compile-Meson#437265 Test environment and result as below: +---------------------+-------------------------+--------------------+-------------------+----------------------+-------------------+ | Environment | dpdk_llvm_clang_compile | dpdk_meson_compile | dpdk_msvc_compile | dpdk_mingw64_compile | dpdk_compile_spdk | +=====================+=========================+====================+===================+======================+===================+ | Windows Server 2022 | PASS | SKIPPED | PASS | PASS | SKIPPED | +---------------------+-------------------------+--------------------+-------------------+----------------------+-------------------+ | Ubuntu 20.04 | SKIPPED | PASS | SKIPPED | SKIPPED | SKIPPED | +---------------------+-------------------------+--------------------+-------------------+----------------------+-------------------+ | FreeBSD 14.2 | SKIPPED | PASS | SKIPPED | SKIPPED | SKIPPED | +---------------------+-------------------------+--------------------+-------------------+----------------------+-------------------+ | CentOS Stream 9 | SKIPPED | PASS | SKIPPED | SKIPPED | WARN | +---------------------+-------------------------+--------------------+-------------------+----------------------+-------------------+ | CentOS Stream 10 | SKIPPED | PASS | SKIPPED | SKIPPED | SKIPPED | +---------------------+-------------------------+--------------------+-------------------+----------------------+-------------------+ ==== 20 line log output for CentOS Stream 9 (dpdk_compile_spdk): ==== --- Failed to get log output --- ==== End log output ==== Windows Server 2022 Kernel: 10.0.20348.2031 Compiler: clang 15.0.7, gcc 14.1.0 (MinGW), and MSVC VS 19.39.33521 Ubuntu 20.04 Kernel: 4.19 Compiler: gcc gcc (Ubuntu 9.4.0-1ubuntu1~20.04.2) 9.4.0 FreeBSD 14.2 Kernel: 14.2-RELEASE Compiler: clang 18.1.6 CentOS Stream 9 Kernel: 5.15 Compiler: gcc gcc (GCC) 11.5.0 20240719 (Red Hat 11.5.0-11) CentOS Stream 10 Kernel: 5.15 Compiler: gcc gcc (GCC) 14.2.1 20250110 (Red Hat 14.2.1-8) To view detailed results, visit: https://lab.dpdk.org/results/dashboard/patchsets/34366/ UNH-IOL DPDK Community Lab To manage your email subscriptions, visit: https://lab.dpdk.org/results/dashboard/preferences/subscriptions/