From mboxrd@z Thu Jan 1 00:00:00 1970 Return-Path: Received: from mails.dpdk.org (mails.dpdk.org [217.70.189.124]) by inbox.dpdk.org (Postfix) with ESMTP id 7D210489C5 for ; Fri, 24 Oct 2025 15:54:49 +0200 (CEST) Received: from mails.dpdk.org (localhost [127.0.0.1]) by mails.dpdk.org (Postfix) with ESMTP id 77F9D40151; Fri, 24 Oct 2025 15:54:49 +0200 (CEST) Received: from mail-qk1-f226.google.com (mail-qk1-f226.google.com [209.85.222.226]) by mails.dpdk.org (Postfix) with ESMTP id 766B140151 for ; Fri, 24 Oct 2025 15:54:48 +0200 (CEST) Received: by mail-qk1-f226.google.com with SMTP id af79cd13be357-8915bd01244so336976885a.1 for ; Fri, 24 Oct 2025 06:54:48 -0700 (PDT) DKIM-Signature: v=1; a=rsa-sha256; c=relaxed/relaxed; d=iol.unh.edu; s=unh-iol; t=1761314088; x=1761918888; darn=dpdk.org; h=references:in-reply-to:cc:to:from:subject:message-id:date:from:to :cc:subject:date:message-id:reply-to; bh=WqYIJA5NTN0KLfB3jPI3OatuXBlkf+rDOdks/9HKNKY=; b=QwOYD41iX0EthWpEeli1sQNBUnC5IFZPVeDggcZXztL+x8DWYnvD/ojxO0WHkFLukI 5rHTmLHzdrwcSK0ze0dkbWg1qiLAGIUp3H3LXIsdrZzF3RLSMPMDTvVoSoWZB7ab/3Rs o4qPLdvoKx9WaudeWcB1qmbL6A0OCxclmOhhU= X-Google-DKIM-Signature: v=1; a=rsa-sha256; c=relaxed/relaxed; d=1e100.net; s=20230601; t=1761314088; x=1761918888; h=references:in-reply-to:cc:to:from:subject:message-id:date :x-gm-message-state:from:to:cc:subject:date:message-id:reply-to; bh=WqYIJA5NTN0KLfB3jPI3OatuXBlkf+rDOdks/9HKNKY=; b=ILcUHi9OYAZ7l32nW9Ek0GQeE/9Te0G6/VIgYDWiiAcw7TYqp2U6mKA6ANHatYYXQ9 uaMJZkI53HPbISEPpXUksSHDmstqz1EhzO3iE03ib1GniQ3k5bADBtaV0lLEYWPsuqHQ +40s3obVTUqBXaE36JblDCOEGsA2bQkhCATyLxAeG7KmQiJEmDx6JbdXETm88CHG6Tgt pKs6xg82LpJfzyXEOOTY2nbyAY7OoRVd+9942RdAzJqMaRHZbRJ9CuqxvCRHEigrQHWT UKIuNvAisU7pI6YfoWTl2wiAmEC8xFUGGxjjy9gJBpDsFOuCgbLFKR+hb8ADzROmqb+l 5aqA== X-Gm-Message-State: AOJu0YzUxcs43sHxXNF0N0Xh8uj/4sOSLWQrFQJmEGYPF5RhOUH5kH0U 1aGjDPYNUWjrTwaeAItaoRKYP+S7XwKjb+VWAlAWqTUjYJHbHUKWddJXvGpBz0tVwUWGbdUsviw b+zZJ32Y4SByOfXDErz69JWqyHImOESJwxOnaPyf1DX61 X-Gm-Gg: ASbGncu92nhGmU/k/qlWgFVnqW6Ha6nkQLMBPrNoQczVoKIUMkxI68z2I6LEgL6V4eW 1tIP4Q+TLEReAZ6I/AtC6OzWdlkLOpHlgWo9v4MZGSW63LCYrlvfQ9HHDLWI4Cb6taC831HWswU snxI/Zg07Vz2kfDyb5Pn0Hh6cinPxsMYJe+1pF9pK0R3NT8TsVdg6j3zWNfZyc4RggQkUya2pHK zoUhFxGRxvGZl7Z6girrUfplMGfepjzk/YtcbvbereJ/V5p+VbJX5TH5jE8ZZ/efiel8+YejYeY 6Mjsr1JLaE5cN83Q3kr3uNVSN6n2cx7Oef4JR3z3gKCxY9xc+X6tCtTLLlXwh2Ge9Z2qL46c6vP Lmwf8z3Ihx7S71veZ2VYBPywu5o594X8= X-Google-Smtp-Source: AGHT+IEILvbsrRbStCEMJQ/XxXnzEmzxqPi0blpnNxhHkW8vutj4sVpdDmui1SGEbE+U8Z8j0iYvscrgUJSt X-Received: by 2002:a05:620a:2807:b0:854:b9a1:b478 with SMTP id af79cd13be357-8906e0dad88mr3483864485a.18.1761314087742; Fri, 24 Oct 2025 06:54:47 -0700 (PDT) Received: from postal.iol.unh.edu (postal.iol.unh.edu. [132.177.123.84]) by smtp-relay.gmail.com with ESMTPS id af79cd13be357-89c0d9dcbb6sm43903285a.2.2025.10.24.06.54.47 (version=TLS1_2 cipher=ECDHE-ECDSA-AES128-GCM-SHA256 bits=128/128); Fri, 24 Oct 2025 06:54:47 -0700 (PDT) X-Relaying-Domain: iol.unh.edu Date: Fri, 24 Oct 2025 06:54:47 -0700 (PDT) Message-ID: <68fb8527.050a0220.250f70.60bfSMTPIN_ADDED_MISSING@mx.google.com> Received: from [172.21.0.3] (unknown [172.18.0.240]) by postal.iol.unh.edu (Postfix) with ESMTP id 697AA6051830; Fri, 24 Oct 2025 09:54:47 -0400 (EDT) Subject: |WARNING| pw158057 [PATCH] [1/1] eal: correct memory ordering in MCS From: dpdklab@iol.unh.edu To: Test Report Cc: dpdk-test-reports@iol.unh.edu In-Reply-To: <20251023184724.1759497-1-wathsala.vithanage@arm.com> References: <20251023184724.1759497-1-wathsala.vithanage@arm.com> Content-Type: text/plain X-BeenThere: test-report@dpdk.org X-Mailman-Version: 2.1.29 Precedence: list List-Id: automatic DPDK test reports List-Unsubscribe: , List-Archive: List-Post: List-Help: List-Subscribe: , Errors-To: test-report-bounces@dpdk.org Test-Label: iol-compile-amd64-testing Test-Status: WARNING http://dpdk.org/patch/158057 _Testing issues_ Submitter: Wathsala Vithanage Date: Thursday, October 23 2025 18:47:24 DPDK git baseline: Repo:dpdk Branch: master CommitID:8dc7bf943fb6fad7b30b3a494f2216c2c4cf64d7 158057 --> testing issues Upstream job id: Generic-DPDK-Compile-Meson#437263 Test environment and result as below: +-------------------------------+--------------------+-------------------------+-------------------+----------------------+-------------------+------------------+ | Environment | dpdk_meson_compile | dpdk_llvm_clang_compile | dpdk_msvc_compile | dpdk_mingw64_compile | dpdk_compile_spdk | dpdk_compile_ovs | +===============================+====================+=========================+===================+======================+===================+==================+ | Ubuntu 20.04 | PASS | SKIPPED | SKIPPED | SKIPPED | SKIPPED | SKIPPED | +-------------------------------+--------------------+-------------------------+-------------------+----------------------+-------------------+------------------+ | FreeBSD 14.2 | PASS | SKIPPED | SKIPPED | SKIPPED | SKIPPED | SKIPPED | +-------------------------------+--------------------+-------------------------+-------------------+----------------------+-------------------+------------------+ | CentOS Stream 9 | PASS | SKIPPED | SKIPPED | SKIPPED | WARN | SKIPPED | +-------------------------------+--------------------+-------------------------+-------------------+----------------------+-------------------+------------------+ | CentOS Stream 10 | PASS | SKIPPED | SKIPPED | SKIPPED | SKIPPED | SKIPPED | +-------------------------------+--------------------+-------------------------+-------------------+----------------------+-------------------+------------------+ | Debian GNU/Linux 12 | PASS | SKIPPED | SKIPPED | SKIPPED | WARN | SKIPPED | +-------------------------------+--------------------+-------------------------+-------------------+----------------------+-------------------+------------------+ | Fedora Linux 42 | PASS | SKIPPED | SKIPPED | SKIPPED | WARN | PASS | +-------------------------------+--------------------+-------------------------+-------------------+----------------------+-------------------+------------------+ | openSUSE Leap 15.6 | PASS | SKIPPED | SKIPPED | SKIPPED | SKIPPED | SKIPPED | +-------------------------------+--------------------+-------------------------+-------------------+----------------------+-------------------+------------------+ | Red Hat Enterprise Linux 8.10 | PASS | SKIPPED | SKIPPED | SKIPPED | SKIPPED | SKIPPED | +-------------------------------+--------------------+-------------------------+-------------------+----------------------+-------------------+------------------+ | Red Hat Enterprise Linux 9.5 | PASS | SKIPPED | SKIPPED | SKIPPED | SKIPPED | SKIPPED | +-------------------------------+--------------------+-------------------------+-------------------+----------------------+-------------------+------------------+ | Ubuntu 22.04 | PASS | SKIPPED | SKIPPED | SKIPPED | WARN | SKIPPED | +-------------------------------+--------------------+-------------------------+-------------------+----------------------+-------------------+------------------+ | Ubuntu 24.04 | PASS | SKIPPED | SKIPPED | SKIPPED | WARN | PASS | +-------------------------------+--------------------+-------------------------+-------------------+----------------------+-------------------+------------------+ | Alpine Linux 3.22.0 | PASS | SKIPPED | SKIPPED | SKIPPED | SKIPPED | SKIPPED | +-------------------------------+--------------------+-------------------------+-------------------+----------------------+-------------------+------------------+ | Windows Server 2022 | SKIPPED | PASS | PASS | PASS | SKIPPED | SKIPPED | +-------------------------------+--------------------+-------------------------+-------------------+----------------------+-------------------+------------------+ ==== 20 line log output for Ubuntu 24.04 (dpdk_compile_spdk): ==== --- Failed to get log output --- ==== End log output ==== Ubuntu 20.04 Kernel: 4.19 Compiler: gcc gcc (Ubuntu 9.4.0-1ubuntu1~20.04.2) 9.4.0 FreeBSD 14.2 Kernel: 14.2-RELEASE Compiler: clang 18.1.6 CentOS Stream 9 Kernel: 5.15 Compiler: gcc gcc (GCC) 11.5.0 20240719 (Red Hat 11.5.0-11) CentOS Stream 10 Kernel: 5.15 Compiler: gcc gcc (GCC) 14.2.1 20250110 (Red Hat 14.2.1-8) Debian GNU/Linux 12 Kernel: 5.15 Compiler: gcc gcc (Debian 12.2.0-14+deb12u1) 12.2.0 Fedora Linux 42 Kernel: 5.15 Compiler: gcc gcc (GCC) 15.2.1 20250808 (Red Hat 15.2.1-1) openSUSE Leap 15.6 Kernel: 5.15 Compiler: gcc gcc (SUSE Linux) 7.5.0 Red Hat Enterprise Linux 8.10 Kernel: 5.15 Compiler: gcc gcc (GCC) 8.5.0 20210514 (Red Hat 8.5.0-22) Red Hat Enterprise Linux 9.5 Kernel: 5.15 Compiler: gcc gcc (GCC) 11.5.0 20240719 (Red Hat 11.5.0-2) Ubuntu 22.04 Kernel: 5.15 Compiler: gcc gcc (Ubuntu 11.4.0-1ubuntu1~22.04) 11.4.0 Ubuntu 24.04 Kernel: 5.15 Compiler: gcc gcc (Ubuntu 13.3.0-6ubuntu2~24.04) 13.3.0 Alpine Linux 3.22.0 Kernel: 5.15 Compiler: gcc gcc (Alpine 14.2.0) 14.2.0 Windows Server 2022 Kernel: 10.0.20348.2031 Compiler: clang 15.0.7, gcc 14.1.0 (MinGW), and MSVC VS 19.39.33521 To view detailed results, visit: https://lab.dpdk.org/results/dashboard/patchsets/34365/ UNH-IOL DPDK Community Lab To manage your email subscriptions, visit: https://lab.dpdk.org/results/dashboard/preferences/subscriptions/