From mboxrd@z Thu Jan 1 00:00:00 1970 Return-Path: Received: from mails.dpdk.org (mails.dpdk.org [217.70.189.124]) by inbox.dpdk.org (Postfix) with ESMTP id 4DEC0489C6 for ; Fri, 24 Oct 2025 16:33:48 +0200 (CEST) Received: from mails.dpdk.org (localhost [127.0.0.1]) by mails.dpdk.org (Postfix) with ESMTP id 26A8E40150; Fri, 24 Oct 2025 16:33:48 +0200 (CEST) Received: from mail-io1-f100.google.com (mail-io1-f100.google.com [209.85.166.100]) by mails.dpdk.org (Postfix) with ESMTP id E966A40150 for ; Fri, 24 Oct 2025 16:33:45 +0200 (CEST) Received: by mail-io1-f100.google.com with SMTP id ca18e2360f4ac-9379a062ca8so89004439f.2 for ; Fri, 24 Oct 2025 07:33:45 -0700 (PDT) DKIM-Signature: v=1; a=rsa-sha256; c=relaxed/relaxed; d=iol.unh.edu; s=unh-iol; t=1761316425; x=1761921225; darn=dpdk.org; h=references:in-reply-to:cc:to:from:subject:message-id:date:from:to :cc:subject:date:message-id:reply-to; bh=1ZHlmq4RpGP1Bm5b4Frb0VmT8fx5y/pvCdvrdvkPVrk=; b=H3tzmoIYQGIC8KgtQRMSC61korPPvGRV7tTJr9H2Th9+vExo5qAIpo8hS2v5+yQYd4 PoO5qkDdoCAi8IzLzx64ekfshQlEKpjqfsKvqdIuH8vNgNhPIvc57aoDM13D+RiE7JMW PN2YJZ7Rppa/x9JVbpq/qnqymZV77x0OhIi4M= X-Google-DKIM-Signature: v=1; a=rsa-sha256; c=relaxed/relaxed; d=1e100.net; s=20230601; t=1761316425; x=1761921225; h=references:in-reply-to:cc:to:from:subject:message-id:date :x-gm-message-state:from:to:cc:subject:date:message-id:reply-to; bh=1ZHlmq4RpGP1Bm5b4Frb0VmT8fx5y/pvCdvrdvkPVrk=; b=tPytlCvWBMwdIzrllvKMg3uXRIvfsNYdh5wovtsjfut2Wu8uGI6hPnr3U17PV2NnbG FnHGMok+pUN88FrELqAoXttvou7q0DJH9zC9+YswLoFzf1Dm577ZE+8tHzBmw5fo0OKC CEN7Xz8oY2tdiXUrChAqCulNFVnAiymdKebbERDR4zM7A9uK1rEN2Ms8CmxE6fIRmCEk 7adZocoptdNLY4foh6zLzM8gBuNi03nLGZJtLgHDg6uA2P5TpuPheGlW47unWbp9hDar eSEWFV4Pom7hrzl/Ec5+J3Kh1/qBAiit3+34zffeO0pH2xymrihiYChCgei+mpvby1W4 Ysbg== X-Gm-Message-State: AOJu0YwOs0a7bR0qcXR7h67kWk5gdg+j5suv/Z3asz5pfLIz8TPkI7in SYFPFuQiJRxMiOIuR/I/AcinyFCbQSpwG19S2l1G+UyVQoEA7b8h3HieZ6OFjL8bPWoh/MEeldi Ze0MzSvJuKVfzDyfE+OQJ6JTAvuOOSwPYZ3c0AwRdeOKS X-Gm-Gg: ASbGnctSwoIzjJ+gKueLOdt0EQInkEai1/0ApdNpbSWKeXbG0mzI72GnA2HrNDNYcpr NXiRQCo9BpJMsPd2Wx3+UmfKV5rhKSpgSfT3cIky2ryJX40jrbjJItzAhQ1C+ta0ZCXqnxFGp26 STLktqSy7Jq/wtCBkIMOjceIiZiCgHt3AIBomfg10TRDw6YemH/tg5ckts9uUB9KplRKgDgUz78 cb4v3EdrXZmmHb2zFh4cJz3LOmmTmgsBcZKdMKYvUSfatmPyL7nT4iMs5yQzXwaX9vop+qXF/MZ 5fyc2BCEKpS5GG6mJ/S83jX9X6cDSUpf+31gEKuYm0NyfTGV+ls8mioqarDZdNgCTggso5IqbOi gnIqAbKJIVfnvJRkLGxCEjlZov8hlzP0= X-Google-Smtp-Source: AGHT+IGbOF6F3lLhDiLahzGij2+1pjoOd7gue63vhLCcpG3YilOPKGF+4H2LITg963WI2zOFxNb4ULqxevTb X-Received: by 2002:a05:6e02:190c:b0:42e:6e3a:3075 with SMTP id e9e14a558f8ab-430c5269277mr359602075ab.21.1761316425087; Fri, 24 Oct 2025 07:33:45 -0700 (PDT) Received: from postal.iol.unh.edu (postal.iol.unh.edu. [132.177.123.84]) by smtp-relay.gmail.com with ESMTPS id 8926c6da1cb9f-5abb4a51b8asm396272173.8.2025.10.24.07.33.45 (version=TLS1_2 cipher=ECDHE-ECDSA-AES128-GCM-SHA256 bits=128/128); Fri, 24 Oct 2025 07:33:45 -0700 (PDT) X-Relaying-Domain: iol.unh.edu Date: Fri, 24 Oct 2025 07:33:45 -0700 (PDT) Message-ID: <68fb8e49.050a0220.962cb.46c0SMTPIN_ADDED_MISSING@mx.google.com> Received: from [172.21.0.2] (unknown [172.18.0.240]) by postal.iol.unh.edu (Postfix) with ESMTP id A7B43604D420; Fri, 24 Oct 2025 10:33:44 -0400 (EDT) Subject: |WARNING| pw158058-158060 [PATCH] [RFC,3/3] common/cnxk: re-enable v From: dpdklab@iol.unh.edu To: Test Report Cc: dpdk-test-reports@iol.unh.edu In-Reply-To: <20251023194237.197681-4-stephen@networkplumber.org> References: <20251023194237.197681-4-stephen@networkplumber.org> Content-Type: text/plain X-BeenThere: test-report@dpdk.org X-Mailman-Version: 2.1.29 Precedence: list List-Id: automatic DPDK test reports List-Unsubscribe: , List-Archive: List-Post: List-Help: List-Subscribe: , Errors-To: test-report-bounces@dpdk.org Test-Label: iol-compile-amd64-testing Test-Status: WARNING http://dpdk.org/patch/158060 _Testing issues_ Submitter: Stephen Hemminger Date: Thursday, October 23 2025 19:41:33 DPDK git baseline: Repo:dpdk-next-net-mrvl Branch: master CommitID:2863cbd9ee6dabee2b183382d298f4054ba3e8a2 158058-158060 --> testing issues Upstream job id: Generic-DPDK-Compile-Meson#437275 Test environment and result as below: +-------------------------------+-------------------------+--------------------+-------------------+----------------------+-------------------+------------------+ | Environment | dpdk_llvm_clang_compile | dpdk_meson_compile | dpdk_msvc_compile | dpdk_mingw64_compile | dpdk_compile_spdk | dpdk_compile_ovs | +===============================+=========================+====================+===================+======================+===================+==================+ | Windows Server 2022 | PASS | SKIPPED | PASS | PASS | SKIPPED | SKIPPED | +-------------------------------+-------------------------+--------------------+-------------------+----------------------+-------------------+------------------+ | Ubuntu 20.04 | SKIPPED | PASS | SKIPPED | SKIPPED | SKIPPED | SKIPPED | +-------------------------------+-------------------------+--------------------+-------------------+----------------------+-------------------+------------------+ | FreeBSD 14.2 | SKIPPED | PASS | SKIPPED | SKIPPED | SKIPPED | SKIPPED | +-------------------------------+-------------------------+--------------------+-------------------+----------------------+-------------------+------------------+ | CentOS Stream 9 | SKIPPED | PASS | SKIPPED | SKIPPED | WARN | SKIPPED | +-------------------------------+-------------------------+--------------------+-------------------+----------------------+-------------------+------------------+ | CentOS Stream 10 | SKIPPED | PASS | SKIPPED | SKIPPED | SKIPPED | SKIPPED | +-------------------------------+-------------------------+--------------------+-------------------+----------------------+-------------------+------------------+ | Debian GNU/Linux 12 | SKIPPED | PASS | SKIPPED | SKIPPED | WARN | SKIPPED | +-------------------------------+-------------------------+--------------------+-------------------+----------------------+-------------------+------------------+ | Fedora Linux 42 | SKIPPED | PASS | SKIPPED | SKIPPED | WARN | PASS | +-------------------------------+-------------------------+--------------------+-------------------+----------------------+-------------------+------------------+ | openSUSE Leap 15.6 | SKIPPED | PASS | SKIPPED | SKIPPED | SKIPPED | SKIPPED | +-------------------------------+-------------------------+--------------------+-------------------+----------------------+-------------------+------------------+ | Red Hat Enterprise Linux 8.10 | SKIPPED | PASS | SKIPPED | SKIPPED | SKIPPED | SKIPPED | +-------------------------------+-------------------------+--------------------+-------------------+----------------------+-------------------+------------------+ | Red Hat Enterprise Linux 9.5 | SKIPPED | PASS | SKIPPED | SKIPPED | SKIPPED | SKIPPED | +-------------------------------+-------------------------+--------------------+-------------------+----------------------+-------------------+------------------+ | Ubuntu 22.04 | SKIPPED | PASS | SKIPPED | SKIPPED | WARN | SKIPPED | +-------------------------------+-------------------------+--------------------+-------------------+----------------------+-------------------+------------------+ | Ubuntu 24.04 | SKIPPED | PASS | SKIPPED | SKIPPED | WARN | PASS | +-------------------------------+-------------------------+--------------------+-------------------+----------------------+-------------------+------------------+ ==== 20 line log output for Ubuntu 24.04 (dpdk_compile_spdk): ==== --- Failed to get log output --- ==== End log output ==== Windows Server 2022 Kernel: 10.0.20348.2031 Compiler: clang 15.0.7, gcc 14.1.0 (MinGW), and MSVC VS 19.39.33521 Ubuntu 20.04 Kernel: 4.19 Compiler: gcc gcc (Ubuntu 9.4.0-1ubuntu1~20.04.2) 9.4.0 FreeBSD 14.2 Kernel: 14.2-RELEASE Compiler: clang 18.1.6 CentOS Stream 9 Kernel: 5.15 Compiler: gcc gcc (GCC) 11.5.0 20240719 (Red Hat 11.5.0-11) CentOS Stream 10 Kernel: 5.15 Compiler: gcc gcc (GCC) 14.2.1 20250110 (Red Hat 14.2.1-8) Debian GNU/Linux 12 Kernel: 5.15 Compiler: gcc gcc (Debian 12.2.0-14+deb12u1) 12.2.0 Fedora Linux 42 Kernel: 5.15 Compiler: clang gcc (GCC) 15.2.1 20250808 (Red Hat 15.2.1-1) openSUSE Leap 15.6 Kernel: 5.15 Compiler: gcc gcc (SUSE Linux) 7.5.0 Red Hat Enterprise Linux 8.10 Kernel: 5.15 Compiler: gcc gcc (GCC) 8.5.0 20210514 (Red Hat 8.5.0-22) Red Hat Enterprise Linux 9.5 Kernel: 5.15 Compiler: gcc gcc (GCC) 11.5.0 20240719 (Red Hat 11.5.0-2) Ubuntu 22.04 Kernel: 5.15 Compiler: gcc gcc (Ubuntu 11.4.0-1ubuntu1~22.04) 11.4.0 Ubuntu 24.04 Kernel: 5.15 Compiler: gcc gcc (Ubuntu 13.3.0-6ubuntu2~24.04) 13.3.0 To view detailed results, visit: https://lab.dpdk.org/results/dashboard/patchsets/34366/ UNH-IOL DPDK Community Lab To manage your email subscriptions, visit: https://lab.dpdk.org/results/dashboard/preferences/subscriptions/