From mboxrd@z Thu Jan 1 00:00:00 1970 Return-Path: Received: from mails.dpdk.org (mails.dpdk.org [217.70.189.124]) by inbox.dpdk.org (Postfix) with ESMTP id 23C1C489C6 for ; Fri, 24 Oct 2025 16:56:45 +0200 (CEST) Received: from mails.dpdk.org (localhost [127.0.0.1]) by mails.dpdk.org (Postfix) with ESMTP id 1E9D540151; Fri, 24 Oct 2025 16:56:45 +0200 (CEST) Received: from mail-io1-f100.google.com (mail-io1-f100.google.com [209.85.166.100]) by mails.dpdk.org (Postfix) with ESMTP id 3B49940151 for ; Fri, 24 Oct 2025 16:56:44 +0200 (CEST) Received: by mail-io1-f100.google.com with SMTP id ca18e2360f4ac-93e847a443fso197020539f.0 for ; Fri, 24 Oct 2025 07:56:44 -0700 (PDT) DKIM-Signature: v=1; a=rsa-sha256; c=relaxed/relaxed; d=iol.unh.edu; s=unh-iol; t=1761317803; x=1761922603; darn=dpdk.org; h=references:in-reply-to:cc:to:from:subject:message-id:date:from:to :cc:subject:date:message-id:reply-to; bh=a0RhGCqxsiN5/3xKGqJ4odoYCGuoZA/ExPph1gA1FWY=; b=Vz7ODA21hAmkss2CFNXXUGWHi4IueX4KOrP0QYV033xYZUSCb/VWKSTwMBorN6aGE9 wA+aweDn9sGG7SI2orY3P9dhcojP2r4xVncHLgHfQ9aKZoFfyeCL+zyS/Pr5ISwPyJhI BH0lVYnp0Ezx46Eq/TvJEY/nBdiJ0hZR2esb8= X-Google-DKIM-Signature: v=1; a=rsa-sha256; c=relaxed/relaxed; d=1e100.net; s=20230601; t=1761317803; x=1761922603; h=references:in-reply-to:cc:to:from:subject:message-id:date :x-gm-message-state:from:to:cc:subject:date:message-id:reply-to; bh=a0RhGCqxsiN5/3xKGqJ4odoYCGuoZA/ExPph1gA1FWY=; b=xQF2K1U3PQYYKtzIRCR5/XOOB0K006fq1K8JmdaLv8HxyTxXYyK0AoXCEtpFR8b0+Q INOhKRQhlVxJ2z5n+UNzdh9t0kB4sVBUB8mDL4xKRwcqKBz4z/DtZB5UdIh07QFhsb2d GO4IeRfr+58+rC1TThDdEjjTnzOlPHaNgzlnnn+t9klBqSDN4V6NdfKLunQ40dibd2E/ M8Gq2K8x4EShqJQAVqcBdS3E0Enk1xw8zNyso2pqVYg/Uy5c2rIuY7drV027DEjRQ7MW zYhO/xQRoxLyC3MODaCyPfHSJNpCOWJ3hgvXtsFhTrkV6CEwPLf9rwng/JrgoWrWEHmu tULQ== X-Gm-Message-State: AOJu0YwTFxw6hiL7hNTNfGtKzAfXscZPbpkCZ6R0DLST+Ztc/6TObomR 6by67k/s76UyvYJ59/6OvGBk8/nmpoOJBafv43CJ1spo1DaMPX6Tn+395ajekzW+LSRNW5Z7zV5 KxwMzfjfFSTUmZXCzEDrIML7dfsTPyeOsax9b/DBovrpu X-Gm-Gg: ASbGncuPxIqWXsz+OQ4OP+0qGZMiavCIK+E3NdZivdaSdlmwjgBiWTCRZmye2whRabh +jcTq+9bfT5eXN8y+TFcxS7dJBSTj5UBOl17FcxzR/2CUi+KQ1HIw7W5L8r2v1AmC389Ei6c58O AtzqxcS/0XJblohLjN/7+3s5sem++hxUoJnO+N/+SpVUIhIPgfKDyRGNRws09gqfZwHinJbMMWC osu4Sj9KdiELZxQoMdqs8Rr3C5JGGvsboJDQmDTnxmg+/n+9AJqSVjoFkEQ4FHW96vILJxpGO41 RkcSB/wWHkD9zSQ7cPbNo8JSzmyEO42mMXfUlWg4Oo6vVvxzDiAMWL1kDFT/pJj/e1dhLqkpJXM 19kn2Kj+T1QdPsdkefxJy7SUUAKnAVBA= X-Google-Smtp-Source: AGHT+IH6OqfW/cGGnRxGVrmOEP466RsynNXFWel9D0HgyZqT5UrwKnyUihszssQBSYVCQHo1qYN73+WC5Dfz X-Received: by 2002:a05:6602:2dcd:b0:940:da3b:6acb with SMTP id ca18e2360f4ac-941035045f0mr903235739f.18.1761317803533; Fri, 24 Oct 2025 07:56:43 -0700 (PDT) Received: from postal.iol.unh.edu (postal.iol.unh.edu. [132.177.123.84]) by smtp-relay.gmail.com with ESMTPS id ca18e2360f4ac-94102da382dsm31410939f.1.2025.10.24.07.56.43 (version=TLS1_2 cipher=ECDHE-ECDSA-AES128-GCM-SHA256 bits=128/128); Fri, 24 Oct 2025 07:56:43 -0700 (PDT) X-Relaying-Domain: iol.unh.edu Date: Fri, 24 Oct 2025 07:56:43 -0700 (PDT) Message-ID: <68fb93ab.050a0220.2ce51b.0df4SMTPIN_ADDED_MISSING@mx.google.com> Received: from [172.21.0.2] (unknown [172.18.0.240]) by postal.iol.unh.edu (Postfix) with ESMTP id 1D4E96051830; Fri, 24 Oct 2025 10:56:43 -0400 (EDT) Subject: |WARNING| pw158058-158060 [PATCH] [RFC,3/3] common/cnxk: re-enable v From: dpdklab@iol.unh.edu To: Test Report Cc: dpdk-test-reports@iol.unh.edu In-Reply-To: <20251023194237.197681-4-stephen@networkplumber.org> References: <20251023194237.197681-4-stephen@networkplumber.org> Content-Type: text/plain X-BeenThere: test-report@dpdk.org X-Mailman-Version: 2.1.29 Precedence: list List-Id: automatic DPDK test reports List-Unsubscribe: , List-Archive: List-Post: List-Help: List-Subscribe: , Errors-To: test-report-bounces@dpdk.org Test-Label: iol-compile-amd64-testing Test-Status: WARNING http://dpdk.org/patch/158060 _Testing issues_ Submitter: Stephen Hemminger Date: Thursday, October 23 2025 19:41:33 DPDK git baseline: Repo:dpdk-next-net-mrvl Branch: master CommitID:2863cbd9ee6dabee2b183382d298f4054ba3e8a2 158058-158060 --> testing issues Upstream job id: Generic-DPDK-Compile-Meson#437280 Test environment and result as below: +-------------------------------+-------------------------+--------------------+-------------------+----------------------+-------------------+------------------+ | Environment | dpdk_llvm_clang_compile | dpdk_meson_compile | dpdk_msvc_compile | dpdk_mingw64_compile | dpdk_compile_spdk | dpdk_compile_ovs | +===============================+=========================+====================+===================+======================+===================+==================+ | Windows Server 2022 | PASS | SKIPPED | PASS | PASS | SKIPPED | SKIPPED | +-------------------------------+-------------------------+--------------------+-------------------+----------------------+-------------------+------------------+ | Ubuntu 20.04 | SKIPPED | PASS | SKIPPED | SKIPPED | SKIPPED | SKIPPED | +-------------------------------+-------------------------+--------------------+-------------------+----------------------+-------------------+------------------+ | FreeBSD 14.2 | SKIPPED | PASS | SKIPPED | SKIPPED | SKIPPED | SKIPPED | +-------------------------------+-------------------------+--------------------+-------------------+----------------------+-------------------+------------------+ | CentOS Stream 9 | SKIPPED | PASS | SKIPPED | SKIPPED | WARN | SKIPPED | +-------------------------------+-------------------------+--------------------+-------------------+----------------------+-------------------+------------------+ | CentOS Stream 10 | SKIPPED | PASS | SKIPPED | SKIPPED | SKIPPED | SKIPPED | +-------------------------------+-------------------------+--------------------+-------------------+----------------------+-------------------+------------------+ | Debian GNU/Linux 12 | SKIPPED | PASS | SKIPPED | SKIPPED | WARN | SKIPPED | +-------------------------------+-------------------------+--------------------+-------------------+----------------------+-------------------+------------------+ | Fedora Linux 42 | SKIPPED | PASS | SKIPPED | SKIPPED | WARN | PASS | +-------------------------------+-------------------------+--------------------+-------------------+----------------------+-------------------+------------------+ | openSUSE Leap 15.6 | SKIPPED | PASS | SKIPPED | SKIPPED | SKIPPED | SKIPPED | +-------------------------------+-------------------------+--------------------+-------------------+----------------------+-------------------+------------------+ | Red Hat Enterprise Linux 8.10 | SKIPPED | PASS | SKIPPED | SKIPPED | SKIPPED | SKIPPED | +-------------------------------+-------------------------+--------------------+-------------------+----------------------+-------------------+------------------+ | Red Hat Enterprise Linux 9.5 | SKIPPED | PASS | SKIPPED | SKIPPED | SKIPPED | SKIPPED | +-------------------------------+-------------------------+--------------------+-------------------+----------------------+-------------------+------------------+ | Ubuntu 22.04 | SKIPPED | PASS | SKIPPED | SKIPPED | WARN | SKIPPED | +-------------------------------+-------------------------+--------------------+-------------------+----------------------+-------------------+------------------+ | Ubuntu 24.04 | SKIPPED | PASS | SKIPPED | SKIPPED | WARN | PASS | +-------------------------------+-------------------------+--------------------+-------------------+----------------------+-------------------+------------------+ | Alpine Linux 3.22.0 | SKIPPED | PASS | SKIPPED | SKIPPED | SKIPPED | SKIPPED | +-------------------------------+-------------------------+--------------------+-------------------+----------------------+-------------------+------------------+ ==== 20 line log output for Ubuntu 24.04 (dpdk_compile_spdk): ==== --- Failed to get log output --- ==== End log output ==== Windows Server 2022 Kernel: 10.0.20348.2031 Compiler: clang 15.0.7, gcc 14.1.0 (MinGW), and MSVC VS 19.39.33521 Ubuntu 20.04 Kernel: 4.19 Compiler: gcc gcc (Ubuntu 9.4.0-1ubuntu1~20.04.2) 9.4.0 FreeBSD 14.2 Kernel: 14.2-RELEASE Compiler: clang 18.1.6 CentOS Stream 9 Kernel: 5.15 Compiler: gcc gcc (GCC) 11.5.0 20240719 (Red Hat 11.5.0-11) CentOS Stream 10 Kernel: 5.15 Compiler: gcc gcc (GCC) 14.2.1 20250110 (Red Hat 14.2.1-8) Debian GNU/Linux 12 Kernel: 5.15 Compiler: gcc gcc (Debian 12.2.0-14+deb12u1) 12.2.0 Fedora Linux 42 Kernel: 5.15 Compiler: clang gcc (GCC) 15.2.1 20250808 (Red Hat 15.2.1-1) openSUSE Leap 15.6 Kernel: 5.15 Compiler: gcc gcc (SUSE Linux) 7.5.0 Red Hat Enterprise Linux 8.10 Kernel: 5.15 Compiler: gcc gcc (GCC) 8.5.0 20210514 (Red Hat 8.5.0-22) Red Hat Enterprise Linux 9.5 Kernel: 5.15 Compiler: gcc gcc (GCC) 11.5.0 20240719 (Red Hat 11.5.0-2) Ubuntu 22.04 Kernel: 5.15 Compiler: gcc gcc (Ubuntu 11.4.0-1ubuntu1~22.04) 11.4.0 Ubuntu 24.04 Kernel: 5.15 Compiler: gcc gcc (Ubuntu 13.3.0-6ubuntu2~24.04) 13.3.0 Alpine Linux 3.22.0 Kernel: 5.15 Compiler: gcc gcc (Alpine 14.2.0) 14.2.0 To view detailed results, visit: https://lab.dpdk.org/results/dashboard/patchsets/34366/ UNH-IOL DPDK Community Lab To manage your email subscriptions, visit: https://lab.dpdk.org/results/dashboard/preferences/subscriptions/