From mboxrd@z Thu Jan 1 00:00:00 1970 Return-Path: Received: from mails.dpdk.org (mails.dpdk.org [217.70.189.124]) by inbox.dpdk.org (Postfix) with ESMTP id 1EB7E489C6 for ; Fri, 24 Oct 2025 17:18:27 +0200 (CEST) Received: from mails.dpdk.org (localhost [127.0.0.1]) by mails.dpdk.org (Postfix) with ESMTP id EF98140151; Fri, 24 Oct 2025 17:18:26 +0200 (CEST) Received: from mail-qv1-f97.google.com (mail-qv1-f97.google.com [209.85.219.97]) by mails.dpdk.org (Postfix) with ESMTP id 7E70740151 for ; Fri, 24 Oct 2025 17:18:25 +0200 (CEST) Received: by mail-qv1-f97.google.com with SMTP id 6a1803df08f44-87c0ea50881so27688336d6.2 for ; Fri, 24 Oct 2025 08:18:25 -0700 (PDT) DKIM-Signature: v=1; a=rsa-sha256; c=relaxed/relaxed; d=iol.unh.edu; s=unh-iol; t=1761319105; x=1761923905; darn=dpdk.org; h=references:in-reply-to:cc:to:from:subject:message-id:date:from:to :cc:subject:date:message-id:reply-to; bh=3Xufaz9c26pBH0wEo3tebyLbR1EwomRYJDEoSCUEOfU=; b=ArGwzk6JI2H21S7KLMaozi2wQpERa1tLLZJLSqXEuh/AE2s9MWwV149vnKgaesuFNP e7wWksnM/hey9QnCpLd+1KOR3D3G2cZaJKvFaeVQJRwiz8R7NtHRRqtfjqbULrKhozSA IJOYtziHkfm/Fulitfk32pwJMvX7HLi2xRB0s= X-Google-DKIM-Signature: v=1; a=rsa-sha256; c=relaxed/relaxed; d=1e100.net; s=20230601; t=1761319105; x=1761923905; h=references:in-reply-to:cc:to:from:subject:message-id:date :x-gm-message-state:from:to:cc:subject:date:message-id:reply-to; bh=3Xufaz9c26pBH0wEo3tebyLbR1EwomRYJDEoSCUEOfU=; b=BsIkgxX4MHR3JCRuIogDMjphuLsuD1OtVIbH4VMOxo7XyIfKvN8mGrAnl9NfugwWV8 Q6kMhMdjYkKQknnEHGiVt30Bxx9cYiosZOfkIkYgH6jDKZDye7bbODsFJt2ZA8sOU5YP CyiFRjMmB/iFK00tgKeTkA5bBEh0ZjuciD5KyjkYRsqJmuxrceAHj794ltevdkKXClzF 2xpAIw68b07LcwcQeRqVrkL1YHTchxYTePs84QnKjj2dXk08VqH3c5+lV5ialohqJ+xL MybQsV3XU96CAaKu7pSujP4IdNic6wdhPHWRB7ANzmQU5kRiSQGRV39sYHOEczGXNX5n b8kg== X-Gm-Message-State: AOJu0YxSsEQ0ANmKl20KXi59dr1QCJlyveqeDXtNLxo9IZFr1AAfzFsU oewaBGBiSeGelEoi77BoaphK1D9EDFdttdlhnJnYZ81fOba37C89e2iy9EBlCQbNHf+MVkZ8bOR mpNLidwAdPIc62MZX/rNQ4AIhzx+7AiNMkOUOrAxL2xql5D012BCpTGFLlV6z X-Gm-Gg: ASbGncujpN4FOZP20m26LHF3EzwyGC9UBsc45wlp2iCFREjO4gIQkd7+ia5dfIA+Lv/ RckUs80ym7mPSA+qHkkfiAlF1EAFeQ5DTxn5DMzZXIAqhQmny+m+HNIUXoS7zgffdQqjYkDYhzm Fud/YYNXANU0azD/7cVSvekL/MTPxUu43466tXe5KAje/SQeF/1I7OKPa3I1ZtP2aPlL9R6Z7J0 gyI0lha43+QQ0v2afOqylQ9lHXBRP29cSNHsGQFwQ79UG7dgrRBQpVdXFeH6BFv2A0+kS9FXoPE GcVq3mbcVq8WyeC9+SUsjE/Ex7JdS1n0N4+YjhpyG6Xe+Bzw3JcOQoP5njcmVC7qdAg63DfFTkH 0LNK1eqTP X-Google-Smtp-Source: AGHT+IHXPZnR6ZlmWpZpzhTwRGD0srPWVs1wzYeRUBHtZ174huXJAswVVY2kEaP9rGxVfFx6WssNYY8iHgPw X-Received: by 2002:a05:6214:418d:b0:87c:20f5:84f5 with SMTP id 6a1803df08f44-87c20f5871bmr348209936d6.66.1761319104609; Fri, 24 Oct 2025 08:18:24 -0700 (PDT) Received: from postal.iol.unh.edu (postal.iol.unh.edu. [2606:4100:3880:1234::84]) by smtp-relay.gmail.com with ESMTPS id 6a1803df08f44-87f9e72d5edsm4421746d6.15.2025.10.24.08.18.24 (version=TLS1_2 cipher=ECDHE-ECDSA-AES128-GCM-SHA256 bits=128/128); Fri, 24 Oct 2025 08:18:24 -0700 (PDT) X-Relaying-Domain: iol.unh.edu Date: Fri, 24 Oct 2025 08:18:24 -0700 (PDT) Message-ID: <68fb98c0.050a0220.2f7e87.6d8fSMTPIN_ADDED_MISSING@mx.google.com> Received: from [172.21.0.2] (unknown [172.18.0.240]) by postal.iol.unh.edu (Postfix) with ESMTP id 4901C604D420; Fri, 24 Oct 2025 11:18:24 -0400 (EDT) Subject: |WARNING| pw158029-158036 [PATCH] [v4,8/8] doc: update documentation From: dpdklab@iol.unh.edu To: Test Report Cc: dpdk-test-reports@iol.unh.edu In-Reply-To: <20251023154748.38535-9-stephen@networkplumber.org> References: <20251023154748.38535-9-stephen@networkplumber.org> Content-Type: text/plain X-BeenThere: test-report@dpdk.org X-Mailman-Version: 2.1.29 Precedence: list List-Id: automatic DPDK test reports List-Unsubscribe: , List-Archive: List-Post: List-Help: List-Subscribe: , Errors-To: test-report-bounces@dpdk.org Test-Label: iol-unit-arm64-testing Test-Status: WARNING http://dpdk.org/patch/158036 _Testing issues_ Submitter: Stephen Hemminger Date: Thursday, October 23 2025 15:46:29 DPDK git baseline: Repo:dpdk Branch: master CommitID:7c744b9a08cf3dd6bdd215689bb6d2beb8a8a4ef 158029-158036 --> testing issues Upstream job id: Generic-Unit-Test-DPDK#384597 Test environment and result as below: +------------------------------+----------------+--------------+---------------------------+------------------------------+ | Environment | dpdk_unit_test | lpm_autotest | cryptodev_sw_zuc_autotest | cryptodev_sw_snow3g_autotest | +==============================+================+==============+===========================+==============================+ | CentOS Stream 10 | WARN | SKIPPED | SKIPPED | SKIPPED | +------------------------------+----------------+--------------+---------------------------+------------------------------+ | Debian GNU/Linux 12 | WARN | SKIPPED | SKIPPED | SKIPPED | +------------------------------+----------------+--------------+---------------------------+------------------------------+ | CentOS Stream 9 | WARN | SKIPPED | SKIPPED | SKIPPED | +------------------------------+----------------+--------------+---------------------------+------------------------------+ | Fedora Linux 42 | PASS | SKIPPED | SKIPPED | SKIPPED | +------------------------------+----------------+--------------+---------------------------+------------------------------+ | Fedora Linux 40 | PASS | SKIPPED | SKIPPED | SKIPPED | +------------------------------+----------------+--------------+---------------------------+------------------------------+ | Ubuntu 22.04 | PASS | SKIPPED | SKIPPED | SKIPPED | +------------------------------+----------------+--------------+---------------------------+------------------------------+ | Red Hat Enterprise Linux 9.5 | WARN | SKIPPED | SKIPPED | SKIPPED | +------------------------------+----------------+--------------+---------------------------+------------------------------+ | Ubuntu 20.04 | WARN | PASS | SKIPPED | SKIPPED | +------------------------------+----------------+--------------+---------------------------+------------------------------+ | Fedora Linux 41 | PASS | SKIPPED | SKIPPED | SKIPPED | +------------------------------+----------------+--------------+---------------------------+------------------------------+ | Ubuntu 24.04 | WARN | SKIPPED | SKIPPED | SKIPPED | +------------------------------+----------------+--------------+---------------------------+------------------------------+ | Debian 12 (arm) | SKIPPED | SKIPPED | WARN | WARN | +------------------------------+----------------+--------------+---------------------------+------------------------------+ ==== 20 line log output for Debian 12 (arm) (cryptodev_sw_snow3g_autotest): ==== In file included from ../lib/eal/common/eal_export.h:8, from ../lib/pdump/rte_pdump.c:7: ../lib/pdump/rte_pdump.c: In function 'pdump_copy': ../lib/eal/include/rte_common.h:799:20: error: comparison of integer expressions of different signedness: 'unsigned int' and 'int' [-Werror=sign-compare] 799 | _a < _b ? _a : _b; \ | ^ ../lib/pdump/rte_pdump.c:211:34: note: in expansion of macro 'RTE_MIN' 211 | unsigned int n = RTE_MIN(nb_pkts - offs, PDUMP_BURST_SIZE); | ^~~~~~~ ../lib/eal/include/rte_common.h:799:32: error: operand of '?:' changes signedness from 'int' to 'unsigned int' due to unsignedness of other operand [-Werror=sign-compare] 799 | _a < _b ? _a : _b; \ | ^~ ../lib/pdump/rte_pdump.c:211:34: note: in expansion of macro 'RTE_MIN' 211 | unsigned int n = RTE_MIN(nb_pkts - offs, PDUMP_BURST_SIZE); | ^~~~~~~ cc1: all warnings being treated as errors [544/3816] Generating table.sym_chk with a custom command (wrapped by meson to capture output) [545/3816] Compiling C object lib/librte_vhost.a.p/vhost_vhost_crypto.c.o [546/3816] Compiling C object lib/librte_pipeline.a.p/pipeline_rte_table_action.c.o ninja: build stopped: subcommand failed. ==== End log output ==== CentOS Stream 10 Kernel: 5.4 Compiler: gcc gcc (GCC) 14.2.1 20250110 (Red Hat 14.2.1-8) Debian GNU/Linux 12 Kernel: 5.4 Compiler: gcc gcc (Debian 12.2.0-14+deb12u1) 12.2.0 CentOS Stream 9 Kernel: 5.4 Compiler: gcc gcc (GCC) 11.5.0 20240719 (Red Hat 11.5.0-11) Fedora Linux 42 Kernel: 5.4 Compiler: gcc gcc (GCC) 15.2.1 20250808 (Red Hat 15.2.1-1) Fedora Linux 40 Kernel: 5.4 Compiler: gcc gcc (GCC) 14.2.1 20240912 (Red Hat 14.2.1-3) Ubuntu 22.04 Kernel: 5.4 Compiler: gcc gcc (Ubuntu 11.4.0-1ubuntu1~22.04) 11.4.0 Red Hat Enterprise Linux 9.5 Kernel: 5.4 Compiler: gcc gcc (GCC) 11.5.0 20240719 (Red Hat 11.5.0-2) Ubuntu 20.04 Kernel: 5.4 Compiler: gcc gcc (Ubuntu 9.4.0-1ubuntu1~20.04.2) 9.4.0 Fedora Linux 41 Kernel: 5.4 Compiler: gcc gcc (GCC) 14.3.1 20250523 (Red Hat 14.3.1-1) Ubuntu 24.04 Kernel: 5.4 Compiler: gcc gcc (Ubuntu 13.3.0-6ubuntu2~24.04) 13.3.0 Debian 12 (arm) Kernel: Depends on container host Compiler: gcc (Debian 12.2.0-14) 12.2.0 To view detailed results, visit: https://lab.dpdk.org/results/dashboard/patchsets/34362/ UNH-IOL DPDK Community Lab To manage your email subscriptions, visit: https://lab.dpdk.org/results/dashboard/preferences/subscriptions/