From mboxrd@z Thu Jan 1 00:00:00 1970 Return-Path: Received: from mails.dpdk.org (mails.dpdk.org [217.70.189.124]) by inbox.dpdk.org (Postfix) with ESMTP id 2D761489C6 for ; Fri, 24 Oct 2025 17:19:58 +0200 (CEST) Received: from mails.dpdk.org (localhost [127.0.0.1]) by mails.dpdk.org (Postfix) with ESMTP id 24DEC40151; Fri, 24 Oct 2025 17:19:58 +0200 (CEST) Received: from mail-qt1-f225.google.com (mail-qt1-f225.google.com [209.85.160.225]) by mails.dpdk.org (Postfix) with ESMTP id ECA4140151 for ; Fri, 24 Oct 2025 17:19:56 +0200 (CEST) Received: by mail-qt1-f225.google.com with SMTP id d75a77b69052e-4eb9ca96781so4899361cf.3 for ; Fri, 24 Oct 2025 08:19:56 -0700 (PDT) DKIM-Signature: v=1; a=rsa-sha256; c=relaxed/relaxed; d=iol.unh.edu; s=unh-iol; t=1761319196; x=1761923996; darn=dpdk.org; h=references:in-reply-to:cc:to:from:subject:message-id:date:from:to :cc:subject:date:message-id:reply-to; bh=i4nWYK1qMwleYxHk66AeGdZkM68KBcb+2eiSBC0qdIw=; b=j0uqwCUV+0A05xu0vdECOZY/EY/wWtJ+HXFqqeQKVvjusqLNJd+eSkXk4OyOclWF2G sf20VTAGfiFqeuO6mSp2B/JUvh2ze+CnlXUYMU1avmv+STeZZC49FfRm8KZFAN0aTWtJ r0P5ZnDPOMezb2r+752ARPcV+pp0OF/WZFwjk= X-Google-DKIM-Signature: v=1; a=rsa-sha256; c=relaxed/relaxed; d=1e100.net; s=20230601; t=1761319196; x=1761923996; h=references:in-reply-to:cc:to:from:subject:message-id:date :x-gm-message-state:from:to:cc:subject:date:message-id:reply-to; bh=i4nWYK1qMwleYxHk66AeGdZkM68KBcb+2eiSBC0qdIw=; b=cqsP9geQ9gka2yhqmS2YbVmjA7uGI8//j4GK5fcj76Sm0W3FpQzsuZqZqW7JCT5zGb kO22yWV3kKKygUmoGtAm2vAt3CAM5OcnFV3t8kcOmUAr5ruZqhAXOjkA5xbVjnaR66LX hT0YJsXmh+ismptLREmor6ihF0pgJZN5elcJC8q1KzBWcuxmZhZ915rTFOGl35YiB6bw M/U6IOXmklJKUPf4LhLq7PjY+cap0WrUcW07SOl3qHvc4egSOJIeeDQcaMEebJRAHh68 8+ztiWOzcWeHK0nAFeloBAJk6ryfMyKnP6YMcVNKosu0AyUJXkuFW0cP27QRPmSl/ng5 08bA== X-Gm-Message-State: AOJu0YwdNXs2kj9F4ln/9rVQyFgW7V63FwO3OQgw9oaeMIFnnjAJEqq2 cYNZV+byLR7mrr6ahMNJfBoYQIkW3ovYgpGq5csgxPFlejYn/qcqB1I34e6/zIpLzkvfqQ7flH1 OHRHODQSAzVkUf59wJF19QHCofGcw5yu0umvMNRzTWiGc X-Gm-Gg: ASbGncvU3r4ta6kjGuYtTrRtoTSMZGoNzkBfCQAj+coJI2Uy1Gon0glfBwHJ6W69D37 P/Q/K0o+awOq2sQ4m/JXL/G9JV78FZOAxbroncKmgoKm7iWBh0GIWKtMCqs21pg2a8MHDf7aNJN vuCuYXeF7IMcFnPzfmFsn9HTC8t6UXre39LL4/JnAnoNlif6tG3Y1D88Z0XEXj0aotQJE4WWV3Y PtczkBwou1u38nfQ0yhVyALdiWZWRsZbsM/7+thltO4b07cDfprmlW+y2VPM/fgkri0bm4qxbAI eDn65zqLnSINnUTEWZpjVAH2aD5ZZQjG8OW0z/Pb6ELl+tOOKVViYVQ9BRAyCmElwTXKD8wcg3M 0lsb1Td75bUwPa4bA3wMdmHsmUHfJigk= X-Google-Smtp-Source: AGHT+IGL9CLxyCWCF3lgjGKkKSutdV8ssEVuAbDc07r6PUZZiYRRLWU0TB+krhU6q2god8BAnW5uraZIYOQD X-Received: by 2002:a05:622a:5d0:b0:4e8:97b3:abfb with SMTP id d75a77b69052e-4e89d35d2f9mr353706591cf.55.1761319196302; Fri, 24 Oct 2025 08:19:56 -0700 (PDT) Received: from postal.iol.unh.edu (postal.iol.unh.edu. [132.177.123.84]) by smtp-relay.gmail.com with ESMTPS id d75a77b69052e-4eb803870c0sm3568531cf.0.2025.10.24.08.19.56 (version=TLS1_2 cipher=ECDHE-ECDSA-AES128-GCM-SHA256 bits=128/128); Fri, 24 Oct 2025 08:19:56 -0700 (PDT) X-Relaying-Domain: iol.unh.edu Date: Fri, 24 Oct 2025 08:19:56 -0700 (PDT) Message-ID: <68fb991c.050a0220.1f1f24.28a0SMTPIN_ADDED_MISSING@mx.google.com> Received: from [172.21.0.2] (unknown [172.18.0.240]) by postal.iol.unh.edu (Postfix) with ESMTP id 04ECE604D420; Fri, 24 Oct 2025 11:19:56 -0400 (EDT) Subject: |SUCCESS| pw158027 [PATCH] [v6] mbuf: optimize segment prefree From: dpdklab@iol.unh.edu To: Test Report Cc: dpdk-test-reports@iol.unh.edu In-Reply-To: <20251023124858.318148-1-mb@smartsharesystems.com> References: <20251023124858.318148-1-mb@smartsharesystems.com> Content-Type: text/plain X-BeenThere: test-report@dpdk.org X-Mailman-Version: 2.1.29 Precedence: list List-Id: automatic DPDK test reports List-Unsubscribe: , List-Archive: List-Post: List-Help: List-Subscribe: , Errors-To: test-report-bounces@dpdk.org Test-Label: iol-compile-arm64-testing Test-Status: SUCCESS http://dpdk.org/patch/158027 _Testing PASS_ Submitter: Morten Brorup Date: Thursday, October 23 2025 12:48:58 DPDK git baseline: Repo:dpdk Branch: master CommitID:2863cbd9ee6dabee2b183382d298f4054ba3e8a2 158027 --> testing pass Upstream job id: Generic-DPDK-Compile-Meson#437149 Test environment and result as below: +------------------------------+--------------------+ | Environment | dpdk_meson_compile | +==============================+====================+ | Red Hat Enterprise Linux 9.5 | PASS | +------------------------------+--------------------+ | Ubuntu 20.04 | PASS | +------------------------------+--------------------+ | Debian GNU/Linux 12 | PASS | +------------------------------+--------------------+ | Fedora Linux 42 | PASS | +------------------------------+--------------------+ | Ubuntu 22.04 | PASS | +------------------------------+--------------------+ | Ubuntu 24.04 | PASS | +------------------------------+--------------------+ | CentOS Stream 9 | PASS | +------------------------------+--------------------+ | CentOS Stream 10 | PASS | +------------------------------+--------------------+ Red Hat Enterprise Linux 9.5 Kernel: 5.4 Compiler: gcc gcc (GCC) 11.5.0 20240719 (Red Hat 11.5.0-2) Ubuntu 20.04 Kernel: 5.15 Compiler: aarch64-linux-gnu-gcc gcc (Ubuntu 9.4.0-1ubuntu1~20.04.2) 9.4.0 Debian GNU/Linux 12 Kernel: 5.4 Compiler: gcc gcc (Debian 12.2.0-14+deb12u1) 12.2.0 Fedora Linux 42 Kernel: 5.4 Compiler: gcc gcc (GCC) 15.2.1 20250808 (Red Hat 15.2.1-1) Ubuntu 22.04 Kernel: 5.4 Compiler: gcc gcc (Ubuntu 11.4.0-1ubuntu1~22.04) 11.4.0 Ubuntu 24.04 Kernel: 5.4 Compiler: gcc gcc (Ubuntu 13.3.0-6ubuntu2~24.04) 13.3.0 CentOS Stream 9 Kernel: 5.4 Compiler: gcc gcc (GCC) 11.5.0 20240719 (Red Hat 11.5.0-11) CentOS Stream 10 Kernel: 5.4 Compiler: gcc gcc (GCC) 14.2.1 20250110 (Red Hat 14.2.1-8) To view detailed results, visit: https://lab.dpdk.org/results/dashboard/patchsets/34360/ UNH-IOL DPDK Community Lab To manage your email subscriptions, visit: https://lab.dpdk.org/results/dashboard/preferences/subscriptions/