From mboxrd@z Thu Jan 1 00:00:00 1970 Return-Path: Received: from mails.dpdk.org (mails.dpdk.org [217.70.189.124]) by inbox.dpdk.org (Postfix) with ESMTP id 7119D489C6 for ; Fri, 24 Oct 2025 17:22:26 +0200 (CEST) Received: from mails.dpdk.org (localhost [127.0.0.1]) by mails.dpdk.org (Postfix) with ESMTP id 6C62940151; Fri, 24 Oct 2025 17:22:26 +0200 (CEST) Received: from mail-il1-f225.google.com (mail-il1-f225.google.com [209.85.166.225]) by mails.dpdk.org (Postfix) with ESMTP id 0336540151 for ; Fri, 24 Oct 2025 17:22:24 +0200 (CEST) Received: by mail-il1-f225.google.com with SMTP id e9e14a558f8ab-430d4cf258fso8677765ab.0 for ; Fri, 24 Oct 2025 08:22:24 -0700 (PDT) DKIM-Signature: v=1; a=rsa-sha256; c=relaxed/relaxed; d=iol.unh.edu; s=unh-iol; t=1761319344; x=1761924144; darn=dpdk.org; h=references:in-reply-to:cc:to:from:subject:message-id:date:from:to :cc:subject:date:message-id:reply-to; bh=wHUXWiNqRyxTb6JoQN7y/UlnUoLHt5LsomjFP7MyMh0=; b=bH8F9OpiXJwpHrChEVmg5pScL7huy3IHfyh+rjOa+UwRTTMAQ0LNY9D9EMChU7cTdm zglzsBYiIkx23rdyCDRtJxUoza/b7akLSHy66P9Z5pKcxadY0ZcRMwZHePdKHFAISI1J an+MvDmJoKFvpJtstTNR6oRQjNCd9UhxgYg4A= X-Google-DKIM-Signature: v=1; a=rsa-sha256; c=relaxed/relaxed; d=1e100.net; s=20230601; t=1761319344; x=1761924144; h=references:in-reply-to:cc:to:from:subject:message-id:date :x-gm-message-state:from:to:cc:subject:date:message-id:reply-to; bh=wHUXWiNqRyxTb6JoQN7y/UlnUoLHt5LsomjFP7MyMh0=; b=i167GfR1kBrxOYc/C8MQCueuVj8B/yCxZhjhKNe0iaK3rGrDY4IOZcrNPKWe4MqZVk 5GVQujOmomiLpHK0Xgjxe4jBJbKUCTxE4Hc4omJIYOYfnbDhyegsWN0R22FDnTLvyXbW a890HxbXdg2Rx7LVHjwBi3XFBoEJ7TLj1d73St9xNtywOla6lBtuG6w27kd19U5gxMSo ZHdGQKYw7L0TW5THvPHqNApcAdaBq4/YUcdZBfF5OYUhAAPh/wW42novHjrRczWhKuDT FdsG8TNj90rE8soNpMHkTspNQFtxb5fBIATLSR612HWl+cGD1g4vmD2ALZHILD3nU3Js ctuA== X-Gm-Message-State: AOJu0Yz4s68h3T3t2XLZHYEPNCJk0p8tTXNmnlw+GRvH0786jNqJ/9YH ThQrKcH2eOpWMHJN/1sVqX5DZ8ondG5ImO+XFkyKCjbivZjJszJN8f+pQarLhGQzM9vGcWTk/nw TQIl/y8oHctPoFTRdhcEmYrPPLcv+3g3t1WaEAuJQBmfS X-Gm-Gg: ASbGncvJmnBZjeMA2S6lYgF9lFueyditILvPXoSJR3oNRerF5n7M0p9QWT0FW7dSPCh xdGamPEPm8k8hTVJ3UsTwZPJt3ZCQ13FlRa7dpJzWHM60JnP2ogr0OVDTljJBYjj2Yo6L2K8rpj aJZhu8eDpYWeH+w3GLMWUicHHMLBDbiFtd9wvFPoSYQhIaIz9hy0okgjkkHpbkOpKNeIyPrN5Jc gB7RClx2UcoiV3mz8Kf0KaXwdR0XFY/VgkeortPd9raBxkS7Fvi0c1QmHJehZWylGcs38Jn4AyE hSqxBb4C+e6w8S6uAgRUPTl8Bt/pPcGnpGQB58OAtNaTp6x23F45zucWWSA4mmaIkdNjsCIV3sw uIUfdkKc/I9fPW59Vo32mJiVQBUkrDmY= X-Google-Smtp-Source: AGHT+IHvgd8cIyGIiJ3wR+2NpaETLubEIm9UWz66BucIoWDSaOXIlZp8JabVAY2c81tnXD/SvNCejhEE2Hus X-Received: by 2002:a05:6e02:248d:b0:431:d3c9:66a2 with SMTP id e9e14a558f8ab-431ebdf1645mr37424875ab.2.1761319344209; Fri, 24 Oct 2025 08:22:24 -0700 (PDT) Received: from postal.iol.unh.edu (postal.iol.unh.edu. [132.177.123.84]) by smtp-relay.gmail.com with ESMTPS id e9e14a558f8ab-431dbbf41b0sm5066035ab.6.2025.10.24.08.22.24 (version=TLS1_2 cipher=ECDHE-ECDSA-AES128-GCM-SHA256 bits=128/128); Fri, 24 Oct 2025 08:22:24 -0700 (PDT) X-Relaying-Domain: iol.unh.edu Date: Fri, 24 Oct 2025 08:22:24 -0700 (PDT) Message-ID: <68fb99b0.050a0220.7923b.a3b8SMTPIN_ADDED_MISSING@mx.google.com> Received: from [172.21.0.2] (unknown [172.18.0.240]) by postal.iol.unh.edu (Postfix) with ESMTP id B6900604D420; Fri, 24 Oct 2025 11:22:23 -0400 (EDT) Subject: |SUCCESS| pw158037 [PATCH] [v7] mbuf: optimize segment prefree From: dpdklab@iol.unh.edu To: Test Report Cc: dpdk-test-reports@iol.unh.edu In-Reply-To: <20251023161851.328258-1-mb@smartsharesystems.com> References: <20251023161851.328258-1-mb@smartsharesystems.com> Content-Type: text/plain X-BeenThere: test-report@dpdk.org X-Mailman-Version: 2.1.29 Precedence: list List-Id: automatic DPDK test reports List-Unsubscribe: , List-Archive: List-Post: List-Help: List-Subscribe: , Errors-To: test-report-bounces@dpdk.org Test-Label: iol-compile-arm64-testing Test-Status: SUCCESS http://dpdk.org/patch/158037 _Testing PASS_ Submitter: Morten Brorup Date: Thursday, October 23 2025 16:18:50 DPDK git baseline: Repo:dpdk Branch: master CommitID:7c744b9a08cf3dd6bdd215689bb6d2beb8a8a4ef 158037 --> testing pass Upstream job id: Generic-DPDK-Compile-Meson#437208 Test environment and result as below: +------------------------------+--------------------+ | Environment | dpdk_meson_compile | +==============================+====================+ | Red Hat Enterprise Linux 9.5 | PASS | +------------------------------+--------------------+ | Ubuntu 20.04 | PASS | +------------------------------+--------------------+ | Debian GNU/Linux 12 | PASS | +------------------------------+--------------------+ | Fedora Linux 42 | PASS | +------------------------------+--------------------+ | Ubuntu 22.04 | PASS | +------------------------------+--------------------+ | Ubuntu 24.04 | PASS | +------------------------------+--------------------+ | CentOS Stream 9 | PASS | +------------------------------+--------------------+ | CentOS Stream 10 | PASS | +------------------------------+--------------------+ Red Hat Enterprise Linux 9.5 Kernel: 5.4 Compiler: gcc gcc (GCC) 11.5.0 20240719 (Red Hat 11.5.0-2) Ubuntu 20.04 Kernel: 5.15 Compiler: aarch64-linux-gnu-gcc gcc (Ubuntu 9.4.0-1ubuntu1~20.04.2) 9.4.0 Debian GNU/Linux 12 Kernel: 5.4 Compiler: gcc gcc (Debian 12.2.0-14+deb12u1) 12.2.0 Fedora Linux 42 Kernel: 5.4 Compiler: gcc gcc (GCC) 15.2.1 20250808 (Red Hat 15.2.1-1) Ubuntu 22.04 Kernel: 5.4 Compiler: gcc gcc (Ubuntu 11.4.0-1ubuntu1~22.04) 11.4.0 Ubuntu 24.04 Kernel: 5.4 Compiler: gcc gcc (Ubuntu 13.3.0-6ubuntu2~24.04) 13.3.0 CentOS Stream 9 Kernel: 5.4 Compiler: gcc gcc (GCC) 11.5.0 20240719 (Red Hat 11.5.0-11) CentOS Stream 10 Kernel: 5.4 Compiler: gcc gcc (GCC) 14.2.1 20250110 (Red Hat 14.2.1-8) To view detailed results, visit: https://lab.dpdk.org/results/dashboard/patchsets/34363/ UNH-IOL DPDK Community Lab To manage your email subscriptions, visit: https://lab.dpdk.org/results/dashboard/preferences/subscriptions/