From mboxrd@z Thu Jan 1 00:00:00 1970 Return-Path: Received: from mails.dpdk.org (mails.dpdk.org [217.70.189.124]) by inbox.dpdk.org (Postfix) with ESMTP id 7EE5A489C6 for ; Fri, 24 Oct 2025 17:22:34 +0200 (CEST) Received: from mails.dpdk.org (localhost [127.0.0.1]) by mails.dpdk.org (Postfix) with ESMTP id 79FFF4021E; Fri, 24 Oct 2025 17:22:34 +0200 (CEST) Received: from mail-io1-f100.google.com (mail-io1-f100.google.com [209.85.166.100]) by mails.dpdk.org (Postfix) with ESMTP id D4DEB4021E for ; Fri, 24 Oct 2025 17:22:33 +0200 (CEST) Received: by mail-io1-f100.google.com with SMTP id ca18e2360f4ac-92b92e4b078so92369339f.0 for ; Fri, 24 Oct 2025 08:22:33 -0700 (PDT) DKIM-Signature: v=1; a=rsa-sha256; c=relaxed/relaxed; d=iol.unh.edu; s=unh-iol; t=1761319353; x=1761924153; darn=dpdk.org; h=references:in-reply-to:cc:to:from:subject:message-id:date:from:to :cc:subject:date:message-id:reply-to; bh=DevtoF8XBwBQKsVTI9pQxR22sYapfxfHgcZ7b9+pdR8=; b=VtuPPCFxUm6VynhOulCg2hgqNjeKiYvzrLyHd79XC8dA1I8AABy4BmEw2dzVkuDzsT 2Cfq+51/tqYdIAhcNy3pE9XOJCQavSm71LC+uZU1Bqf12yPOiNeOYTpNTjrAYueB6yIQ g/hRJ0Qc0bYxS9qpTcKmu6xqbOPgJ/NEiox5A= X-Google-DKIM-Signature: v=1; a=rsa-sha256; c=relaxed/relaxed; d=1e100.net; s=20230601; t=1761319353; x=1761924153; h=references:in-reply-to:cc:to:from:subject:message-id:date :x-gm-message-state:from:to:cc:subject:date:message-id:reply-to; bh=DevtoF8XBwBQKsVTI9pQxR22sYapfxfHgcZ7b9+pdR8=; b=sVEZzd6MiTlcJQ/6MyHeiPIcMvvH6loXJgxq6gCp5YT2h1w+SILsM3UdXTaoIS8wRX YAl0spFa2ZSOKkSq0lFsowgF/SafU0Fq/6RfSJeWMOzmg6XTlJerCDX9hBb4O32ga70g 1w3MvqD/PQ2tGdjmTtweV1aml2880A5HweSdyCUi7PthZn1fYcVgV5jwm91Ikbwmuua0 kyqNPa1AJNvIU84pYRg47/ZAs0LXpsn3r6Yj2hFzYl4jowD1Xks4ZWX6nQyq9BkOEcGW svuEblSGA3kSoRuJJ1JJawRP1PZqgg5cp8/f5+qAS3IN56Lc51p14T7bY+I2Jmh8g4MT eW3w== X-Gm-Message-State: AOJu0YzLTJ2is5+SpkJEJiKhEKFYxooQRR1d/s9qIkrC9oN5FZVBhnnh ccHJHWgvA6yZMi4KghqZ4W/Yhw5UNBko0GuUTuIYQrBCTnSIytAvkL90eFf2tGLCqNBRntK44zy L78rKj1CkU017XDB2lNpxhAVWvGmkNS/+qVcJiJ1/oGuz1ddeWBaQsthLBIGv X-Gm-Gg: ASbGncuuupsK8KiVFpYGIXIABVHzKF1cWZqX8u13u+d2R3QCZ79QR2LU46dH2g1g6UU ZhKnRJ3mjb9lSXzDQy0CjIOTJKD0OSK0FCPe87UOTPZfQ98mBSPyWrkMpLNQ7/6KoBaSdnmOdWj kdaKAlNK1WF6u5VqlW4QlOiamn49UsLcXkirT8skJ3wDM4XodjEBk6OrKxleRKkun2/a8jg9IPf uNSKg6qvhA+DYpf3SdEzYFj5lfLBgfHl8qmbsdm+zq7tzZQR6yC001PT2u15upiqiLFx0Z39LDv OdBL3I8iy4Puy4yUSQB3BZv0E3Udq7dRM5ZNhMU/U3o1qZiYRN2jlilvtnUxM2+zg0Y1zNtclbL bwaREB4kJ X-Google-Smtp-Source: AGHT+IH4jo1S9e0L+Dr/tVlkdzaowp58qE9AwOQEl8+ew7GiJCMfiLLblWBAZnLpKPmvBw5qgfVlrUKZA5lo X-Received: by 2002:a05:6e02:19cf:b0:430:be92:b60d with SMTP id e9e14a558f8ab-430c52d76e5mr377717905ab.26.1761319353072; Fri, 24 Oct 2025 08:22:33 -0700 (PDT) Received: from postal.iol.unh.edu (postal.iol.unh.edu. [2606:4100:3880:1234::84]) by smtp-relay.gmail.com with ESMTPS id e9e14a558f8ab-431dbc84da3sm4815275ab.25.2025.10.24.08.22.32 (version=TLS1_2 cipher=ECDHE-ECDSA-AES128-GCM-SHA256 bits=128/128); Fri, 24 Oct 2025 08:22:33 -0700 (PDT) X-Relaying-Domain: iol.unh.edu Date: Fri, 24 Oct 2025 08:22:33 -0700 (PDT) Message-ID: <68fb99b9.050a0220.faaf7.97c5SMTPIN_ADDED_MISSING@mx.google.com> Received: from [172.21.0.2] (unknown [172.18.0.240]) by postal.iol.unh.edu (Postfix) with ESMTP id 7404B604D420; Fri, 24 Oct 2025 11:22:32 -0400 (EDT) Subject: |SUCCESS| pw158037 [PATCH] [v7] mbuf: optimize segment prefree From: dpdklab@iol.unh.edu To: Test Report Cc: dpdk-test-reports@iol.unh.edu In-Reply-To: <20251023161851.328258-1-mb@smartsharesystems.com> References: <20251023161851.328258-1-mb@smartsharesystems.com> Content-Type: text/plain X-BeenThere: test-report@dpdk.org X-Mailman-Version: 2.1.29 Precedence: list List-Id: automatic DPDK test reports List-Unsubscribe: , List-Archive: List-Post: List-Help: List-Subscribe: , Errors-To: test-report-bounces@dpdk.org Test-Label: iol-compile-arm64-testing Test-Status: SUCCESS http://dpdk.org/patch/158037 _Testing PASS_ Submitter: Morten Brorup Date: Thursday, October 23 2025 16:18:50 DPDK git baseline: Repo:dpdk Branch: master CommitID:7c744b9a08cf3dd6bdd215689bb6d2beb8a8a4ef 158037 --> testing pass Upstream job id: Generic-DPDK-Compile-Meson#437207 Test environment and result as below: +------------------------------+--------------------+ | Environment | dpdk_meson_compile | +==============================+====================+ | Red Hat Enterprise Linux 9.5 | PASS | +------------------------------+--------------------+ | Ubuntu 20.04 | PASS | +------------------------------+--------------------+ | Debian GNU/Linux 12 | PASS | +------------------------------+--------------------+ | Fedora Linux 42 | PASS | +------------------------------+--------------------+ | Ubuntu 22.04 | PASS | +------------------------------+--------------------+ | Ubuntu 24.04 | PASS | +------------------------------+--------------------+ | CentOS Stream 9 | PASS | +------------------------------+--------------------+ | CentOS Stream 10 | PASS | +------------------------------+--------------------+ Red Hat Enterprise Linux 9.5 Kernel: 5.4 Compiler: gcc gcc (GCC) 11.5.0 20240719 (Red Hat 11.5.0-2) Ubuntu 20.04 Kernel: 5.15 Compiler: aarch64-linux-gnu-gcc gcc (Ubuntu 9.4.0-1ubuntu1~20.04.2) 9.4.0 Debian GNU/Linux 12 Kernel: 5.4 Compiler: gcc gcc (Debian 12.2.0-14+deb12u1) 12.2.0 Fedora Linux 42 Kernel: 5.4 Compiler: gcc gcc (GCC) 15.2.1 20250808 (Red Hat 15.2.1-1) Ubuntu 22.04 Kernel: 5.4 Compiler: gcc gcc (Ubuntu 11.4.0-1ubuntu1~22.04) 11.4.0 Ubuntu 24.04 Kernel: 5.4 Compiler: gcc gcc (Ubuntu 13.3.0-6ubuntu2~24.04) 13.3.0 CentOS Stream 9 Kernel: 5.4 Compiler: gcc gcc (GCC) 11.5.0 20240719 (Red Hat 11.5.0-11) CentOS Stream 10 Kernel: 5.4 Compiler: gcc gcc (GCC) 14.2.1 20250110 (Red Hat 14.2.1-8) To view detailed results, visit: https://lab.dpdk.org/results/dashboard/patchsets/34363/ UNH-IOL DPDK Community Lab To manage your email subscriptions, visit: https://lab.dpdk.org/results/dashboard/preferences/subscriptions/