From mboxrd@z Thu Jan 1 00:00:00 1970 Return-Path: Received: from mails.dpdk.org (mails.dpdk.org [217.70.189.124]) by inbox.dpdk.org (Postfix) with ESMTP id 57EF0489C6 for ; Fri, 24 Oct 2025 17:31:38 +0200 (CEST) Received: from mails.dpdk.org (localhost [127.0.0.1]) by mails.dpdk.org (Postfix) with ESMTP id 33E3940151; Fri, 24 Oct 2025 17:31:38 +0200 (CEST) Received: from mail-qv1-f97.google.com (mail-qv1-f97.google.com [209.85.219.97]) by mails.dpdk.org (Postfix) with ESMTP id 7858940151 for ; Fri, 24 Oct 2025 17:31:37 +0200 (CEST) Received: by mail-qv1-f97.google.com with SMTP id 6a1803df08f44-87c1f3f4373so32859256d6.2 for ; Fri, 24 Oct 2025 08:31:37 -0700 (PDT) DKIM-Signature: v=1; a=rsa-sha256; c=relaxed/relaxed; d=iol.unh.edu; s=unh-iol; t=1761319897; x=1761924697; darn=dpdk.org; h=cc:to:from:subject:message-id:date:from:to:cc:subject:date :message-id:reply-to; bh=q4Af9d6DVG1eCunHB4KHTkxhizbjymgBGwYR3QL6uFg=; b=ASf16I6JytemQGk3332QQLfU3HY9RgqRvqGVjzNBoHEn3uw6gZXiAsoCeIpbEAhHaL NkTf5y24zpcQD8QT1HCcsH3eJPwUPGFn5/5Iw9pBr636P4d3/4M+2LTF0CvfkizVJbS2 AaZNoOEFOh37YOlR9yDb3BtIR+RJs3zJmx+Ts= X-Google-DKIM-Signature: v=1; a=rsa-sha256; c=relaxed/relaxed; d=1e100.net; s=20230601; t=1761319897; x=1761924697; h=cc:to:from:subject:message-id:date:x-gm-message-state:from:to:cc :subject:date:message-id:reply-to; bh=q4Af9d6DVG1eCunHB4KHTkxhizbjymgBGwYR3QL6uFg=; b=dPVWjL30tsuv+5Yw9+0anmsXTnvJJ15Av4F7ylyLxTWZWvJJDpLuOgM0K7wGfPUvEV +jq5MKIwUrwyceFnwIOOBCifrvF2SM8uKy6o0pNHThKONeMqxd28vSXwoxwNTI5qYW+5 Wbhu4Rmma/dP8Z0I6rudkgBkTkc8/D/fCLudTJySqiBm9Qq9qrhk8x8p9Nkdj0N2ldFq GGTGkHaggptvdh0JeLSdwSSoHQmrVb5bR4vQWDCxP2RrNcX68nYpMHYB+uagBmnqmFPb kY/uhFEzxvmuTf0pw8urYCumJd2IdnTbN51kn/nTXdNfVV3KBWQbMA582QDfn9kJS0an lSCw== X-Gm-Message-State: AOJu0Yyh3hhSNd7z2JamsdCiygsWYckCCxGGBdtbPkUkTj3v1Y3tHHCy DsnuWLc3EmI8LWy9sJO2hUXDqzlYwK0OlWeYJncUHTjbK4+AocH2hX+FPTEFfWB8+HYHDIB0+2w fIjsyn3XgsWeuDYv1fjxujsyjP3Kymy1VuBVbHj/Hh1f2 X-Gm-Gg: ASbGncspnjIZrKoMwjWTw1SdROl+V/r3IM+wpODxHHJlDtU5KaX2iHirOm7687ZIjaC olbfw/r1ES+1Ll2p0XDnnOsq5lq88r9lO0eFd9me/P26iYVgCAEduQFQGStvZC63cokN0ox0X05 1zKnJClAMZ2p7tTb2piMBY4IKmHX/1En4JmVHRxTrP7I+Qot39SPq5FauvQnAFZ9prvIPR73/Vn BlEOoKso+lgaZwY9dLTLqmPnXmaoBG30YyVtuBqPgflRqsJAgGpcAR+Fufs1KNCVklFvdq1DyHZ K1KT0KXTBQMsaWdc+AqGuf8QeZdJK4aX8EDFz8Hu2BYu0JvtF198J/NcIh2M8tkdwN9HLpa9FQw 9rVJQcIKQ0aY7lx3/ywmNwStCUCAZ2y8= X-Google-Smtp-Source: AGHT+IHuO3ldIOaOVHEI7nnCr5adaIjy1UsL4cX4WB3wzbi/TUwn59ZjSQ6tFpECft/xKwtj0nJZjtJp4jga X-Received: by 2002:ad4:5d6f:0:b0:87c:2c0d:309e with SMTP id 6a1803df08f44-87c2c0d3796mr260034376d6.37.1761319896037; Fri, 24 Oct 2025 08:31:36 -0700 (PDT) Received: from postal.iol.unh.edu (postal.iol.unh.edu. [132.177.123.84]) by smtp-relay.gmail.com with ESMTPS id 6a1803df08f44-87f9a1601a7sm4437666d6.3.2025.10.24.08.31.35 (version=TLS1_2 cipher=ECDHE-ECDSA-AES128-GCM-SHA256 bits=128/128); Fri, 24 Oct 2025 08:31:36 -0700 (PDT) X-Relaying-Domain: iol.unh.edu Date: Fri, 24 Oct 2025 08:31:36 -0700 (PDT) Message-ID: <68fb9bd8.050a0220.27539d.69d7SMTPIN_ADDED_MISSING@mx.google.com> Received: from [172.21.0.2] (unknown [172.18.0.240]) by postal.iol.unh.edu (Postfix) with ESMTP id BE27A604D420; Fri, 24 Oct 2025 11:31:35 -0400 (EDT) Subject: |WARNING| [GIT MASTER] 6edcec237e31fcdb848cca6c151ee7a5bf057c28 From: dpdklab@iol.unh.edu To: Test Report Cc: dpdk-test-reports@iol.unh.edu Content-Type: text/plain X-BeenThere: test-report@dpdk.org X-Mailman-Version: 2.1.29 Precedence: list List-Id: automatic DPDK test reports List-Unsubscribe: , List-Archive: List-Post: List-Help: List-Subscribe: , Errors-To: test-report-bounces@dpdk.org _Testing issues_ Branch: dpdk 6edcec237e31fcdb848cca6c151ee7a5bf057c28 --> testing issues Upstream job id: Generic-DPDK-Compile-Meson#437294 Test environment and result as below: +-------------------------------+--------------------+-------------------------+-------------------+----------------------+-------------------+------------------+ | Environment | dpdk_meson_compile | dpdk_llvm_clang_compile | dpdk_msvc_compile | dpdk_mingw64_compile | dpdk_compile_spdk | dpdk_compile_ovs | +===============================+====================+=========================+===================+======================+===================+==================+ | Ubuntu 20.04 | PASS | SKIPPED | SKIPPED | SKIPPED | SKIPPED | SKIPPED | +-------------------------------+--------------------+-------------------------+-------------------+----------------------+-------------------+------------------+ | FreeBSD 14.2 | PASS | SKIPPED | SKIPPED | SKIPPED | SKIPPED | SKIPPED | +-------------------------------+--------------------+-------------------------+-------------------+----------------------+-------------------+------------------+ | CentOS Stream 9 | PEND | SKIPPED | SKIPPED | SKIPPED | PEND | SKIPPED | +-------------------------------+--------------------+-------------------------+-------------------+----------------------+-------------------+------------------+ | CentOS Stream 10 | PASS | SKIPPED | SKIPPED | SKIPPED | SKIPPED | SKIPPED | +-------------------------------+--------------------+-------------------------+-------------------+----------------------+-------------------+------------------+ | Debian GNU/Linux 12 | PASS | SKIPPED | SKIPPED | SKIPPED | WARN | SKIPPED | +-------------------------------+--------------------+-------------------------+-------------------+----------------------+-------------------+------------------+ | Fedora Linux 42 | PEND | SKIPPED | SKIPPED | SKIPPED | PEND | PEND | +-------------------------------+--------------------+-------------------------+-------------------+----------------------+-------------------+------------------+ | openSUSE Leap 15.6 | PEND | SKIPPED | SKIPPED | SKIPPED | SKIPPED | SKIPPED | +-------------------------------+--------------------+-------------------------+-------------------+----------------------+-------------------+------------------+ | Red Hat Enterprise Linux 8.10 | PASS | SKIPPED | SKIPPED | SKIPPED | SKIPPED | SKIPPED | +-------------------------------+--------------------+-------------------------+-------------------+----------------------+-------------------+------------------+ | Red Hat Enterprise Linux 9.5 | PASS | SKIPPED | SKIPPED | SKIPPED | SKIPPED | SKIPPED | +-------------------------------+--------------------+-------------------------+-------------------+----------------------+-------------------+------------------+ | Ubuntu 22.04 | PEND | SKIPPED | SKIPPED | SKIPPED | PEND | SKIPPED | +-------------------------------+--------------------+-------------------------+-------------------+----------------------+-------------------+------------------+ | Ubuntu 24.04 | PEND | SKIPPED | SKIPPED | SKIPPED | PEND | PEND | +-------------------------------+--------------------+-------------------------+-------------------+----------------------+-------------------+------------------+ | Alpine Linux 3.22.0 | PEND | SKIPPED | SKIPPED | SKIPPED | SKIPPED | SKIPPED | +-------------------------------+--------------------+-------------------------+-------------------+----------------------+-------------------+------------------+ | Arch Linux 20250613.0.365270 | PEND | SKIPPED | SKIPPED | SKIPPED | SKIPPED | SKIPPED | +-------------------------------+--------------------+-------------------------+-------------------+----------------------+-------------------+------------------+ | Windows Server 2022 | SKIPPED | PASS | PASS | PASS | SKIPPED | SKIPPED | +-------------------------------+--------------------+-------------------------+-------------------+----------------------+-------------------+------------------+ ==== 20 line log output for Debian GNU/Linux 12 (dpdk_compile_spdk): ==== --- Failed to get log output --- ==== End log output ==== Ubuntu 20.04 Kernel: 4.19 Compiler: gcc gcc (Ubuntu 9.4.0-1ubuntu1~20.04.2) 9.4.0 FreeBSD 14.2 Kernel: 14.2-RELEASE Compiler: clang 18.1.6 CentOS Stream 9 Kernel: 5.15 Compiler: gcc gcc (GCC) 11.5.0 20240719 (Red Hat 11.5.0-11) CentOS Stream 10 Kernel: 5.15 Compiler: gcc gcc (GCC) 14.2.1 20250110 (Red Hat 14.2.1-8) Debian GNU/Linux 12 Kernel: 5.15 Compiler: gcc gcc (Debian 12.2.0-14+deb12u1) 12.2.0 Fedora Linux 42 Kernel: 5.15 Compiler: clang gcc (GCC) 15.2.1 20250808 (Red Hat 15.2.1-1) openSUSE Leap 15.6 Kernel: 5.15 Compiler: gcc gcc (SUSE Linux) 7.5.0 Red Hat Enterprise Linux 8.10 Kernel: 5.15 Compiler: gcc gcc (GCC) 8.5.0 20210514 (Red Hat 8.5.0-22) Red Hat Enterprise Linux 9.5 Kernel: 5.15 Compiler: gcc gcc (GCC) 11.5.0 20240719 (Red Hat 11.5.0-2) Ubuntu 22.04 Kernel: 5.15 Compiler: gcc gcc (Ubuntu 11.4.0-1ubuntu1~22.04) 11.4.0 Ubuntu 24.04 Kernel: 5.15 Compiler: gcc gcc (Ubuntu 13.3.0-6ubuntu2~24.04) 13.3.0 Alpine Linux 3.22.0 Kernel: 5.15 Compiler: gcc gcc (Alpine 14.2.0) 14.2.0 Arch Linux 20250613.0.365270 Kernel: 5.15 Compiler: gcc gcc (GCC) 15.1.1 20250425 Windows Server 2022 Kernel: 10.0.20348.2031 Compiler: clang 15.0.7, gcc 14.1.0 (MinGW), and MSVC VS 19.39.33521 To view detailed results, visit: https://lab.dpdk.org/results/dashboard/tarballs/35323/ UNH-IOL DPDK Community Lab To manage your email subscriptions, visit: https://lab.dpdk.org/results/dashboard/preferences/subscriptions/