From mboxrd@z Thu Jan 1 00:00:00 1970 Return-Path: Received: from mails.dpdk.org (mails.dpdk.org [217.70.189.124]) by inbox.dpdk.org (Postfix) with ESMTP id ED713489C6 for ; Fri, 24 Oct 2025 17:38:45 +0200 (CEST) Received: from mails.dpdk.org (localhost [127.0.0.1]) by mails.dpdk.org (Postfix) with ESMTP id C5D9640151; Fri, 24 Oct 2025 17:38:45 +0200 (CEST) Received: from mail-yw1-f227.google.com (mail-yw1-f227.google.com [209.85.128.227]) by mails.dpdk.org (Postfix) with ESMTP id 1D83540151 for ; Fri, 24 Oct 2025 17:38:45 +0200 (CEST) Received: by mail-yw1-f227.google.com with SMTP id 00721157ae682-784966ad073so27996087b3.1 for ; Fri, 24 Oct 2025 08:38:45 -0700 (PDT) DKIM-Signature: v=1; a=rsa-sha256; c=relaxed/relaxed; d=iol.unh.edu; s=unh-iol; t=1761320324; x=1761925124; darn=dpdk.org; h=references:in-reply-to:cc:to:from:subject:message-id:date:from:to :cc:subject:date:message-id:reply-to; bh=dMoCmTFFe6FPFGf4MbQ1MWEIYIohJ3IjAFFhj2JHevs=; b=KRHdpvUe7rAhK6lYYbnXSzFBGVMBKpudBc7BKDWkpSsdBpI61coOL9ulo71xkhR2s3 2IAFcYlddxLLUkd5Tk2ss3OEZwQF3yoTe4RprXn7TjBENGazIYZmFyUKzgYtsOpZ1kQK HjsKfUyZ3QNTyGWKOme/EzlukicPVmmM3jp5U= X-Google-DKIM-Signature: v=1; a=rsa-sha256; c=relaxed/relaxed; d=1e100.net; s=20230601; t=1761320324; x=1761925124; h=references:in-reply-to:cc:to:from:subject:message-id:date :x-gm-message-state:from:to:cc:subject:date:message-id:reply-to; bh=dMoCmTFFe6FPFGf4MbQ1MWEIYIohJ3IjAFFhj2JHevs=; b=ZKQScTTh/QoEdQGce+rgZlf3JRn8yu+CS+H8uFASy5indIQezosv9E15c5V1oupUGd 7Dt3ndrWnBRbLY4Zc4xLgWnuFahe6h2zLQ8BqXsIynvGj+lz8ppEv5I2EdETDyBCweGk lZfnAhFryW2+hkruIbfn2ODkc4BpzEOETA6QuRmdkdc8DoKnegjK6U4/MsD8rC4olZr7 h+ny/0QivO+3OuYz6Gb+KCPlqHfdMXuqlSlxBFjKbfU6Ej1SYxs00MBBT9ZI+Anh3kc+ cJzTRUpaIStHzBRq707dKiqMqzWEFvqtlS+sALp7cpwCbosobdlt/PxfS4Kl7DF4eQgp fw8A== X-Gm-Message-State: AOJu0Yze+1wjPnY+IMuAXJ2l9wmdNYfYPCXfb7Zmz9EqkqGVhWnvxVOF PJGAGR8Fr7x41ESqf/ty1jCWL95p7PBSGPX6bCnZ+jqauNeHrJvpEslG+Y48pl6H+I8ceT8uRXF S0vP+yqoGz+PtWWE6FGCbD/mIgyCPVCRhuqh1v+6NjTaN X-Gm-Gg: ASbGncvXqfOmDmUEcszTFbfxHUMg7GRecsbcqX/NkGBJ7REucv/Jitu+GLe706HsO5J uyyfJzG+6QopylblYDeFvYCk0chL9xkKyJiD9Rbg39wi0hXJMriBTzYb65trZH3NLPQQgP5TBrs UAifZLdA+IQm72jtHEfUmvNjmty6MGZaY8nz3zReegSSwttsNSfHr7xkQkck242zFB21dS/KIOM nZzVuMJ48cpNaXXIlTHR2XQEy095K4EBVEqxZM5bTxxmQe0DHJ5cGXuMoaNSOcgVsbQVZpADCpn OKcmZl2lkioB7hfGTlPH4BNo4L3rSH0CYluDz8WIZWA3i885Aa25MRAm7q0lluFyQxaDSe2CvLD 2/3qIq8j++tXav805RzAeiJbfcPVXUdE= X-Google-Smtp-Source: AGHT+IG8U+ebxyBh8jMKWgxKqp9Ag8kujrONfHEqnM6bm/QefLLwV45q9glb50ENMDiV6YEf8Mg10Hf2ZXXQ X-Received: by 2002:a05:690c:a98:b0:785:bfd8:c4b8 with SMTP id 00721157ae682-785bfd8d225mr97754337b3.3.1761320324430; Fri, 24 Oct 2025 08:38:44 -0700 (PDT) Received: from postal.iol.unh.edu (postal.iol.unh.edu. [132.177.123.84]) by smtp-relay.gmail.com with ESMTPS id 00721157ae682-785cd6eebf3sm2866637b3.28.2025.10.24.08.38.44 (version=TLS1_2 cipher=ECDHE-ECDSA-AES128-GCM-SHA256 bits=128/128); Fri, 24 Oct 2025 08:38:44 -0700 (PDT) X-Relaying-Domain: iol.unh.edu Date: Fri, 24 Oct 2025 08:38:44 -0700 (PDT) Message-ID: <68fb9d84.050a0220.367376.eaeeSMTPIN_ADDED_MISSING@mx.google.com> Received: from [172.21.0.2] (unknown [172.18.0.240]) by postal.iol.unh.edu (Postfix) with ESMTP id 17F54604D421; Fri, 24 Oct 2025 11:38:44 -0400 (EDT) Subject: |WARNING| pw158061-158069 [PATCH] [v11,9/9] lib/pmu: fix out-of-boun From: dpdklab@iol.unh.edu To: Test Report Cc: dpdk-test-reports@iol.unh.edu In-Reply-To: <20251024054830.933910-10-tduszynski@marvell.com> References: <20251024054830.933910-10-tduszynski@marvell.com> Content-Type: text/plain X-BeenThere: test-report@dpdk.org X-Mailman-Version: 2.1.29 Precedence: list List-Id: automatic DPDK test reports List-Unsubscribe: , List-Archive: List-Post: List-Help: List-Subscribe: , Errors-To: test-report-bounces@dpdk.org Test-Label: iol-compile-amd64-testing Test-Status: WARNING http://dpdk.org/patch/158069 _Testing issues_ Submitter: Tomasz Duszynski Date: Friday, October 24 2025 05:48:30 DPDK git baseline: Repo:dpdk Branch: master CommitID:6edcec237e31fcdb848cca6c151ee7a5bf057c28 158061-158069 --> testing issues Upstream job id: Generic-DPDK-Compile-Meson#437312 Test environment and result as below: +---------------------+--------------------+-------------------------+-------------------+----------------------+------------------+-------------------+ | Environment | dpdk_meson_compile | dpdk_llvm_clang_compile | dpdk_msvc_compile | dpdk_mingw64_compile | dpdk_compile_ovs | dpdk_compile_spdk | +=====================+====================+=========================+===================+======================+==================+===================+ | Ubuntu 20.04 | PASS | SKIPPED | SKIPPED | SKIPPED | SKIPPED | SKIPPED | +---------------------+--------------------+-------------------------+-------------------+----------------------+------------------+-------------------+ | FreeBSD 14.2 | PASS | SKIPPED | SKIPPED | SKIPPED | SKIPPED | SKIPPED | +---------------------+--------------------+-------------------------+-------------------+----------------------+------------------+-------------------+ | Fedora Linux 42 | PASS | SKIPPED | SKIPPED | SKIPPED | PASS | WARN | +---------------------+--------------------+-------------------------+-------------------+----------------------+------------------+-------------------+ | Windows Server 2022 | SKIPPED | PASS | PASS | PASS | SKIPPED | SKIPPED | +---------------------+--------------------+-------------------------+-------------------+----------------------+------------------+-------------------+ ==== 20 line log output for Fedora Linux 42 (dpdk_compile_spdk): ==== --- Failed to get log output --- ==== End log output ==== Ubuntu 20.04 Kernel: 4.19 Compiler: gcc gcc (Ubuntu 9.4.0-1ubuntu1~20.04.2) 9.4.0 FreeBSD 14.2 Kernel: 14.2-RELEASE Compiler: clang 18.1.6 Fedora Linux 42 Kernel: 5.15 Compiler: gcc gcc (GCC) 15.2.1 20250808 (Red Hat 15.2.1-1) Windows Server 2022 Kernel: 10.0.20348.2031 Compiler: clang 15.0.7, gcc 14.1.0 (MinGW), and MSVC VS 19.39.33521 To view detailed results, visit: https://lab.dpdk.org/results/dashboard/patchsets/34367/ UNH-IOL DPDK Community Lab To manage your email subscriptions, visit: https://lab.dpdk.org/results/dashboard/preferences/subscriptions/