From mboxrd@z Thu Jan 1 00:00:00 1970 Return-Path: Received: from mails.dpdk.org (mails.dpdk.org [217.70.189.124]) by inbox.dpdk.org (Postfix) with ESMTP id C45C8489C8 for ; Fri, 24 Oct 2025 18:00:52 +0200 (CEST) Received: from mails.dpdk.org (localhost [127.0.0.1]) by mails.dpdk.org (Postfix) with ESMTP id B1E7F40268; Fri, 24 Oct 2025 18:00:52 +0200 (CEST) Received: from mail-io1-f99.google.com (mail-io1-f99.google.com [209.85.166.99]) by mails.dpdk.org (Postfix) with ESMTP id 2344E40151 for ; Fri, 24 Oct 2025 18:00:51 +0200 (CEST) Received: by mail-io1-f99.google.com with SMTP id ca18e2360f4ac-93f11fdd538so90422239f.3 for ; Fri, 24 Oct 2025 09:00:51 -0700 (PDT) DKIM-Signature: v=1; a=rsa-sha256; c=relaxed/relaxed; d=iol.unh.edu; s=unh-iol; t=1761321650; x=1761926450; darn=dpdk.org; h=cc:to:from:subject:message-id:date:from:to:cc:subject:date :message-id:reply-to; bh=Wmmh+f7CGhTtyZAamYXqknGkW5FuDI5F5q6CgKqs1zU=; b=i2Y7X6+5J0g3v+/JNs3cdB8pyvIN3MD1aikR+uy/sdnt8ffWJpRITwwPUHgkuCESO8 Xj/WXRbaDgajNWw5MJ7P/HT+NIwUycwcQRlNTCwe8MBsoCSTJ8yXVhqdqjFB1SRN+yWV 91s5JXhO/hAWK2u7gjE3sK+qS0TLiCpw5fTnM= X-Google-DKIM-Signature: v=1; a=rsa-sha256; c=relaxed/relaxed; d=1e100.net; s=20230601; t=1761321650; x=1761926450; h=cc:to:from:subject:message-id:date:x-gm-message-state:from:to:cc :subject:date:message-id:reply-to; bh=Wmmh+f7CGhTtyZAamYXqknGkW5FuDI5F5q6CgKqs1zU=; b=XeIDQiYKdj5NpOk5qmeyPq9+E5NHA9Sjyk1ZdoiYfMWGQfRCEH9+QNGTtO/iFEE70y sM/U7RLw7cBKTKTcW2Rw8Txu8DbW7sFHBfdh8wSDv10TOlZ09kRPenNrBN86D5UOb2hg KjuzyNNqN6Dt9ut5CxuLQgyK5hcc+5t/1dAClWEPn/1vbMO5rZ2+AV5Un7+hxsW3dyE3 TTOPsgEeNCcD6Me40CgbdcpOc/quePouThXpdMYvcWKKGBH5XiNDF2AhkexC40SY9hpe Dqn/JC62pASER3Wv9m7+jUVqNuy5FlSbc6gTRI94OWl3ZokEzoVXarpD87M6jzcqBxDQ itjw== X-Gm-Message-State: AOJu0YyQKvb/lgAoaGUI1h//qgxyAgNhbAQxdVt8k0+ZGeX9+/6Uruxz 0DA6yHH61DoMYXsTKUh+l4zAMisShYXyRqSiPvvSiV+/HBpmp5CQvrEtrAd1bAMCPtnIEQPhX3N HsgSbExr6VTYcQwtyQI6QgfMQL8xALJCXH/DljandIj3E X-Gm-Gg: ASbGncuCnGmbOVALZxbMdpvuwSpOA69iGGhnGGG9kkUPbNBvZY0f8CblV6oAdrERf4j Lqrz4xZhdYB0OE2sTr5JnF31QqMLETw89mdG3w/X6jKc4P2uWwUyi9ROaEaD3GEkzD2iDYtbKK3 ugxcwv7fziTIsBo1I/s5Zrgxq1QrbyW/qeHEMAUkM/nqE9nksRTi5dNVI5xAr/yDj9lUy21G9wE DOuUfk/5hT20bHYec3sizW0/YyyjiFRUi9GuZeeljHOlrIqcvcPYeCKiPCt4wXUcrpRI2IVJ68U PCo9m7lQAxCtpeLgyiaObrP3t7ljkVce9kAJFG7emWEHTJ3rAYe+yXU+wn/hLgu/kfKfLibjz98 X8kYliFsMKrK4CCHBylJNQfP6oVKNbc8= X-Google-Smtp-Source: AGHT+IETadxIvf8CHiYTOP0Exk41/+7Uy+mygNhCFuTq59C0x6HEFmgpcuk+e6XqqFEwxPLPgZL8UhFdiEgr X-Received: by 2002:a05:6e02:2509:b0:430:c491:583b with SMTP id e9e14a558f8ab-431ebe05d1cmr39415795ab.14.1761321650220; Fri, 24 Oct 2025 09:00:50 -0700 (PDT) Received: from postal.iol.unh.edu (postal.iol.unh.edu. [132.177.123.84]) by smtp-relay.gmail.com with ESMTPS id 8926c6da1cb9f-5abb79fb5ccsm456917173.40.2025.10.24.09.00.50 (version=TLS1_2 cipher=ECDHE-ECDSA-AES128-GCM-SHA256 bits=128/128); Fri, 24 Oct 2025 09:00:50 -0700 (PDT) X-Relaying-Domain: iol.unh.edu Date: Fri, 24 Oct 2025 09:00:50 -0700 (PDT) Message-ID: <68fba2b2.050a0220.9d1f5.8c54SMTPIN_ADDED_MISSING@mx.google.com> Received: from [172.21.0.3] (unknown [172.18.0.240]) by postal.iol.unh.edu (Postfix) with ESMTP id A6F266051830; Fri, 24 Oct 2025 12:00:49 -0400 (EDT) Subject: |WARNING| [GIT MASTER] 6edcec237e31fcdb848cca6c151ee7a5bf057c28 From: dpdklab@iol.unh.edu To: Test Report Cc: dpdk-test-reports@iol.unh.edu Content-Type: text/plain X-BeenThere: test-report@dpdk.org X-Mailman-Version: 2.1.29 Precedence: list List-Id: automatic DPDK test reports List-Unsubscribe: , List-Archive: List-Post: List-Help: List-Subscribe: , Errors-To: test-report-bounces@dpdk.org _Testing issues_ Branch: dpdk 6edcec237e31fcdb848cca6c151ee7a5bf057c28 --> testing issues Upstream job id: Generic-DPDK-Compile-Meson#437295 Test environment and result as below: +-------------------------------+--------------------+-------------------------+-------------------+----------------------+-------------------+------------------+ | Environment | dpdk_meson_compile | dpdk_llvm_clang_compile | dpdk_msvc_compile | dpdk_mingw64_compile | dpdk_compile_spdk | dpdk_compile_ovs | +===============================+====================+=========================+===================+======================+===================+==================+ | Ubuntu 20.04 | PASS | SKIPPED | SKIPPED | SKIPPED | SKIPPED | SKIPPED | +-------------------------------+--------------------+-------------------------+-------------------+----------------------+-------------------+------------------+ | FreeBSD 14.2 | PASS | SKIPPED | SKIPPED | SKIPPED | SKIPPED | SKIPPED | +-------------------------------+--------------------+-------------------------+-------------------+----------------------+-------------------+------------------+ | CentOS Stream 9 | PASS | SKIPPED | SKIPPED | SKIPPED | WARN | SKIPPED | +-------------------------------+--------------------+-------------------------+-------------------+----------------------+-------------------+------------------+ | CentOS Stream 10 | PASS | SKIPPED | SKIPPED | SKIPPED | SKIPPED | SKIPPED | +-------------------------------+--------------------+-------------------------+-------------------+----------------------+-------------------+------------------+ | Debian GNU/Linux 12 | PASS | SKIPPED | SKIPPED | SKIPPED | WARN | SKIPPED | +-------------------------------+--------------------+-------------------------+-------------------+----------------------+-------------------+------------------+ | Fedora Linux 42 | PASS | SKIPPED | SKIPPED | SKIPPED | WARN | PASS | +-------------------------------+--------------------+-------------------------+-------------------+----------------------+-------------------+------------------+ | openSUSE Leap 15.6 | PASS | SKIPPED | SKIPPED | SKIPPED | SKIPPED | SKIPPED | +-------------------------------+--------------------+-------------------------+-------------------+----------------------+-------------------+------------------+ | Red Hat Enterprise Linux 8.10 | PASS | SKIPPED | SKIPPED | SKIPPED | SKIPPED | SKIPPED | +-------------------------------+--------------------+-------------------------+-------------------+----------------------+-------------------+------------------+ | Red Hat Enterprise Linux 9.5 | PASS | SKIPPED | SKIPPED | SKIPPED | SKIPPED | SKIPPED | +-------------------------------+--------------------+-------------------------+-------------------+----------------------+-------------------+------------------+ | Ubuntu 22.04 | PASS | SKIPPED | SKIPPED | SKIPPED | WARN | SKIPPED | +-------------------------------+--------------------+-------------------------+-------------------+----------------------+-------------------+------------------+ | Ubuntu 24.04 | PASS | SKIPPED | SKIPPED | SKIPPED | WARN | PASS | +-------------------------------+--------------------+-------------------------+-------------------+----------------------+-------------------+------------------+ | Alpine Linux 3.22.0 | PASS | SKIPPED | SKIPPED | SKIPPED | SKIPPED | SKIPPED | +-------------------------------+--------------------+-------------------------+-------------------+----------------------+-------------------+------------------+ | Arch Linux 20250613.0.365270 | PASS | SKIPPED | SKIPPED | SKIPPED | SKIPPED | SKIPPED | +-------------------------------+--------------------+-------------------------+-------------------+----------------------+-------------------+------------------+ | Windows Server 2022 | SKIPPED | PASS | PASS | PASS | SKIPPED | SKIPPED | +-------------------------------+--------------------+-------------------------+-------------------+----------------------+-------------------+------------------+ ==== 20 line log output for Ubuntu 24.04 (dpdk_compile_spdk): ==== --- Failed to get log output --- ==== End log output ==== Ubuntu 20.04 Kernel: 4.19 Compiler: gcc gcc (Ubuntu 9.4.0-1ubuntu1~20.04.2) 9.4.0 FreeBSD 14.2 Kernel: 14.2-RELEASE Compiler: clang 18.1.6 CentOS Stream 9 Kernel: 5.15 Compiler: gcc gcc (GCC) 11.5.0 20240719 (Red Hat 11.5.0-11) CentOS Stream 10 Kernel: 5.15 Compiler: gcc gcc (GCC) 14.2.1 20250110 (Red Hat 14.2.1-8) Debian GNU/Linux 12 Kernel: 5.15 Compiler: gcc gcc (Debian 12.2.0-14+deb12u1) 12.2.0 Fedora Linux 42 Kernel: 5.15 Compiler: clang gcc (GCC) 15.2.1 20250808 (Red Hat 15.2.1-1) openSUSE Leap 15.6 Kernel: 5.15 Compiler: gcc gcc (SUSE Linux) 7.5.0 Red Hat Enterprise Linux 8.10 Kernel: 5.15 Compiler: gcc gcc (GCC) 8.5.0 20210514 (Red Hat 8.5.0-22) Red Hat Enterprise Linux 9.5 Kernel: 5.15 Compiler: gcc gcc (GCC) 11.5.0 20240719 (Red Hat 11.5.0-2) Ubuntu 22.04 Kernel: 5.15 Compiler: gcc gcc (Ubuntu 11.4.0-1ubuntu1~22.04) 11.4.0 Ubuntu 24.04 Kernel: 5.15 Compiler: gcc gcc (Ubuntu 13.3.0-6ubuntu2~24.04) 13.3.0 Alpine Linux 3.22.0 Kernel: 5.15 Compiler: gcc gcc (Alpine 14.2.0) 14.2.0 Arch Linux 20250613.0.365270 Kernel: 5.15 Compiler: gcc gcc (GCC) 15.1.1 20250425 Windows Server 2022 Kernel: 10.0.20348.2031 Compiler: clang 15.0.7, gcc 14.1.0 (MinGW), and MSVC VS 19.39.33521 To view detailed results, visit: https://lab.dpdk.org/results/dashboard/tarballs/35323/ UNH-IOL DPDK Community Lab To manage your email subscriptions, visit: https://lab.dpdk.org/results/dashboard/preferences/subscriptions/