From mboxrd@z Thu Jan 1 00:00:00 1970 Return-Path: Received: from mails.dpdk.org (mails.dpdk.org [217.70.189.124]) by inbox.dpdk.org (Postfix) with ESMTP id 79D8D489C7 for ; Fri, 24 Oct 2025 18:45:22 +0200 (CEST) Received: from mails.dpdk.org (localhost [127.0.0.1]) by mails.dpdk.org (Postfix) with ESMTP id 757C340151; Fri, 24 Oct 2025 18:45:22 +0200 (CEST) Received: from mail-pl1-f226.google.com (mail-pl1-f226.google.com [209.85.214.226]) by mails.dpdk.org (Postfix) with ESMTP id 7288640151 for ; Fri, 24 Oct 2025 18:45:21 +0200 (CEST) Received: by mail-pl1-f226.google.com with SMTP id d9443c01a7336-27d4d6b7ab5so33064625ad.2 for ; Fri, 24 Oct 2025 09:45:21 -0700 (PDT) DKIM-Signature: v=1; a=rsa-sha256; c=relaxed/relaxed; d=iol.unh.edu; s=unh-iol; t=1761324320; x=1761929120; darn=dpdk.org; h=cc:to:from:subject:message-id:date:from:to:cc:subject:date :message-id:reply-to; bh=yayeQQJRUHYOoz086V9SIaq2M2PBBA2ZVtExUGRGTlw=; b=IKIzkbs1bDeCvEFZT1LlKYvHfDDtvnkM4aHh26fqNBN/GiQd7nvgqBc5Vd1HsH9cWA coIH+XP6VmxUsly/q2BOjFCBxtTKLNYhAPkxK48I+EgZU6uAs2VUaqorOZRTzdqQkSZ3 0wXZwEeQsLQzevb6q4nF9K7jXjQLnZxSV7q/8= X-Google-DKIM-Signature: v=1; a=rsa-sha256; c=relaxed/relaxed; d=1e100.net; s=20230601; t=1761324320; x=1761929120; h=cc:to:from:subject:message-id:date:x-gm-message-state:from:to:cc :subject:date:message-id:reply-to; bh=yayeQQJRUHYOoz086V9SIaq2M2PBBA2ZVtExUGRGTlw=; b=Wkmp49nqM8jSbBVMYE9FQk+AVgWBD2a7nMq1dv9yCAgtZsF2jUtz6pDkIE1QKA23g6 GkIxaQ4iXJKFa23VEB7FURvfU5q6yy4V9BcBK2Z/K6Nv/7jZFqaIB4jSJRY43nIJro+7 h6r0xlVQZ85c8PjwLrqLO4j+8VNFBPkePN0Cc+zNnWTe214jw1/x6z579rJ1EdMT5Tqy 1FCFLzVZJLZAuX7ZU7s+2rQs4R2z/9oivMScAqPkL64qjI7yObqivgBkGL8VaWGLjGYb T0xSHcdE+SBcPFLYJbBBLu/h3VlAG2EPbDUS2JzmX8YYZ5pjay/wlcqCIUvGukCkjOkJ NlUA== X-Gm-Message-State: AOJu0Yxh791F45AQNsH7WfehvmoIknvDqCt0En24AvJBL75vak2CeEcX 6XdRpROznOodVTVvj1eZaR0E2mmCxZlOgcLLJjb+X2GPX9qR9ZrLAuLXp8s9fQJLi2D1ZUantZ9 xr/INhPXVarFdSs3yqgdlPfaX1kIqXQlA8QcT X-Gm-Gg: ASbGncumALi0IFDvl+ZOYlaGOZUQ4JjYL7rSQL+iGRgMnxKPPbYTa4nsynuUeSUzcDj Dck4Fnq0K8SxzyK8nCawX2TLcCe+Wf384LWlZhvitg8couZ7zZqtyLnIZLJjBiQwAVZns5zT0TX wqupnQpoQ0z6OLlewovDh/O3gGRbUq5i9lFJCqRb1NUw0X0J/6H8w8ckBcnUNDDS6e/ESxnOJBD OlR1JAq+t3wrO5Be/Z/gJOLsnv87py9qArqF6wrV0VjXdi5XvX+4MrOuoPSAc+vboy38ugHXfbT 4YDfdk8Cx40R04B+2BisY0pGs43qnCx0HeUK6FX3uqE85/AYZyL1DoJaDSQG6KEXGqVth18jKFo 4pAKyahm0GXzY/KKiMe3+fdPVp3eveuw= X-Google-Smtp-Source: AGHT+IFIV7y0JyM6+uC25zn/v97DaLDRrsQ+ntt2P+Acapc4OiQQldywjdBlSkOZghUwvGFqjDoWFDe5JnQo X-Received: by 2002:a17:903:1746:b0:28e:7ea4:2023 with SMTP id d9443c01a7336-290cb07d430mr346711915ad.46.1761324320617; Fri, 24 Oct 2025 09:45:20 -0700 (PDT) Received: from postal.iol.unh.edu (postal.iol.unh.edu. [132.177.123.84]) by smtp-relay.gmail.com with ESMTPS id d9443c01a7336-2946dee6928sm6099895ad.39.2025.10.24.09.45.20 (version=TLS1_2 cipher=ECDHE-ECDSA-AES128-GCM-SHA256 bits=128/128); Fri, 24 Oct 2025 09:45:20 -0700 (PDT) X-Relaying-Domain: iol.unh.edu Date: Fri, 24 Oct 2025 09:45:20 -0700 (PDT) Message-ID: <68fbad20.170a0220.cba78.f894SMTPIN_ADDED_MISSING@mx.google.com> Received: from [172.21.0.2] (unknown [172.18.0.240]) by postal.iol.unh.edu (Postfix) with ESMTP id DF7596050A61; Fri, 24 Oct 2025 12:45:19 -0400 (EDT) Subject: |SUCCESS| [GIT MASTER] 3b43ce3f4a54468e7ef65760c2fd7b4d6ee6d9fc From: dpdklab@iol.unh.edu To: Test Report Cc: dpdk-test-reports@iol.unh.edu, Xueming Li , Christian Ehrhardt , Kevin Traynor , Luca Boccassi Content-Type: text/plain X-BeenThere: test-report@dpdk.org X-Mailman-Version: 2.1.29 Precedence: list List-Id: automatic DPDK test reports List-Unsubscribe: , List-Archive: List-Post: List-Help: List-Subscribe: , Errors-To: test-report-bounces@dpdk.org _Testing PASS_ Branch: tags/v22.11 3b43ce3f4a54468e7ef65760c2fd7b4d6ee6d9fc --> testing pass Upstream job id: Generic-DPDK-Compile-Meson#437326 Test environment and result as below: +-------------------------------+-------------------------+--------------------+----------------------+ | Environment | dpdk_llvm_clang_compile | dpdk_meson_compile | dpdk_mingw64_compile | +===============================+=========================+====================+======================+ | Windows Server 2022 | PASS | SKIPPED | PASS | +-------------------------------+-------------------------+--------------------+----------------------+ | Ubuntu 20.04 | SKIPPED | PASS | SKIPPED | +-------------------------------+-------------------------+--------------------+----------------------+ | FreeBSD 14.2 | SKIPPED | PASS | SKIPPED | +-------------------------------+-------------------------+--------------------+----------------------+ | CentOS Stream 9 | SKIPPED | PASS | SKIPPED | +-------------------------------+-------------------------+--------------------+----------------------+ | CentOS Stream 10 | SKIPPED | PASS | SKIPPED | +-------------------------------+-------------------------+--------------------+----------------------+ | Debian GNU/Linux 12 | SKIPPED | PASS | SKIPPED | +-------------------------------+-------------------------+--------------------+----------------------+ | Fedora Linux 42 | SKIPPED | PASS | SKIPPED | +-------------------------------+-------------------------+--------------------+----------------------+ | openSUSE Leap 15.6 | SKIPPED | PASS | SKIPPED | +-------------------------------+-------------------------+--------------------+----------------------+ | Red Hat Enterprise Linux 8.10 | SKIPPED | PASS | SKIPPED | +-------------------------------+-------------------------+--------------------+----------------------+ | Red Hat Enterprise Linux 9.5 | SKIPPED | PASS | SKIPPED | +-------------------------------+-------------------------+--------------------+----------------------+ | Ubuntu 22.04 | SKIPPED | PASS | SKIPPED | +-------------------------------+-------------------------+--------------------+----------------------+ | Ubuntu 24.04 | SKIPPED | PASS | SKIPPED | +-------------------------------+-------------------------+--------------------+----------------------+ Windows Server 2022 Kernel: 10.0.20348.2031 Compiler: clang 15.0.7, gcc 14.1.0 (MinGW), and MSVC VS 19.39.33521 Ubuntu 20.04 Kernel: 4.19 Compiler: gcc gcc (Ubuntu 9.4.0-1ubuntu1~20.04.2) 9.4.0 FreeBSD 14.2 Kernel: 14.2-RELEASE Compiler: clang 18.1.6 CentOS Stream 9 Kernel: 5.15 Compiler: gcc gcc (GCC) 11.5.0 20240719 (Red Hat 11.5.0-11) CentOS Stream 10 Kernel: 5.15 Compiler: gcc gcc (GCC) 14.2.1 20250110 (Red Hat 14.2.1-8) Debian GNU/Linux 12 Kernel: 5.15 Compiler: gcc gcc (Debian 12.2.0-14+deb12u1) 12.2.0 Fedora Linux 42 Kernel: 5.15 Compiler: clang gcc (GCC) 15.2.1 20250808 (Red Hat 15.2.1-1) openSUSE Leap 15.6 Kernel: 5.15 Compiler: gcc gcc (SUSE Linux) 7.5.0 Red Hat Enterprise Linux 8.10 Kernel: 5.15 Compiler: gcc gcc (GCC) 8.5.0 20210514 (Red Hat 8.5.0-22) Red Hat Enterprise Linux 9.5 Kernel: 5.15 Compiler: gcc gcc (GCC) 11.5.0 20240719 (Red Hat 11.5.0-2) Ubuntu 22.04 Kernel: 5.15 Compiler: gcc gcc (Ubuntu 11.4.0-1ubuntu1~22.04) 11.4.0 Ubuntu 24.04 Kernel: 5.15 Compiler: gcc gcc (Ubuntu 13.3.0-6ubuntu2~24.04) 13.3.0 To view detailed results, visit: https://lab.dpdk.org/results/dashboard/tarballs/35324/ UNH-IOL DPDK Community Lab To manage your email subscriptions, visit: https://lab.dpdk.org/results/dashboard/preferences/subscriptions/