From mboxrd@z Thu Jan 1 00:00:00 1970 Return-Path: Received: from mails.dpdk.org (mails.dpdk.org [217.70.189.124]) by inbox.dpdk.org (Postfix) with ESMTP id 0F059489C7 for ; Fri, 24 Oct 2025 18:49:12 +0200 (CEST) Received: from mails.dpdk.org (localhost [127.0.0.1]) by mails.dpdk.org (Postfix) with ESMTP id E519040151; Fri, 24 Oct 2025 18:49:11 +0200 (CEST) Received: from mail-io1-f99.google.com (mail-io1-f99.google.com [209.85.166.99]) by mails.dpdk.org (Postfix) with ESMTP id 0F20640151 for ; Fri, 24 Oct 2025 18:49:11 +0200 (CEST) Received: by mail-io1-f99.google.com with SMTP id ca18e2360f4ac-940d27610b8so83764039f.1 for ; Fri, 24 Oct 2025 09:49:10 -0700 (PDT) DKIM-Signature: v=1; a=rsa-sha256; c=relaxed/relaxed; d=iol.unh.edu; s=unh-iol; t=1761324550; x=1761929350; darn=dpdk.org; h=cc:to:from:subject:message-id:date:from:to:cc:subject:date :message-id:reply-to; bh=y8La2W2sgmk6OVymmmPajCjLXF46Kf5FvfHEUCCYMMI=; b=isNsjkkAMbD0nKmmp6skp7pzbt4CAY435eD973y8GtfH9MT+8JXTrvhlbxdOwpZ63S h3XqTEZ3Olkyz/JgrlKpbNpN5aeAXMOhzubeqkZO2mJQxUaMRQYsrRVrh4oSH4yO4Fuk ikSUWoUc5+QG8M9Kv7yyUpjOPMRknINdDm/ys= X-Google-DKIM-Signature: v=1; a=rsa-sha256; c=relaxed/relaxed; d=1e100.net; s=20230601; t=1761324550; x=1761929350; h=cc:to:from:subject:message-id:date:x-gm-message-state:from:to:cc :subject:date:message-id:reply-to; bh=y8La2W2sgmk6OVymmmPajCjLXF46Kf5FvfHEUCCYMMI=; b=NbDwbjW98j5NuvC9TsAPP/EfXvSf2HzK4RfJpPTjs7qwijGdQ2Unu3/fy78bbXIyub vioewuEc4a/SIWcsrc6E436UbkiXGSxcrksWN91AnnMzsUSI2iSUUEruk4KcDtAQREOC ngrwvBjB9ni/1MHwJa6b+BtnG6ushLTBjMhpDGS0+qfR0fYLFnHYEQ+zFSPki7A43Xcm Vb3bQBOQlD+R76AiKbJYGgY7/xYFy9pLrjFIQlGJmtn1pAWAx/X5loLyNSmMj47o9c5h zQLukoH1l5Sfgn9fy1bGitdamreaZ/EI5pnWQ8lFD35ZuHecdW8efspPzcMH3Btz7/83 f0KA== X-Gm-Message-State: AOJu0Yw5XDIP0bWgJC9WS2bqM8IihzkjgriF9EWttqUdAEQfrRI0mgvS 5x0kA4DhWfIOR4T3GMqAGpv2rzt2/KXMZZ+1cwZSUgzZoIy43ZZowZj2bbidqcn2VDRdBpitFRr NkmalcBOVBYCMW/xc4CKnjAI3dJzhQSJGAyPR X-Gm-Gg: ASbGncuLH7AJWiUkdHXGZhCMJXsgWpcTWogtyXqtlehCtzULl5AP5XvwU7eIVP3GACM TORE8AYbH81tYnW4h8MlsXlqjTs6btq5an9pfI9ueGDG0VJFnQxPyKyOzzxAV0P8VkYYgc7Hk4x ICxqCs2PiKyaJL7DbmaSBJtRj3D7pwU5ZEEBwYeEG35WfsGFyaM4vKZ8wSQNzpAH5JltpvdGCqo M1J2MvkRO9N1Ex8dtWAM0DXa4b95x/RzVxb8LQkeShvGSeD0Ajt07/pQgZxPvHGy/QKXhO9nEq7 IZy2uIvUdApV8lOL1Raa3wDI32mypxFxVWIdMNYIqw1c+5W8vMvUBF8p73MeOEOOzk8RywjLxAl 8+GYte1FQE4CHJiTJ+g9cqwiY84lINUk= X-Google-Smtp-Source: AGHT+IHG2N4DOkrQao4hMgUxDEomujJqiSr2+f3SRVgX4kQbO6bkAHZ3+83rPBoQ4O4z0BoLRV/wTMyt8cf9 X-Received: by 2002:a05:6e02:156c:b0:42e:7273:a370 with SMTP id e9e14a558f8ab-430c524bd83mr402183295ab.5.1761324550228; Fri, 24 Oct 2025 09:49:10 -0700 (PDT) Received: from postal.iol.unh.edu (postal.iol.unh.edu. [132.177.123.84]) by smtp-relay.gmail.com with ESMTPS id 8926c6da1cb9f-5abb4f45a7dsm460181173.12.2025.10.24.09.49.10 (version=TLS1_2 cipher=ECDHE-ECDSA-AES128-GCM-SHA256 bits=128/128); Fri, 24 Oct 2025 09:49:10 -0700 (PDT) X-Relaying-Domain: iol.unh.edu Date: Fri, 24 Oct 2025 09:49:10 -0700 (PDT) Message-ID: <68fbae06.050a0220.3daec9.7f1fSMTPIN_ADDED_MISSING@mx.google.com> Received: from [172.21.0.2] (unknown [172.18.0.240]) by postal.iol.unh.edu (Postfix) with ESMTP id C49FA6050A61; Fri, 24 Oct 2025 12:49:09 -0400 (EDT) Subject: |SUCCESS| [GIT MASTER] 5d40aaf77852b5884e137f1588726c92feb59002 From: dpdklab@iol.unh.edu To: Test Report Cc: dpdk-test-reports@iol.unh.edu, Ajit Khaparde Content-Type: text/plain X-BeenThere: test-report@dpdk.org X-Mailman-Version: 2.1.29 Precedence: list List-Id: automatic DPDK test reports List-Unsubscribe: , List-Archive: List-Post: List-Help: List-Subscribe: , Errors-To: test-report-bounces@dpdk.org _Testing PASS_ Branch: next-net-brcm-for-next-net 5d40aaf77852b5884e137f1588726c92feb59002 --> testing pass Upstream job id: Windows-Compile-DPDK-Native#31874 Test environment and result as below: +---------------------+--------------------+-------------------------+-------------------+----------------------+ | Environment | dpdk_meson_compile | dpdk_llvm_clang_compile | dpdk_msvc_compile | dpdk_mingw64_compile | +=====================+====================+=========================+===================+======================+ | Ubuntu 20.04 | PASS | SKIPPED | SKIPPED | SKIPPED | +---------------------+--------------------+-------------------------+-------------------+----------------------+ | FreeBSD 14.2 | PASS | SKIPPED | SKIPPED | SKIPPED | +---------------------+--------------------+-------------------------+-------------------+----------------------+ | Windows Server 2022 | SKIPPED | PASS | PASS | PASS | +---------------------+--------------------+-------------------------+-------------------+----------------------+ Ubuntu 20.04 Kernel: 4.19 Compiler: gcc gcc (Ubuntu 9.4.0-1ubuntu1~20.04.2) 9.4.0 FreeBSD 14.2 Kernel: 14.2-RELEASE Compiler: clang 18.1.6 Windows Server 2022 Kernel: 10.0.20348.2031 Compiler: clang 15.0.7, gcc 14.1.0 (MinGW), and MSVC VS 19.39.33521 To view detailed results, visit: https://lab.dpdk.org/results/dashboard/tarballs/35333/ UNH-IOL DPDK Community Lab To manage your email subscriptions, visit: https://lab.dpdk.org/results/dashboard/preferences/subscriptions/