From mboxrd@z Thu Jan 1 00:00:00 1970 Return-Path: Received: from mails.dpdk.org (mails.dpdk.org [217.70.189.124]) by inbox.dpdk.org (Postfix) with ESMTP id 2B78F489C7 for ; Fri, 24 Oct 2025 19:03:12 +0200 (CEST) Received: from mails.dpdk.org (localhost [127.0.0.1]) by mails.dpdk.org (Postfix) with ESMTP id 07E3140151; Fri, 24 Oct 2025 19:03:12 +0200 (CEST) Received: from mail-io1-f98.google.com (mail-io1-f98.google.com [209.85.166.98]) by mails.dpdk.org (Postfix) with ESMTP id 1BB9440151 for ; Fri, 24 Oct 2025 19:03:11 +0200 (CEST) Received: by mail-io1-f98.google.com with SMTP id ca18e2360f4ac-9379a062ca8so96592839f.2 for ; Fri, 24 Oct 2025 10:03:11 -0700 (PDT) DKIM-Signature: v=1; a=rsa-sha256; c=relaxed/relaxed; d=iol.unh.edu; s=unh-iol; t=1761325390; x=1761930190; darn=dpdk.org; h=cc:to:from:subject:message-id:date:from:to:cc:subject:date :message-id:reply-to; bh=zgxbsRXXEVmrKBOnIFa2Xjg0KbhrrE8o1g1YBwcVggs=; b=gkqCJ1yxCkIdr/qnL4FlqZcmvsd1MlmnSYtqaSivtqzlMjUgIRsjTVW9gxpO+DRYHh /etysxtPdV66mLv9Gm/ARvlFm1g7XyTGm1JOyiIOwkgZBFZRRN2YZ9G0V8zEs/qiYT1n QLfPyNI/y7rJJKx0u564YO56Y6nRiOBSYI/1o= X-Google-DKIM-Signature: v=1; a=rsa-sha256; c=relaxed/relaxed; d=1e100.net; s=20230601; t=1761325390; x=1761930190; h=cc:to:from:subject:message-id:date:x-gm-message-state:from:to:cc :subject:date:message-id:reply-to; bh=zgxbsRXXEVmrKBOnIFa2Xjg0KbhrrE8o1g1YBwcVggs=; b=QN7fNgMh+RITW0Ze6Js3UvCDiS7rJp2jJxy8zZH9j7E+QYBNvnnfQOqr/rIl7p+DWW CX9zMmh9Rg/Mokz6G3tBKe4jgyfPu5pGRqrBMXYY+NCKU/qNW7PlvrqxBL5OyskpiwS7 8dWGA5oZl5krki5KYgBI2yrfEpYy4s0Bkd+TRoHMxEp3fDi5OHx1xBfWx+d8un7orPE7 6wcBbUaxIg7gdfmEOBlm+jpW5kp+dLBGJ5XxRnmqjwNhlAvkjDtErN5AGhZUrz+eOWuk A+etyXymBz0Ugmu0XFIdoGJWVACvPTAVUxlpcI0Hz+IppdMDoi4MMhDC9uT9tFAEZr3S +VHw== X-Gm-Message-State: AOJu0YyMOKujUZuSCEpZTa3J1XXF/8d+5GorQ8hasn4L5YZUlKdVQZNC 8/+fMuvS4RsT5MSZnTQhQFnTnpWLUwkf7QBb2Qr8pcLIPiVW+Js05p7PBKDaqgjSjEkFVD5NsDw Xd2ufeR2G6PXkYehS2h6xPDqIn93JP5TLjyTzeChcJ34QmGYkXDxO X-Gm-Gg: ASbGncsNyYbU1ulWCyx4/aeHMTJsu2BZLdK0McRglwMJoeVjABl99bOZy+sVtHP4z3B l2nKfmqE2CWWxR3jla/DdcukGheJNrupxF7B5dMecoomIzod7naiDd6S533oiwycdVmENMdWGtS ghKT4qMPddTZ0iWyVFB+JSinM+Tg2hKhIVySzzEV2+r1YF6lmKfQA5bsUGKvkj/io4ArsJ/rnEW N/f2ebpkuOKC7ZmGKkdUmoKTukghvHMDAotJLPIOOIGY9rdtNAovPi2Ovh/DNfDfOJhXdrmBSf7 f/SZgmGItQyMpyEbKysqbHqO9moKND7DPDgpsVgcZKfMYS5D0VOCaq42qBg1y7DKjI4LyhP59Ot WFTEeFM8Z X-Google-Smtp-Source: AGHT+IGuUkdCj97/Uc1Cfqh1JVg4pzTcTApUY+KWkflXuOE/CAcV3FgJnmdMrIkfoZSy/Gqi5QBjLSKLgY91 X-Received: by 2002:a05:6e02:1745:b0:42f:94fd:318f with SMTP id e9e14a558f8ab-430c521f9e2mr374772575ab.9.1761325389561; Fri, 24 Oct 2025 10:03:09 -0700 (PDT) Received: from postal.iol.unh.edu (postal.iol.unh.edu. [2606:4100:3880:1234::84]) by smtp-relay.gmail.com with ESMTPS id 8926c6da1cb9f-5abb7113b87sm454553173.22.2025.10.24.10.03.09 (version=TLS1_2 cipher=ECDHE-ECDSA-AES128-GCM-SHA256 bits=128/128); Fri, 24 Oct 2025 10:03:09 -0700 (PDT) X-Relaying-Domain: iol.unh.edu Date: Fri, 24 Oct 2025 10:03:09 -0700 (PDT) Message-ID: <68fbb14d.050a0220.f7867.722cSMTPIN_ADDED_MISSING@mx.google.com> Received: from [172.21.0.2] (unknown [172.18.0.240]) by postal.iol.unh.edu (Postfix) with ESMTP id DE4D66050A61; Fri, 24 Oct 2025 13:03:08 -0400 (EDT) Subject: |SUCCESS| [GIT MASTER] 5d40aaf77852b5884e137f1588726c92feb59002 From: dpdklab@iol.unh.edu To: Test Report Cc: dpdk-test-reports@iol.unh.edu, Ajit Khaparde Content-Type: text/plain X-BeenThere: test-report@dpdk.org X-Mailman-Version: 2.1.29 Precedence: list List-Id: automatic DPDK test reports List-Unsubscribe: , List-Archive: List-Post: List-Help: List-Subscribe: , Errors-To: test-report-bounces@dpdk.org _Testing PASS_ Branch: next-net-brcm-for-next-net 5d40aaf77852b5884e137f1588726c92feb59002 --> testing pass Upstream job id: Generic-Unit-Test-DPDK#385047 Test environment and result as below: +-------------------------------+----------------+ | Environment | dpdk_unit_test | +===============================+================+ | CentOS Stream 9 | PASS | +-------------------------------+----------------+ | CentOS Stream 10 | PASS | +-------------------------------+----------------+ | Debian GNU/Linux 12 | PASS | +-------------------------------+----------------+ | Fedora Linux 42 | PASS | +-------------------------------+----------------+ | Red Hat Enterprise Linux 8.10 | PASS | +-------------------------------+----------------+ | Fedora Linux 40 | PASS | +-------------------------------+----------------+ | Fedora Linux 41 | PASS | +-------------------------------+----------------+ | Red Hat Enterprise Linux 9.5 | PASS | +-------------------------------+----------------+ | Ubuntu 22.04 | PASS | +-------------------------------+----------------+ | Ubuntu 20.04 | PASS | +-------------------------------+----------------+ | Ubuntu 24.04 | PASS | +-------------------------------+----------------+ | Windows Server 2022 | PASS | +-------------------------------+----------------+ CentOS Stream 9 Kernel: 5.15 Compiler: gcc gcc (GCC) 11.5.0 20240719 (Red Hat 11.5.0-11) CentOS Stream 10 Kernel: 5.15 Compiler: gcc gcc (GCC) 14.2.1 20250110 (Red Hat 14.2.1-8) Debian GNU/Linux 12 Kernel: 5.15 Compiler: gcc gcc (Debian 12.2.0-14+deb12u1) 12.2.0 Fedora Linux 42 Kernel: 5.15 Compiler: gcc gcc (GCC) 15.2.1 20250808 (Red Hat 15.2.1-1) Red Hat Enterprise Linux 8.10 Kernel: 5.15 Compiler: gcc gcc (GCC) 8.5.0 20210514 (Red Hat 8.5.0-22) Fedora Linux 40 Kernel: 5.15 Compiler: gcc gcc (GCC) 14.2.1 20240912 (Red Hat 14.2.1-3) Fedora Linux 41 Kernel: 5.15 Compiler: clang gcc (GCC) 14.3.1 20250523 (Red Hat 14.3.1-1) Red Hat Enterprise Linux 9.5 Kernel: 5.15 Compiler: gcc gcc (GCC) 11.5.0 20240719 (Red Hat 11.5.0-2) Ubuntu 22.04 Kernel: 5.15 Compiler: gcc gcc (Ubuntu 11.4.0-1ubuntu1~22.04) 11.4.0 Ubuntu 20.04 Kernel: 5.15 Compiler: gcc gcc (Ubuntu 9.4.0-1ubuntu1~20.04.2) 9.4.0 Ubuntu 24.04 Kernel: 5.15 Compiler: gcc gcc (Ubuntu 13.3.0-6ubuntu2~24.04) 13.3.0 Windows Server 2022 Kernel: 10.0.20348.2031 Compiler: clang 15.0.7, gcc 14.1.0 (MinGW), and MSVC VS 19.39.33521 To view detailed results, visit: https://lab.dpdk.org/results/dashboard/tarballs/35333/ UNH-IOL DPDK Community Lab To manage your email subscriptions, visit: https://lab.dpdk.org/results/dashboard/preferences/subscriptions/