From mboxrd@z Thu Jan 1 00:00:00 1970 Return-Path: Received: from mails.dpdk.org (mails.dpdk.org [217.70.189.124]) by inbox.dpdk.org (Postfix) with ESMTP id A2A2D489C8 for ; Fri, 24 Oct 2025 20:12:34 +0200 (CEST) Received: from mails.dpdk.org (localhost [127.0.0.1]) by mails.dpdk.org (Postfix) with ESMTP id 7C5DE40151; Fri, 24 Oct 2025 20:12:34 +0200 (CEST) Received: from mail-oo1-f100.google.com (mail-oo1-f100.google.com [209.85.161.100]) by mails.dpdk.org (Postfix) with ESMTP id 45D4440151 for ; Fri, 24 Oct 2025 20:12:33 +0200 (CEST) Received: by mail-oo1-f100.google.com with SMTP id 006d021491bc7-6546b98f10aso1332823eaf.1 for ; Fri, 24 Oct 2025 11:12:33 -0700 (PDT) DKIM-Signature: v=1; a=rsa-sha256; c=relaxed/relaxed; d=iol.unh.edu; s=unh-iol; t=1761329552; x=1761934352; darn=dpdk.org; h=references:in-reply-to:cc:to:from:subject:message-id:date:from:to :cc:subject:date:message-id:reply-to; bh=2Dx0sMDRuCK7n1c6UDmBRcpwzq8Yrt6B08iqnvMAyAE=; b=FvZ8tZjiB/db5F6ADLWYE8FUxqI624MRAQas4pT3Ifn+0Lth1ZM//deFBUvsi6yqTO O2hczCb+kwvj5CSyD1/2uVqUA6WGHyonXQ3Bt8G7rJ99ZQGU2S4gJgLsBGfZgccAHyR7 J83le5csfRvjP8hjV4YyvP16tSjBGCqvD90eM= X-Google-DKIM-Signature: v=1; a=rsa-sha256; c=relaxed/relaxed; d=1e100.net; s=20230601; t=1761329552; x=1761934352; h=references:in-reply-to:cc:to:from:subject:message-id:date :x-gm-message-state:from:to:cc:subject:date:message-id:reply-to; bh=2Dx0sMDRuCK7n1c6UDmBRcpwzq8Yrt6B08iqnvMAyAE=; b=P+0L1Dmj7RTgh4x4ezE4DkBP7ayHOAQ3eE780zRmL1yDpE9XGOb2ZWJWai63lKcOT7 E9OWCstsBSaemGiJ38kOeKfqGkqmHmXuZ1Ncy9AYaRT/jDYm4xrQYxIGFRzmlgvURuuv 1D9rrZQUrg0SeFZNXjGOaOJbURpg/9v3TCW/FoBYqn8anLQNPTdeclDX3PKp++Xp9FyX kbZQO9KmGscoEpdm+XxMdf1OLxHxN7QUZfAaN4Icn3kumMBDqrh9xFI99BTKSVjL11CV IT0uJU/DtrqITKVIvrZIMhbXFVB2+3s4t59ve/PaLb6D+Pa+8V7/mBGWcy0Al2DcucC1 ihbA== X-Gm-Message-State: AOJu0YxqMDFy95jEiRJyWMWFhvgxm8c7A0KZLSaSbxfkfngN1HxEsT1a inFY5WwKVKPjx/9gzbefC1rxjx2s6vYjiRHob4PQYA6ePJU4jsppSXD1s2afiel+/wUrdOcAuJZ vj2yatwYQxU5+5Ida/z1jDj9j1IhBmSiF2/yFpdaNWw3l X-Gm-Gg: ASbGnctCx3S+N2aYJ0etDNZVjPnRcMBYPmHQwhbL8rrFJSTYVsGy5n9zG4BkEabOLO3 4XYHWrnTzN9EE2uBPnZ2i0n9b/dtH6xGashb+0GdkuOqXcmdX8jIT1vGxeCRs3dnymjv86yFof1 5hH6xtiY01H6EUF/wcTA9J25Ubi6iBpuxQD7czY4sNRCIqrFRXUA22lWGltxeVw5R/WoGcpUQP0 +aIZi1o/X/+KehJolEpzJ3ld2bvtG+z6W5JZIPMn3cLYsfwjQ8qlN7pxQqavYSHOKwxUaVyInLW cZ4oq3iqj6ahiK/8BtNoMzQAWZqkfihqAiLPN3Ih9VyhpY0OQJhFGAeVw+qiarF93lg97uk9YVi McfGuOD/vunrj8dvGjiF8GZ3qGiJVYfQ= X-Google-Smtp-Source: AGHT+IHk6zWBHZYd7lilOvDB95hyypN/vF3+wArkvvqi0jWPIHdt4MeHDPECaHKP6D+jU5L/Zq4uqc0JED5P X-Received: by 2002:a05:6871:3a12:b0:31d:8e9f:e422 with SMTP id 586e51a60fabf-3c98d0e092emr12484394fac.31.1761329552397; Fri, 24 Oct 2025 11:12:32 -0700 (PDT) Received: from postal.iol.unh.edu (postal.iol.unh.edu. [132.177.123.84]) by smtp-relay.gmail.com with ESMTPS id 586e51a60fabf-3cdc46e02f5sm426279fac.0.2025.10.24.11.12.32 (version=TLS1_2 cipher=ECDHE-ECDSA-AES128-GCM-SHA256 bits=128/128); Fri, 24 Oct 2025 11:12:32 -0700 (PDT) X-Relaying-Domain: iol.unh.edu Date: Fri, 24 Oct 2025 11:12:32 -0700 (PDT) Message-ID: <68fbc190.050a0220.5c0c7.6711SMTPIN_ADDED_MISSING@mx.google.com> Received: from [172.21.0.2] (unknown [172.18.0.240]) by postal.iol.unh.edu (Postfix) with ESMTP id DEDDE604D420; Fri, 24 Oct 2025 14:12:31 -0400 (EDT) Subject: |SUCCESS| pw158038-158056 [PATCH] [v3,19/19] drivers: fix Klocwork i From: dpdklab@iol.unh.edu To: Test Report Cc: dpdk-test-reports@iol.unh.edu In-Reply-To: <20251023172728.770661-19-ndabilpuram@marvell.com> References: <20251023172728.770661-19-ndabilpuram@marvell.com> Content-Type: text/plain X-BeenThere: test-report@dpdk.org X-Mailman-Version: 2.1.29 Precedence: list List-Id: automatic DPDK test reports List-Unsubscribe: , List-Archive: List-Post: List-Help: List-Subscribe: , Errors-To: test-report-bounces@dpdk.org Test-Label: iol-compile-arm64-testing Test-Status: SUCCESS http://dpdk.org/patch/158056 _Testing PASS_ Submitter: Nithin Dabilpuram Date: Thursday, October 23 2025 17:27:27 DPDK git baseline: Repo:dpdk-next-net-mrvl Branch: master CommitID:2863cbd9ee6dabee2b183382d298f4054ba3e8a2 158038-158056 --> testing pass Upstream job id: Generic-DPDK-Compile-Meson#437235 Test environment and result as below: +------------------------------+--------------------+ | Environment | dpdk_meson_compile | +==============================+====================+ | Red Hat Enterprise Linux 9.5 | PASS | +------------------------------+--------------------+ | Ubuntu 20.04 | PASS | +------------------------------+--------------------+ | Debian GNU/Linux 12 | PASS | +------------------------------+--------------------+ | Fedora Linux 42 | PASS | +------------------------------+--------------------+ | Ubuntu 22.04 | PASS | +------------------------------+--------------------+ | Ubuntu 24.04 | PASS | +------------------------------+--------------------+ | CentOS Stream 9 | PASS | +------------------------------+--------------------+ | CentOS Stream 10 | PASS | +------------------------------+--------------------+ Red Hat Enterprise Linux 9.5 Kernel: 5.4 Compiler: gcc gcc (GCC) 11.5.0 20240719 (Red Hat 11.5.0-2) Ubuntu 20.04 Kernel: 5.15 Compiler: aarch64-linux-gnu-gcc gcc (Ubuntu 9.4.0-1ubuntu1~20.04.2) 9.4.0 Debian GNU/Linux 12 Kernel: 5.4 Compiler: gcc gcc (Debian 12.2.0-14+deb12u1) 12.2.0 Fedora Linux 42 Kernel: 5.4 Compiler: gcc gcc (GCC) 15.2.1 20250808 (Red Hat 15.2.1-1) Ubuntu 22.04 Kernel: 5.4 Compiler: gcc gcc (Ubuntu 11.4.0-1ubuntu1~22.04) 11.4.0 Ubuntu 24.04 Kernel: 5.4 Compiler: gcc gcc (Ubuntu 13.3.0-6ubuntu2~24.04) 13.3.0 CentOS Stream 9 Kernel: 5.4 Compiler: gcc gcc (GCC) 11.5.0 20240719 (Red Hat 11.5.0-11) CentOS Stream 10 Kernel: 5.4 Compiler: gcc gcc (GCC) 14.2.1 20250110 (Red Hat 14.2.1-8) To view detailed results, visit: https://lab.dpdk.org/results/dashboard/patchsets/34364/ UNH-IOL DPDK Community Lab To manage your email subscriptions, visit: https://lab.dpdk.org/results/dashboard/preferences/subscriptions/