From mboxrd@z Thu Jan 1 00:00:00 1970 Return-Path: Received: from mails.dpdk.org (mails.dpdk.org [217.70.189.124]) by inbox.dpdk.org (Postfix) with ESMTP id 94596489C8 for ; Fri, 24 Oct 2025 20:13:03 +0200 (CEST) Received: from mails.dpdk.org (localhost [127.0.0.1]) by mails.dpdk.org (Postfix) with ESMTP id 9151640151; Fri, 24 Oct 2025 20:13:03 +0200 (CEST) Received: from mail-il1-f226.google.com (mail-il1-f226.google.com [209.85.166.226]) by mails.dpdk.org (Postfix) with ESMTP id CDEFC40151 for ; Fri, 24 Oct 2025 20:13:02 +0200 (CEST) Received: by mail-il1-f226.google.com with SMTP id e9e14a558f8ab-431d2ca8323so12422295ab.3 for ; Fri, 24 Oct 2025 11:13:02 -0700 (PDT) DKIM-Signature: v=1; a=rsa-sha256; c=relaxed/relaxed; d=iol.unh.edu; s=unh-iol; t=1761329582; x=1761934382; darn=dpdk.org; h=references:in-reply-to:cc:to:from:subject:message-id:date:from:to :cc:subject:date:message-id:reply-to; bh=rUp8txV1TZk56No8XE3NsjlEkL/BaF3tGEzkZgHux7s=; b=CoPxXhkBQ9r14AFKJUAiUxqZrev/h68M/COtUYwAROn+dwPGcomdfksCo33uo2Goej 0lrQsAKQwksleR6WplkGNm4Az75NRDnlAPoDoN5Q5KCteumlVh+oYmJvy8bt/mZJM1Ia Ju9HB9TQt68LPG202Qb/CrPnqiqv3nngVwQ9k= X-Google-DKIM-Signature: v=1; a=rsa-sha256; c=relaxed/relaxed; d=1e100.net; s=20230601; t=1761329582; x=1761934382; h=references:in-reply-to:cc:to:from:subject:message-id:date :x-gm-message-state:from:to:cc:subject:date:message-id:reply-to; bh=rUp8txV1TZk56No8XE3NsjlEkL/BaF3tGEzkZgHux7s=; b=iaR25OtXBhnn2HwhXZvemRPVWyH7tsHAyGc+HUaH3QH1jTqUCbrlg9SS7OeJ0CL6VA 4kaBzjqK8p/ciOfdrPX+CESZ4jQzhLI6ArhaLQxrHGInzxY6ObDFZHJ0Mu7dhDHtT7g8 EJDQ1+MgKRKG7d2pErI9FWQZXnK6TqzHpKx1JqNNZJxUsJWjIIVIlIXSiRpoPmIS1eVb sq7BkeqIwoiy3gwkI56DOVDr4DUNmoBFG7Bl+/Xxc1mgLbilvSmFnVqYKPYvhfbf+btj pdwHen82v6X3gOeQVE6w5VD3gHc80apksXd/2Q6t4ZZwU56NT3qHrn1EKWnhQaUcNcq2 yLUQ== X-Gm-Message-State: AOJu0YzMW8HKdSa2mOQxTHuD9Ubb7EfvtEzl7bdntn6CugX8BuJVhg8+ xCvHclrzdo+zD77h0idaQijIHGV7QW9fzbIAe3dS76/nZHU57K5fPWbhgt0suT6GWIVgb/dzjEe rEMW4LZWMe/oc1qvx8NG2I2Zw3/R3TX5lujmIkVzH8bhw X-Gm-Gg: ASbGnct3hOly9D04PlKXciH25s4UqrKLtofPMt0/29MAnvyqOKYP4VQ4BFpM41bc3p3 X8IlZNQh/eNyshOFsZEuSkCj3yHADjHVJbZDHUTEAfgTPHH6PtyDZehQcaQ0s14HXCxcaKfSlrD bY1mN47iwU31rdQPB8UYzB956Ts7QTsFri2OAojJp/GUZoOMPfKWfRchXrRaIwFtaBNuQuZtWAk oXE6PTrjn6TULquM5j3Sr/1bdLbjikyQVQFjTHd9RI2lYv3dH3f8QYLjeFH9tVodxQXzeQWnEAU +046YTauduhFCy68aKOq1Ctt2yAvHiP6gdTulYxIkcibdgNKUfMBW9qlnQkbXPV+cDma71f/N8f 67/MSgWzi2oQe1b/TNk4JXyGpi8Lw6c0= X-Google-Smtp-Source: AGHT+IEDaSbs1/tM6TpkTRhy5jfB+7F9NoLmaCxFlqeJXYH2AbYjC+5+/QqWdsrcMFsNTgulz/H4H9Na0/0T X-Received: by 2002:a05:6e02:152a:b0:42d:7dea:1e04 with SMTP id e9e14a558f8ab-430c529fb82mr422216535ab.25.1761329582058; Fri, 24 Oct 2025 11:13:02 -0700 (PDT) Received: from postal.iol.unh.edu (postal.iol.unh.edu. [132.177.123.84]) by smtp-relay.gmail.com with ESMTPS id e9e14a558f8ab-431dbc958absm5200215ab.33.2025.10.24.11.13.01 (version=TLS1_2 cipher=ECDHE-ECDSA-AES128-GCM-SHA256 bits=128/128); Fri, 24 Oct 2025 11:13:02 -0700 (PDT) X-Relaying-Domain: iol.unh.edu Date: Fri, 24 Oct 2025 11:13:02 -0700 (PDT) Message-ID: <68fbc1ae.050a0220.35bae6.afa4SMTPIN_ADDED_MISSING@mx.google.com> Received: from [172.21.0.2] (unknown [172.18.0.240]) by postal.iol.unh.edu (Postfix) with ESMTP id A18E5604D420; Fri, 24 Oct 2025 14:13:01 -0400 (EDT) Subject: |SUCCESS| pw158038-158056 [PATCH] [v3,19/19] drivers: fix Klocwork i From: dpdklab@iol.unh.edu To: Test Report Cc: dpdk-test-reports@iol.unh.edu In-Reply-To: <20251023172728.770661-19-ndabilpuram@marvell.com> References: <20251023172728.770661-19-ndabilpuram@marvell.com> Content-Type: text/plain X-BeenThere: test-report@dpdk.org X-Mailman-Version: 2.1.29 Precedence: list List-Id: automatic DPDK test reports List-Unsubscribe: , List-Archive: List-Post: List-Help: List-Subscribe: , Errors-To: test-report-bounces@dpdk.org Test-Label: iol-compile-arm64-testing Test-Status: SUCCESS http://dpdk.org/patch/158056 _Testing PASS_ Submitter: Nithin Dabilpuram Date: Thursday, October 23 2025 17:27:27 DPDK git baseline: Repo:dpdk-next-net-mrvl Branch: master CommitID:2863cbd9ee6dabee2b183382d298f4054ba3e8a2 158038-158056 --> testing pass Upstream job id: Generic-DPDK-Compile-Meson#437234 Test environment and result as below: +------------------------------+--------------------+ | Environment | dpdk_meson_compile | +==============================+====================+ | Red Hat Enterprise Linux 9.5 | PASS | +------------------------------+--------------------+ | Ubuntu 20.04 | PASS | +------------------------------+--------------------+ | Debian GNU/Linux 12 | PASS | +------------------------------+--------------------+ | Fedora Linux 42 | PASS | +------------------------------+--------------------+ | Ubuntu 22.04 | PASS | +------------------------------+--------------------+ | Ubuntu 24.04 | PASS | +------------------------------+--------------------+ | CentOS Stream 9 | PASS | +------------------------------+--------------------+ | CentOS Stream 10 | PASS | +------------------------------+--------------------+ Red Hat Enterprise Linux 9.5 Kernel: 5.4 Compiler: gcc gcc (GCC) 11.5.0 20240719 (Red Hat 11.5.0-2) Ubuntu 20.04 Kernel: 5.15 Compiler: aarch64-linux-gnu-gcc gcc (Ubuntu 9.4.0-1ubuntu1~20.04.2) 9.4.0 Debian GNU/Linux 12 Kernel: 5.4 Compiler: gcc gcc (Debian 12.2.0-14+deb12u1) 12.2.0 Fedora Linux 42 Kernel: 5.4 Compiler: gcc gcc (GCC) 15.2.1 20250808 (Red Hat 15.2.1-1) Ubuntu 22.04 Kernel: 5.4 Compiler: gcc gcc (Ubuntu 11.4.0-1ubuntu1~22.04) 11.4.0 Ubuntu 24.04 Kernel: 5.4 Compiler: gcc gcc (Ubuntu 13.3.0-6ubuntu2~24.04) 13.3.0 CentOS Stream 9 Kernel: 5.4 Compiler: gcc gcc (GCC) 11.5.0 20240719 (Red Hat 11.5.0-11) CentOS Stream 10 Kernel: 5.4 Compiler: gcc gcc (GCC) 14.2.1 20250110 (Red Hat 14.2.1-8) To view detailed results, visit: https://lab.dpdk.org/results/dashboard/patchsets/34364/ UNH-IOL DPDK Community Lab To manage your email subscriptions, visit: https://lab.dpdk.org/results/dashboard/preferences/subscriptions/