From mboxrd@z Thu Jan 1 00:00:00 1970 Return-Path: Received: from mails.dpdk.org (mails.dpdk.org [217.70.189.124]) by inbox.dpdk.org (Postfix) with ESMTP id BAE19489C8 for ; Fri, 24 Oct 2025 20:42:46 +0200 (CEST) Received: from mails.dpdk.org (localhost [127.0.0.1]) by mails.dpdk.org (Postfix) with ESMTP id 96B504014F; Fri, 24 Oct 2025 20:42:46 +0200 (CEST) Received: from mail-pg1-f225.google.com (mail-pg1-f225.google.com [209.85.215.225]) by mails.dpdk.org (Postfix) with ESMTP id 3AF5E4014F for ; Fri, 24 Oct 2025 20:42:45 +0200 (CEST) Received: by mail-pg1-f225.google.com with SMTP id 41be03b00d2f7-b6ceba7c97eso2211435a12.0 for ; Fri, 24 Oct 2025 11:42:45 -0700 (PDT) DKIM-Signature: v=1; a=rsa-sha256; c=relaxed/relaxed; d=iol.unh.edu; s=unh-iol; t=1761331364; x=1761936164; darn=dpdk.org; h=references:in-reply-to:cc:to:from:subject:message-id:date:from:to :cc:subject:date:message-id:reply-to; bh=V4fGJAYNt55qVnAgGFoGWxXMHi4eLO25LAbyMJP5aqM=; b=Fr5HN4UjIf0u2x2WtA+bJBiQiH9XrdZEiEO4svUHCmIjMVSJI8efz0luqcaawF239Q 8SDYPkJkG4v/LVGrLdmUOWob9FuVqmvWUTT61w1MPJGWQeR8YjRApkeMDtVdA/9sWpz3 ov1bR8gbz7a8VAJyhb2cW1nFmCQpBVMna2OYY= X-Google-DKIM-Signature: v=1; a=rsa-sha256; c=relaxed/relaxed; d=1e100.net; s=20230601; t=1761331364; x=1761936164; h=references:in-reply-to:cc:to:from:subject:message-id:date :x-gm-message-state:from:to:cc:subject:date:message-id:reply-to; bh=V4fGJAYNt55qVnAgGFoGWxXMHi4eLO25LAbyMJP5aqM=; b=bznD7DnhViIHlKbt5SSAjAEsDv+XCcGovgoN0frnWB/iGWK7WAyDlOYAl7q0t/7yNQ ca4S3gOJoOcSac1EFJAr5u1Nfd7x2PXvS45kKXNTVrFlCCSOPFyUcvsmSZA1vACFkBFv Raue82+3e+MsaeajxF3OpsY7IQaEiAUB/kRJ+3oha9KiOMTd/EyrMV2PQnCDt3EBY0u6 ZWKWyPQmwQhtKOVIqU3/w3crrCAzBJnixr3WYFOugzT1+cvQFYhfH0UukSrNmi9W13u2 RSszRkT5rfDlZS1IUdNIobGd5LsEdy/vGfBSIjdASV/q+A+U3d84ak5UhshlEMCwrrPb 3WXg== X-Gm-Message-State: AOJu0Yw0HEN3+LzBtiuf4f2Me8wpKdPOi2ixFCk8T61e9IpP1Hk77aX6 LxxNrAjMyaNpXDOfCY0xskXaUARCfimk+klxTJVB/wCx7hcL/hdFfcvEL659aGPpDfaK/dZusO2 W0C2nsmTQWHg2rwpyU91IA3lvW24Ssn6zUkRXp/BPzH0s X-Gm-Gg: ASbGncukFSs7qGKdbYYlE0fFAwrPOYXCMZJoFrRS7jphP50okWYQz6Co/jjCkpOFyu9 uuZN/2qN4PZ6VnMCbbB0KyUPLuAgrGN0vvkN5xBXxmW+scJwkr993KMWDAhs7GqEs9aO90Q2yko BQ3lWj68Z3zYbCrNfE2BNPDG8qRyLJmxeac24nn0hllXmYjLYc8CM2hnP1i/XR4vGsRrhgn+D10 3yUkfU/+OygdVj/tyMwQt2fruXD3V/blKg00YBAd+P1HQSCFnFrBrPOFStWd4rHPm/LhqSmOm48 ZlCNCJqDYpXbVA4KqjJz52lPIBXAlYAe966gSM67FlbBjSDlTEStJGkddKvvj9HGXLEY3Du3y6W zFSHfYdNS2AueUOXLQb3N7pyTrxq+ge8= X-Google-Smtp-Source: AGHT+IGA70kcHtpgJHMk5e3x6ArgeGp47dXWYqXBn2ksLn0xcARezDZ0xQI06ufZqaVwQgJYZiaZoI1IxA9d X-Received: by 2002:a17:902:dad0:b0:24b:270e:56c7 with SMTP id d9443c01a7336-290c9c93b02mr411008835ad.7.1761331364299; Fri, 24 Oct 2025 11:42:44 -0700 (PDT) Received: from postal.iol.unh.edu (postal.iol.unh.edu. [132.177.123.84]) by smtp-relay.gmail.com with ESMTPS id d9443c01a7336-2946dee70d3sm6513735ad.45.2025.10.24.11.42.44 (version=TLS1_2 cipher=ECDHE-ECDSA-AES128-GCM-SHA256 bits=128/128); Fri, 24 Oct 2025 11:42:44 -0700 (PDT) X-Relaying-Domain: iol.unh.edu Date: Fri, 24 Oct 2025 11:42:44 -0700 (PDT) Message-ID: <68fbc8a4.170a0220.13028.2196SMTPIN_ADDED_MISSING@mx.google.com> Received: from [172.21.0.2] (unknown [172.18.0.240]) by postal.iol.unh.edu (Postfix) with ESMTP id ABFDD6051830; Fri, 24 Oct 2025 14:42:43 -0400 (EDT) Subject: |SUCCESS| pw158086-158088 [PATCH] [v3,3/3] dts: add virtio forwardin From: dpdklab@iol.unh.edu To: Test Report Cc: dpdk-test-reports@iol.unh.edu In-Reply-To: <20251024174702.600147-3-dmarx@iol.unh.edu> References: <20251024174702.600147-3-dmarx@iol.unh.edu> Content-Type: text/plain X-BeenThere: test-report@dpdk.org X-Mailman-Version: 2.1.29 Precedence: list List-Id: automatic DPDK test reports List-Unsubscribe: , List-Archive: List-Post: List-Help: List-Subscribe: , Errors-To: test-report-bounces@dpdk.org Test-Label: iol-compile-amd64-testing Test-Status: SUCCESS http://dpdk.org/patch/158088 _Testing PASS_ Submitter: Dean Marx Date: Friday, October 24 2025 17:47:00 DPDK git baseline: Repo:dpdk-next-dts Branch: master CommitID:c1abcee5a9656fb4890b733e6051aa604c60f146 158086-158088 --> testing pass Upstream job id: Windows-Compile-DPDK-Native#31876 Test environment and result as below: +---------------------+--------------------+-------------------------+-------------------+----------------------+ | Environment | dpdk_meson_compile | dpdk_llvm_clang_compile | dpdk_msvc_compile | dpdk_mingw64_compile | +=====================+====================+=========================+===================+======================+ | Ubuntu 20.04 | PASS | SKIPPED | SKIPPED | SKIPPED | +---------------------+--------------------+-------------------------+-------------------+----------------------+ | FreeBSD 14.2 | PASS | SKIPPED | SKIPPED | SKIPPED | +---------------------+--------------------+-------------------------+-------------------+----------------------+ | Windows Server 2022 | SKIPPED | PASS | PASS | PASS | +---------------------+--------------------+-------------------------+-------------------+----------------------+ Ubuntu 20.04 Kernel: 4.19 Compiler: gcc gcc (Ubuntu 9.4.0-1ubuntu1~20.04.2) 9.4.0 FreeBSD 14.2 Kernel: 14.2-RELEASE Compiler: clang 18.1.6 Windows Server 2022 Kernel: 10.0.20348.2031 Compiler: clang 15.0.7, gcc 14.1.0 (MinGW), and MSVC VS 19.39.33521 To view detailed results, visit: https://lab.dpdk.org/results/dashboard/patchsets/34374/ UNH-IOL DPDK Community Lab To manage your email subscriptions, visit: https://lab.dpdk.org/results/dashboard/preferences/subscriptions/