From mboxrd@z Thu Jan 1 00:00:00 1970 Return-Path: Received: from mails.dpdk.org (mails.dpdk.org [217.70.189.124]) by inbox.dpdk.org (Postfix) with ESMTP id 9DA33489C8 for ; Fri, 24 Oct 2025 21:05:20 +0200 (CEST) Received: from mails.dpdk.org (localhost [127.0.0.1]) by mails.dpdk.org (Postfix) with ESMTP id 96DCF4014F; Fri, 24 Oct 2025 21:05:20 +0200 (CEST) Received: from mail-qt1-f225.google.com (mail-qt1-f225.google.com [209.85.160.225]) by mails.dpdk.org (Postfix) with ESMTP id 07FC74014F for ; Fri, 24 Oct 2025 21:05:19 +0200 (CEST) Received: by mail-qt1-f225.google.com with SMTP id d75a77b69052e-4e88cacc5d9so21187191cf.0 for ; Fri, 24 Oct 2025 12:05:18 -0700 (PDT) DKIM-Signature: v=1; a=rsa-sha256; c=relaxed/relaxed; d=iol.unh.edu; s=unh-iol; t=1761332718; x=1761937518; darn=dpdk.org; h=references:in-reply-to:cc:to:from:subject:message-id:date:from:to :cc:subject:date:message-id:reply-to; bh=8FhtjLt2XuCEwina147FslASlAM/b4E5EtiPsj3SuMY=; b=XI3Di4RpAgyk4MTrnjqSRIOIoX5d3oQMvtUpfS2OUiw3/mMVGZzty01YNeB0hCcE+z 3aKT+QljpfM+9QuVYq5O3K+PIg1k7nzEmMf507mK8B+Sp5fmCj9G6PaE6PoVmIVsrRm3 6wEsAItUg4FszyJ1kEuNq0qB52VQxSa9B9cXQ= X-Google-DKIM-Signature: v=1; a=rsa-sha256; c=relaxed/relaxed; d=1e100.net; s=20230601; t=1761332718; x=1761937518; h=references:in-reply-to:cc:to:from:subject:message-id:date :x-gm-message-state:from:to:cc:subject:date:message-id:reply-to; bh=8FhtjLt2XuCEwina147FslASlAM/b4E5EtiPsj3SuMY=; b=h5TmRpHjaEA2cXCpkrSfSUi+vnZefm6lRyZOj+THL6cHOWi59TVzpwZGq97Wy0T6Qa iJNTL3gcpp4LBnhn0z2jfWBiZrwxAQduaxdCxb8CioOlkJ/WuhfFao97mBdfjgGZobDv k02iPvHqYHRAKUVzn1rpzpdg6pCRXrS6/swN+eOMl7RWbYxMO8ENngQvFT9jJuAzgB18 esrQRxi3wIK/pfxJ9BC8W5LWusUDI/f7BfvdOFdQsGux+EC4a2nNJ9cc1vOrAFfTJh6P 3KGflLIKQHr1x4IJyAPI4FyBeeTyTurCYfzuU/yRHfJddcS9vcDROgYX9yli5bKgvKEe +5qA== X-Gm-Message-State: AOJu0Yzie18sh5t0+C0GdSODJMi11YdlmN1cwcJ+oBOvVc761M14gPPS 1eSH6D0niLMIUY+qm+L6nv4qG8RNzapWo8/0YYEx8N0AVkPG+bygoUGIyclFH1chxVHbBK45eaI XTuikZuxHRM4vrVm7Nyi7bFEUYff40+w2TbbAV1LX1MnL X-Gm-Gg: ASbGncskGlbxWTGWAxKkTqL4PGcZ4ndrvZcqoylRsvmDMmUbyeUdXquB16LPLN9rG2y M3VQ39fvgsA0IgRX2Z3SindfXnREvWyg1afTjLAxd/e8JuaIF1rxn3bRUQMwcTIUh5DaYsZZoGh xY4hjeP+Y6lt2uEFaHhzTKqyKqUBSehFKL1VjdsAcDluIT3gIP4s6U7YvPoxF/4I2aHaGUuOL4r Uh1Z46Q+q8SvRPY2opvcvfVhFbp9f8hox+6ve2uPqwrphruibsmdoWrqE7T39XJUnQy5HLVjads i9NlKx6tarq4/qaOITUFVh1fIiwm1crFur2tC9+9D7JbRtRwjaM8UmDPFwH9JknD+BteCnn/+zO /AjQNd7ZPwa89BJTZ3sItAC6+nd+ezT4= X-Google-Smtp-Source: AGHT+IFWUzxrhJMDb5afeL7eAKdHi7wl7WI10AmAMlvNozhSKjn81dtCnypWTdURyWPGPRAJFVzc5MDfBexc X-Received: by 2002:a05:6214:da3:b0:783:c657:6db0 with SMTP id 6a1803df08f44-87c2054b2e8mr337267056d6.14.1761332718390; Fri, 24 Oct 2025 12:05:18 -0700 (PDT) Received: from postal.iol.unh.edu (postal.iol.unh.edu. [132.177.123.84]) by smtp-relay.gmail.com with ESMTPS id 6a1803df08f44-87f9a348711sm4675076d6.1.2025.10.24.12.05.18 (version=TLS1_2 cipher=ECDHE-ECDSA-AES128-GCM-SHA256 bits=128/128); Fri, 24 Oct 2025 12:05:18 -0700 (PDT) X-Relaying-Domain: iol.unh.edu Date: Fri, 24 Oct 2025 12:05:18 -0700 (PDT) Message-ID: <68fbcdee.d40a0220.32dcea.8662SMTPIN_ADDED_MISSING@mx.google.com> Received: from [172.21.0.2] (unknown [172.18.0.240]) by postal.iol.unh.edu (Postfix) with ESMTP id 25B4F604D420; Fri, 24 Oct 2025 15:05:18 -0400 (EDT) Subject: |SUCCESS| pw158089-158090 [PATCH] [v3,2/2] dts: add QinQ test suite From: dpdklab@iol.unh.edu To: Test Report Cc: dpdk-test-reports@iol.unh.edu In-Reply-To: <20251024181606.604135-2-dmarx@iol.unh.edu> References: <20251024181606.604135-2-dmarx@iol.unh.edu> Content-Type: text/plain X-BeenThere: test-report@dpdk.org X-Mailman-Version: 2.1.29 Precedence: list List-Id: automatic DPDK test reports List-Unsubscribe: , List-Archive: List-Post: List-Help: List-Subscribe: , Errors-To: test-report-bounces@dpdk.org Test-Label: iol-compile-amd64-testing Test-Status: SUCCESS http://dpdk.org/patch/158090 _Testing PASS_ Submitter: Dean Marx Date: Friday, October 24 2025 18:16:06 DPDK git baseline: Repo:dpdk-next-dts Branch: master CommitID:c1abcee5a9656fb4890b733e6051aa604c60f146 158089-158090 --> testing pass Upstream job id: Windows-Compile-DPDK-Native#31877 Test environment and result as below: +---------------------+--------------------+-------------------+-------------------------+ | Environment | dpdk_meson_compile | dpdk_msvc_compile | dpdk_llvm_clang_compile | +=====================+====================+===================+=========================+ | Ubuntu 20.04 | PASS | SKIPPED | SKIPPED | +---------------------+--------------------+-------------------+-------------------------+ | FreeBSD 14.2 | PASS | SKIPPED | SKIPPED | +---------------------+--------------------+-------------------+-------------------------+ | Windows Server 2022 | SKIPPED | PASS | PASS | +---------------------+--------------------+-------------------+-------------------------+ Ubuntu 20.04 Kernel: 4.19 Compiler: gcc gcc (Ubuntu 9.4.0-1ubuntu1~20.04.2) 9.4.0 FreeBSD 14.2 Kernel: 14.2-RELEASE Compiler: clang 18.1.6 Windows Server 2022 Kernel: 10.0.20348.2031 Compiler: clang 15.0.7, gcc 14.1.0 (MinGW), and MSVC VS 19.39.33521 To view detailed results, visit: https://lab.dpdk.org/results/dashboard/patchsets/34375/ UNH-IOL DPDK Community Lab To manage your email subscriptions, visit: https://lab.dpdk.org/results/dashboard/preferences/subscriptions/