From mboxrd@z Thu Jan 1 00:00:00 1970 Return-Path: Received: from mails.dpdk.org (mails.dpdk.org [217.70.189.124]) by inbox.dpdk.org (Postfix) with ESMTP id 9DB9F489C8 for ; Fri, 24 Oct 2025 21:12:45 +0200 (CEST) Received: from mails.dpdk.org (localhost [127.0.0.1]) by mails.dpdk.org (Postfix) with ESMTP id 99C8340648; Fri, 24 Oct 2025 21:12:45 +0200 (CEST) Received: from mail-io1-f99.google.com (mail-io1-f99.google.com [209.85.166.99]) by mails.dpdk.org (Postfix) with ESMTP id 179BC40151 for ; Fri, 24 Oct 2025 21:12:45 +0200 (CEST) Received: by mail-io1-f99.google.com with SMTP id ca18e2360f4ac-93e817d3ee3so216186239f.0 for ; Fri, 24 Oct 2025 12:12:45 -0700 (PDT) DKIM-Signature: v=1; a=rsa-sha256; c=relaxed/relaxed; d=iol.unh.edu; s=unh-iol; t=1761333164; x=1761937964; darn=dpdk.org; h=references:in-reply-to:cc:to:from:subject:message-id:date:from:to :cc:subject:date:message-id:reply-to; bh=3rKZdNkRJUb1KGXBY6KgTGLoMzu0lW9KD63lqy9+yAU=; b=Bp581oqoXzC3d7de57WGFoHwUn5XXmbNApF8NL8aqWqeT4d4gXTPjX0w5F+L8MLrkh goVUYAd6Te0423ClC6xccNuSMEp4mb6f4OzhcLM3IPJTWGQ1MrTfjfJeUWLJZQiEpnQb HEcAVN+BPrgGTo9AKMC26UNC1gAJbyiBLIo+I= X-Google-DKIM-Signature: v=1; a=rsa-sha256; c=relaxed/relaxed; d=1e100.net; s=20230601; t=1761333164; x=1761937964; h=references:in-reply-to:cc:to:from:subject:message-id:date :x-gm-message-state:from:to:cc:subject:date:message-id:reply-to; bh=3rKZdNkRJUb1KGXBY6KgTGLoMzu0lW9KD63lqy9+yAU=; b=bpgQuug1azKWJy3YoO1kP/h9kze1yF3VwWLs+wK3ADUDEq+fb6ylvRBaiRbGfyLWIm SzXCExS1Dovv3ex0Vt9YhHKzHD5FAUc94M5EaKgvZOmpSxH4DsACyNcvBkNQZKpanYF4 0PKrCJdO5YYpO+FcM1l3AlMOn7XnZ3UAYgzm1NyozieWed9hn/kIsF3jk9n9/zvzJE+g h6wpCFZyKrHaxiHAk+qMx6sDDrnkGwczxn2+tpbZ1rjAGULAdJiI7rig7TnTKXZCVrAd FquFRHZpE/SZfUVpiI7R6bEMnFNy0WWM9gsvotj1xJRvbVbzN2wCQqh2zhifzxnfTpWt lBkg== X-Gm-Message-State: AOJu0YwoxTthjqnwjRez6iBwQ99ob/qwhXH/YqE64aH2TFHP8FHjQU8i Se7dQ4XUzVZC5c6zXCeyUSVuyNYLICw48A9IBKGZdIaz7pUgcJj27XzytEgcfrHrfSwlenmfEJ/ CYCpDoO0+msfATIuy/nNZ1LyKAlXabSoAAmYLNPD2d1hP X-Gm-Gg: ASbGncttwir8EXLXPQVw/cx+W86sf1+Zz8OrdJjPiFrw8usopBe8XRSgMgW5ob/iZh7 tsZATWk2JPXOjvkbus/JF09Ll6egqiy5lD/imdVthlKHvfTYheHPNbtQp657ln0ij/8XIJ8ORCZ ELeiOroIprddNAlqxVe1ajrFHZUJPUXjnMeLTuMk3DdZMCIEivtc4kdKeS3kxnCWjjCaQSV1v6g bTDSCSCc5skeXt3Y4c3J7RFc+OciMgMUFsmxtMQxWK1xyXaKmDOD9PMCzuAVTLVhmeL90aACbCc MCxu3zI4qnl0gLlKGSHX6o2+TDBzSTpMTwlTDwd7gKGxABiNwtEcbSuY/6U9cQncqYOV9CQRyRl NomAoLNGGWlQL5C0KOEpCDCjUBoqAA/g= X-Google-Smtp-Source: AGHT+IFr8F9WBhNZA7zx2W3uZgh51wR/pzcCcwIBMW+79RuJXmJMkAARdn1tIetc0NeefezQ6NFJ/MCtuyGU X-Received: by 2002:a05:6602:29c1:b0:940:fa25:72ae with SMTP id ca18e2360f4ac-94275591150mr485823839f.6.1761333164346; Fri, 24 Oct 2025 12:12:44 -0700 (PDT) Received: from postal.iol.unh.edu (postal.iol.unh.edu. [132.177.123.84]) by smtp-relay.gmail.com with ESMTPS id ca18e2360f4ac-94102da382dsm34736839f.1.2025.10.24.12.12.44 (version=TLS1_2 cipher=ECDHE-ECDSA-AES128-GCM-SHA256 bits=128/128); Fri, 24 Oct 2025 12:12:44 -0700 (PDT) X-Relaying-Domain: iol.unh.edu Date: Fri, 24 Oct 2025 12:12:44 -0700 (PDT) Message-ID: <68fbcfac.050a0220.2ce51b.30cdSMTPIN_ADDED_MISSING@mx.google.com> Received: from [172.21.0.4] (unknown [172.18.0.240]) by postal.iol.unh.edu (Postfix) with ESMTP id DC7A1604D420; Fri, 24 Oct 2025 15:12:43 -0400 (EDT) Subject: |SUCCESS| pw158086-158088 [PATCH] [v3,3/3] dts: add virtio forwardin From: dpdklab@iol.unh.edu To: Test Report Cc: dpdk-test-reports@iol.unh.edu In-Reply-To: <20251024174702.600147-3-dmarx@iol.unh.edu> References: <20251024174702.600147-3-dmarx@iol.unh.edu> Content-Type: text/plain X-BeenThere: test-report@dpdk.org X-Mailman-Version: 2.1.29 Precedence: list List-Id: automatic DPDK test reports List-Unsubscribe: , List-Archive: List-Post: List-Help: List-Subscribe: , Errors-To: test-report-bounces@dpdk.org Test-Label: iol-unit-amd64-testing Test-Status: SUCCESS http://dpdk.org/patch/158088 _Testing PASS_ Submitter: Dean Marx Date: Friday, October 24 2025 17:47:00 DPDK git baseline: Repo:dpdk-next-dts Branch: master CommitID:c1abcee5a9656fb4890b733e6051aa604c60f146 158086-158088 --> testing pass Upstream job id: Generic-Unit-Test-DPDK#385075 Test environment and result as below: +-------------------------------+----------------+ | Environment | dpdk_unit_test | +===============================+================+ | CentOS Stream 9 | PASS | +-------------------------------+----------------+ | CentOS Stream 10 | PASS | +-------------------------------+----------------+ | Fedora Linux 40 | PASS | +-------------------------------+----------------+ | Debian GNU/Linux 12 | PASS | +-------------------------------+----------------+ | Fedora Linux 41 | PASS | +-------------------------------+----------------+ | Red Hat Enterprise Linux 8.10 | PASS | +-------------------------------+----------------+ | Windows Server 2022 | PASS | +-------------------------------+----------------+ | Fedora Linux 42 | PASS | +-------------------------------+----------------+ | Ubuntu 20.04 | PASS | +-------------------------------+----------------+ | Ubuntu 24.04 | PASS | +-------------------------------+----------------+ | Ubuntu 22.04 | PASS | +-------------------------------+----------------+ | Red Hat Enterprise Linux 9.5 | PASS | +-------------------------------+----------------+ CentOS Stream 9 Kernel: 5.15 Compiler: gcc gcc (GCC) 11.5.0 20240719 (Red Hat 11.5.0-11) CentOS Stream 10 Kernel: 5.15 Compiler: gcc gcc (GCC) 14.2.1 20250110 (Red Hat 14.2.1-8) Fedora Linux 40 Kernel: 5.15 Compiler: clang gcc (GCC) 14.2.1 20240912 (Red Hat 14.2.1-3) Debian GNU/Linux 12 Kernel: 5.15 Compiler: gcc gcc (Debian 12.2.0-14+deb12u1) 12.2.0 Fedora Linux 41 Kernel: 5.15 Compiler: clang gcc (GCC) 14.3.1 20250523 (Red Hat 14.3.1-1) Red Hat Enterprise Linux 8.10 Kernel: 5.15 Compiler: gcc gcc (GCC) 8.5.0 20210514 (Red Hat 8.5.0-22) Windows Server 2022 Kernel: 10.0.20348.2031 Compiler: clang 15.0.7, gcc 14.1.0 (MinGW), and MSVC VS 19.39.33521 Fedora Linux 42 Kernel: 5.15 Compiler: gcc gcc (GCC) 15.2.1 20250808 (Red Hat 15.2.1-1) Ubuntu 20.04 Kernel: 5.15 Compiler: gcc gcc (Ubuntu 9.4.0-1ubuntu1~20.04.2) 9.4.0 Ubuntu 24.04 Kernel: 5.15 Compiler: gcc gcc (Ubuntu 13.3.0-6ubuntu2~24.04) 13.3.0 Ubuntu 22.04 Kernel: 5.15 Compiler: gcc gcc (Ubuntu 11.4.0-1ubuntu1~22.04) 11.4.0 Red Hat Enterprise Linux 9.5 Kernel: 5.15 Compiler: gcc gcc (GCC) 11.5.0 20240719 (Red Hat 11.5.0-2) To view detailed results, visit: https://lab.dpdk.org/results/dashboard/patchsets/34374/ UNH-IOL DPDK Community Lab To manage your email subscriptions, visit: https://lab.dpdk.org/results/dashboard/preferences/subscriptions/