From mboxrd@z Thu Jan 1 00:00:00 1970 Return-Path: Received: from mails.dpdk.org (mails.dpdk.org [217.70.189.124]) by inbox.dpdk.org (Postfix) with ESMTP id 208CE489C8 for ; Fri, 24 Oct 2025 21:15:04 +0200 (CEST) Received: from mails.dpdk.org (localhost [127.0.0.1]) by mails.dpdk.org (Postfix) with ESMTP id 196A74014F; Fri, 24 Oct 2025 21:15:04 +0200 (CEST) Received: from mail-io1-f98.google.com (mail-io1-f98.google.com [209.85.166.98]) by mails.dpdk.org (Postfix) with ESMTP id DAD974014F for ; Fri, 24 Oct 2025 21:15:02 +0200 (CEST) Received: by mail-io1-f98.google.com with SMTP id ca18e2360f4ac-93e8834d80aso99142039f.1 for ; Fri, 24 Oct 2025 12:15:02 -0700 (PDT) DKIM-Signature: v=1; a=rsa-sha256; c=relaxed/relaxed; d=iol.unh.edu; s=unh-iol; t=1761333302; x=1761938102; darn=dpdk.org; h=references:in-reply-to:cc:to:from:subject:message-id:date:from:to :cc:subject:date:message-id:reply-to; bh=9HLn0a3Cd+UNPRpPuaRCzxFyf1RRJaar9qzgxU7yMNg=; b=N/PY5fcHBRrcoFrOzW5kouAqqeIkE9N5osz1WDEuRsWaViZeeEOAM7oLpTgWqvhyaw A2aJThuK1fh+52F/ed9wWWp+VV2ZWL1HquZHQaCfZY0Gs/nV44TowVI+ClytOUfreiYA m7TyS2RP+lzyuh93QKQEjZca9DxfE4ZeuL83M= X-Google-DKIM-Signature: v=1; a=rsa-sha256; c=relaxed/relaxed; d=1e100.net; s=20230601; t=1761333302; x=1761938102; h=references:in-reply-to:cc:to:from:subject:message-id:date :x-gm-message-state:from:to:cc:subject:date:message-id:reply-to; bh=9HLn0a3Cd+UNPRpPuaRCzxFyf1RRJaar9qzgxU7yMNg=; b=lYPZfAW2vPtavu0MdmLmOAq5jRLoz47BvOQlORln7WRFvU6HNa2cE0350sraq6b6db zyLNhUFbKahUwuHhlYBSieM+MO9EDCGmCb7duXtL4DxV3WZbQDj7RZLVV7/NcMpAxf6E vIeajfk0y92JFw4u48ggWMwu62M+BRqhVLQMO6zCOxFtrqq5Y3mpdgFtgx8YThQsROsM WCcGuphquZHWvvyUfVI4CFsMjgwT2lPLrbUDH2Su0qXqO/5Hs2QyxQ1kRbiTeB/Or3mf MBvOF+QHA7586lGn7cX9yDhvrcGNdJ7kwq39dNSbzCfH22xdr9cEIGot6gLzShqqvK5h YkHA== X-Gm-Message-State: AOJu0Yx37vq+iEPPShwgBpfLiN3ehaHKx4S3XXtxMC+fIJmlA0A14TwX +McnLv4K+uJT6peGMAAa+dTl92UViJ1g3TfcqqFafqh0Z3uea07xJADctk1YYgdx9QockTurP8Y ZPmGcEL9ATq02DK4uVp2jdSdNBBSU4tMnGvwnekY8C80e X-Gm-Gg: ASbGncvgR/WBqsmtBnll5Qz2Mqq4HLcvZlNjiJB9koyKyIPm7zY2NndC3IHmsmVllM8 TR8FvvuP5mkXCnZEQKfOmCSDAXdgZywwQz8qcmXRiweSW1HozJS8eI0GAtIzhyiNcCp6M2xMxsi dvS9uITgd2O0k47v4yvXXAcwM/R1tahP9En5ahFPuGZah5IJiaQFAq9oEw/hTmSw6UOk60MtS0J pxSQeclf9RpVh3UFGfvlioqY0lBgdrojooF/VMf/kI3KbfyqD+/+5pAasryNoST+H+l6avNoBRH qNSblxYPkX6Y15dBSsUrpF+Y5ww1hdB9Dm//wkRPZsQpUcU1e3OF0ikmyZPQGG2CZVC1uTKwVyy En5/0PoS5+DUBbBmqAhoeq+u04bUdylw= X-Google-Smtp-Source: AGHT+IECkkVn1yy4Z1Vf8d1K5gKtWGr+ovPINQ8hD+6vR3CY9Squ9TH9PoylCDMckGhVbmyd2VmMkkZ0GxGC X-Received: by 2002:a05:6e02:190f:b0:42d:8525:ac81 with SMTP id e9e14a558f8ab-431ebea7c09mr40730545ab.17.1761333302153; Fri, 24 Oct 2025 12:15:02 -0700 (PDT) Received: from postal.iol.unh.edu (postal.iol.unh.edu. [132.177.123.84]) by smtp-relay.gmail.com with ESMTPS id 8926c6da1cb9f-5abb79fb66dsm469957173.39.2025.10.24.12.15.02 (version=TLS1_2 cipher=ECDHE-ECDSA-AES128-GCM-SHA256 bits=128/128); Fri, 24 Oct 2025 12:15:02 -0700 (PDT) X-Relaying-Domain: iol.unh.edu Date: Fri, 24 Oct 2025 12:15:02 -0700 (PDT) Message-ID: <68fbd036.050a0220.35fba8.88abSMTPIN_ADDED_MISSING@mx.google.com> Received: from [172.21.0.2] (unknown [172.18.0.240]) by postal.iol.unh.edu (Postfix) with ESMTP id B6949604D420; Fri, 24 Oct 2025 15:15:01 -0400 (EDT) Subject: |SUCCESS| pw158089-158090 [PATCH] [v3,2/2] dts: add QinQ test suite From: dpdklab@iol.unh.edu To: Test Report Cc: dpdk-test-reports@iol.unh.edu In-Reply-To: <20251024181606.604135-2-dmarx@iol.unh.edu> References: <20251024181606.604135-2-dmarx@iol.unh.edu> Content-Type: text/plain X-BeenThere: test-report@dpdk.org X-Mailman-Version: 2.1.29 Precedence: list List-Id: automatic DPDK test reports List-Unsubscribe: , List-Archive: List-Post: List-Help: List-Subscribe: , Errors-To: test-report-bounces@dpdk.org Test-Label: iol-compile-amd64-testing Test-Status: SUCCESS http://dpdk.org/patch/158090 _Testing PASS_ Submitter: Dean Marx Date: Friday, October 24 2025 18:16:06 DPDK git baseline: Repo:dpdk-next-dts Branch: master CommitID:c1abcee5a9656fb4890b733e6051aa604c60f146 158089-158090 --> testing pass Upstream job id: Windows-Compile-DPDK-Native#31878 Test environment and result as below: +---------------------+--------------------+-------------------+-------------------------+----------------------+ | Environment | dpdk_meson_compile | dpdk_msvc_compile | dpdk_llvm_clang_compile | dpdk_mingw64_compile | +=====================+====================+===================+=========================+======================+ | Ubuntu 20.04 | PASS | SKIPPED | SKIPPED | SKIPPED | +---------------------+--------------------+-------------------+-------------------------+----------------------+ | FreeBSD 14.2 | PASS | SKIPPED | SKIPPED | SKIPPED | +---------------------+--------------------+-------------------+-------------------------+----------------------+ | Windows Server 2022 | SKIPPED | PASS | PASS | PASS | +---------------------+--------------------+-------------------+-------------------------+----------------------+ Ubuntu 20.04 Kernel: 4.19 Compiler: gcc gcc (Ubuntu 9.4.0-1ubuntu1~20.04.2) 9.4.0 FreeBSD 14.2 Kernel: 14.2-RELEASE Compiler: clang 18.1.6 Windows Server 2022 Kernel: 10.0.20348.2031 Compiler: clang 15.0.7, gcc 14.1.0 (MinGW), and MSVC VS 19.39.33521 To view detailed results, visit: https://lab.dpdk.org/results/dashboard/patchsets/34375/ UNH-IOL DPDK Community Lab To manage your email subscriptions, visit: https://lab.dpdk.org/results/dashboard/preferences/subscriptions/