From mboxrd@z Thu Jan 1 00:00:00 1970 Return-Path: Received: from mails.dpdk.org (mails.dpdk.org [217.70.189.124]) by inbox.dpdk.org (Postfix) with ESMTP id 76FC2489C9 for ; Fri, 24 Oct 2025 22:07:21 +0200 (CEST) Received: from mails.dpdk.org (localhost [127.0.0.1]) by mails.dpdk.org (Postfix) with ESMTP id 70C634014F; Fri, 24 Oct 2025 22:07:21 +0200 (CEST) Received: from mail-il1-f226.google.com (mail-il1-f226.google.com [209.85.166.226]) by mails.dpdk.org (Postfix) with ESMTP id D90824014F for ; Fri, 24 Oct 2025 22:07:19 +0200 (CEST) Received: by mail-il1-f226.google.com with SMTP id e9e14a558f8ab-430ab5ee3e7so11276775ab.2 for ; Fri, 24 Oct 2025 13:07:19 -0700 (PDT) DKIM-Signature: v=1; a=rsa-sha256; c=relaxed/relaxed; d=iol.unh.edu; s=unh-iol; t=1761336439; x=1761941239; darn=dpdk.org; h=references:in-reply-to:cc:to:from:subject:message-id:date:from:to :cc:subject:date:message-id:reply-to; bh=hORofJ34wqww6nL9BFlUX4+ynZpe0jMAFYAqF2xav9M=; b=hwUjG0WTUo7xJvYTF7f2MhJcPVX/B/rjtQBy3XYpGNh6WLvm2u+6X49GvrzE7hjT8U GZRYX8kYDiZvgD8aFyLyNhCd7z5aSkXKUJHHS/yfpAHaafZlbwm9BGJx0cH7Str+zLP/ +ACECa23ILkzrXtHK3EdsdkL92oWJcWDuPV1A= X-Google-DKIM-Signature: v=1; a=rsa-sha256; c=relaxed/relaxed; d=1e100.net; s=20230601; t=1761336439; x=1761941239; h=references:in-reply-to:cc:to:from:subject:message-id:date :x-gm-message-state:from:to:cc:subject:date:message-id:reply-to; bh=hORofJ34wqww6nL9BFlUX4+ynZpe0jMAFYAqF2xav9M=; b=bPEmhgd+VaBG87qe5/PioWN81IuiilvGlkXxBLT5VntTw3U9Xqdjz6VNroI2X/AhHf IF9pXtFO8jBGEF1Fd+RxY+FQA9Sk4GBS1uoq0c5NUF4vU7R+oG27cP744b+XvSswrt9e bMdyHSMmeY9QM+Yu0UYgc9O1yJ2KYRhZ7hieAGwUiNcceXiAWxa/8gseCcMAy26BqtT/ UsUbkIKzz0tHLiuyRTj3qV4GpPHCt7lw9BnhJs7lWVYlTxkjvVD3yY8X0Qc6B9a7QU5x UaoVbQp2NDikTd5WDbS6DdmTd3qEbXuckTOygo6KvK4I9EpDWuH4Jle+rrQFIZGnJyCh GXhA== X-Gm-Message-State: AOJu0YxXtKqCUA9358DCtjhDEIQ6kJwjDhEjYeRFuY5CXAaqzCJOJ2Be lqyR4fRH7lV21M8ymQhU8zZ5Me2RARUfAj2/yqyY0UZbKePEHMWPAYND+noU4vdfRm/FDnVLd6o uTolXwT+vptc5lfPaWlcCuxwDxxEdhzHng2dRmIa0F59q X-Gm-Gg: ASbGncsdOp1xqgMBCbT6Px3ywGwxkI+Z3HOPgRCuAj7kFpHtJk0skvGK84Uhuw2tuNU DdTiSDuUw6Wr3caPkdui6EwuWmEjrZ7UX50hmLfxxUf6wGytGLBM5kJKqgNhRGtMAJR1zmQbKPW H31d6ecxPoZcNvI79DuJ/nlRn+evAAfJ+z/9YhxdnXHv9E9K2GuGPYRIqOTAs8nMFFnkwQCYYls YLnmhnOwAgQtf5XJYeGqntjiaw9nrH1YS8qXsCT1hCuoIwdM5LeFiBqjX35qESip/V2o0hHY7QF kxnBzw4YYaZGmf90uPeRZal85jLhc9jla44kQIJCRnkIyxdmkv2DnMSt4hPFjUm40PSR7zxRWMU FmOuyow7oaRJfma6eW0bgoGd+yuFbSlc= X-Google-Smtp-Source: AGHT+IEMU5rnPOVVhYt2Idj7UI0xGrcrk6n3JHcz2BrLuMXtptish9/vNKwLGzyns3WVbiYR/g13EBj44w5c X-Received: by 2002:a05:6e02:1a46:b0:42b:2f98:3fc2 with SMTP id e9e14a558f8ab-430c52b4580mr389690765ab.17.1761336439168; Fri, 24 Oct 2025 13:07:19 -0700 (PDT) Received: from postal.iol.unh.edu (postal.iol.unh.edu. [132.177.123.84]) by smtp-relay.gmail.com with ESMTPS id e9e14a558f8ab-431f67ea775sm61025ab.2.2025.10.24.13.07.19 (version=TLS1_2 cipher=ECDHE-ECDSA-AES128-GCM-SHA256 bits=128/128); Fri, 24 Oct 2025 13:07:19 -0700 (PDT) X-Relaying-Domain: iol.unh.edu Date: Fri, 24 Oct 2025 13:07:19 -0700 (PDT) Message-ID: <68fbdc77.050a0220.30d4aa.05a8SMTPIN_ADDED_MISSING@mx.google.com> Received: from [172.21.0.2] (unknown [172.18.0.240]) by postal.iol.unh.edu (Postfix) with ESMTP id B83C8604D420; Fri, 24 Oct 2025 16:07:18 -0400 (EDT) Subject: |SUCCESS| pw158089-158090 [PATCH] [v3,2/2] dts: add QinQ test suite From: dpdklab@iol.unh.edu To: Test Report Cc: dpdk-test-reports@iol.unh.edu In-Reply-To: <20251024181606.604135-2-dmarx@iol.unh.edu> References: <20251024181606.604135-2-dmarx@iol.unh.edu> Content-Type: text/plain X-BeenThere: test-report@dpdk.org X-Mailman-Version: 2.1.29 Precedence: list List-Id: automatic DPDK test reports List-Unsubscribe: , List-Archive: List-Post: List-Help: List-Subscribe: , Errors-To: test-report-bounces@dpdk.org Test-Label: iol-unit-amd64-testing Test-Status: SUCCESS http://dpdk.org/patch/158090 _Testing PASS_ Submitter: Dean Marx Date: Friday, October 24 2025 18:16:06 DPDK git baseline: Repo:dpdk-next-dts Branch: master CommitID:c1abcee5a9656fb4890b733e6051aa604c60f146 158089-158090 --> testing pass Upstream job id: Generic-Unit-Test-DPDK#385105 Test environment and result as below: +-------------------------------+----------------+ | Environment | dpdk_unit_test | +===============================+================+ | CentOS Stream 10 | PASS | +-------------------------------+----------------+ | Debian GNU/Linux 12 | PASS | +-------------------------------+----------------+ | CentOS Stream 9 | PASS | +-------------------------------+----------------+ | Fedora Linux 40 | PASS | +-------------------------------+----------------+ | Fedora Linux 41 | PASS | +-------------------------------+----------------+ | Fedora Linux 42 | PASS | +-------------------------------+----------------+ | Ubuntu 24.04 | PASS | +-------------------------------+----------------+ | Red Hat Enterprise Linux 9.5 | PASS | +-------------------------------+----------------+ | Red Hat Enterprise Linux 8.10 | PASS | +-------------------------------+----------------+ | Ubuntu 22.04 | PASS | +-------------------------------+----------------+ | Ubuntu 20.04 | PASS | +-------------------------------+----------------+ | Windows Server 2022 | PASS | +-------------------------------+----------------+ CentOS Stream 10 Kernel: 5.15 Compiler: gcc gcc (GCC) 14.2.1 20250110 (Red Hat 14.2.1-8) Debian GNU/Linux 12 Kernel: 5.15 Compiler: gcc gcc (Debian 12.2.0-14+deb12u1) 12.2.0 CentOS Stream 9 Kernel: 5.15 Compiler: gcc gcc (GCC) 11.5.0 20240719 (Red Hat 11.5.0-11) Fedora Linux 40 Kernel: 5.15 Compiler: gcc gcc (GCC) 14.2.1 20240912 (Red Hat 14.2.1-3) Fedora Linux 41 Kernel: 5.15 Compiler: gcc gcc (GCC) 14.3.1 20250523 (Red Hat 14.3.1-1) Fedora Linux 42 Kernel: 5.15 Compiler: gcc gcc (GCC) 15.2.1 20250808 (Red Hat 15.2.1-1) Ubuntu 24.04 Kernel: 5.15 Compiler: gcc gcc (Ubuntu 13.3.0-6ubuntu2~24.04) 13.3.0 Red Hat Enterprise Linux 9.5 Kernel: 5.15 Compiler: gcc gcc (GCC) 11.5.0 20240719 (Red Hat 11.5.0-2) Red Hat Enterprise Linux 8.10 Kernel: 5.15 Compiler: gcc gcc (GCC) 8.5.0 20210514 (Red Hat 8.5.0-22) Ubuntu 22.04 Kernel: 5.15 Compiler: gcc gcc (Ubuntu 11.4.0-1ubuntu1~22.04) 11.4.0 Ubuntu 20.04 Kernel: 5.15 Compiler: gcc gcc (Ubuntu 9.4.0-1ubuntu1~20.04.2) 9.4.0 Windows Server 2022 Kernel: 10.0.20348.2031 Compiler: clang 15.0.7, gcc 14.1.0 (MinGW), and MSVC VS 19.39.33521 To view detailed results, visit: https://lab.dpdk.org/results/dashboard/patchsets/34375/ UNH-IOL DPDK Community Lab To manage your email subscriptions, visit: https://lab.dpdk.org/results/dashboard/preferences/subscriptions/