From mboxrd@z Thu Jan 1 00:00:00 1970 Return-Path: Received: from mails.dpdk.org (mails.dpdk.org [217.70.189.124]) by inbox.dpdk.org (Postfix) with ESMTP id C97DD489C9 for ; Fri, 24 Oct 2025 22:08:57 +0200 (CEST) Received: from mails.dpdk.org (localhost [127.0.0.1]) by mails.dpdk.org (Postfix) with ESMTP id C46A54014F; Fri, 24 Oct 2025 22:08:57 +0200 (CEST) Received: from mail-yx1-f100.google.com (mail-yx1-f100.google.com [74.125.224.100]) by mails.dpdk.org (Postfix) with ESMTP id 1598F4014F for ; Fri, 24 Oct 2025 22:08:57 +0200 (CEST) Received: by mail-yx1-f100.google.com with SMTP id 956f58d0204a3-63e330a1360so2697737d50.3 for ; Fri, 24 Oct 2025 13:08:57 -0700 (PDT) DKIM-Signature: v=1; a=rsa-sha256; c=relaxed/relaxed; d=iol.unh.edu; s=unh-iol; t=1761336536; x=1761941336; darn=dpdk.org; h=references:in-reply-to:cc:to:from:subject:message-id:date:from:to :cc:subject:date:message-id:reply-to; bh=9N1gYmNbLmoa6eMRcEHvYgD13ddF3VWTSO/Gn5JVIeM=; b=UZjBQ3eIrljO0Zb9T0Jytb3aDMO9BrHTwWiE/64ZFxb7Bziss7ndfP3Dk/CuwpQ6aK sLggVklx3pFf3UR0afuFFoEluO3CefG9CbVMvhTlmttg5hzd9gAhEEcghxsNoRw3PTy+ mUen+hNSmHooklUlS/NppVCwwDuUiWRk3x+PA= X-Google-DKIM-Signature: v=1; a=rsa-sha256; c=relaxed/relaxed; d=1e100.net; s=20230601; t=1761336536; x=1761941336; h=references:in-reply-to:cc:to:from:subject:message-id:date :x-gm-message-state:from:to:cc:subject:date:message-id:reply-to; bh=9N1gYmNbLmoa6eMRcEHvYgD13ddF3VWTSO/Gn5JVIeM=; b=mVV3F3CKOT/EAw6k59IkoK1LISXUYVfQqz/tewDAjQpvz820TwtXQWbb62Cm/CGdOf DBE6x3Mt2gUcI/PwMj7Z2y1ouyL+0DWwaA7GVdjY1PS8kEs+sCYqAhkWr4uM1KaADDfY XICnN34uC67ago+mvb+jbmrvyRYlBpUbVIaHCyiKOlW3pXU03UyibUN58bV0lHKjuYle czSWiVrcyzpqB+NUglbvopXBHe4iS+7rnpaT2wqbYH+eg5sL/b2U2XEg7UX1LyNUjcFP Dn+sOp8fyQ4mEywHAzjUbqVMfdCMZo1InAMqlh5vB672JdZNp4qST+oL1OKdAmlXWf77 hrzA== X-Gm-Message-State: AOJu0Yxevk3iuEHyEL9kBoEw/nZsq4iux21S4TLxoDxHAwIFMyDc6B+9 GKiRlWBxaFB3Fbwy3My4ZdH2AhfbCqQ0deP1TiUYnlBD9g+ZIwXAXZy1ZjX1PQb28yRKOG43UeO e/Bhn8vdY2WggGnmYCSGGKfukRpdQxYhPqlP35vqF1tYI X-Gm-Gg: ASbGnctQxx5GhV/uEBdE80Pq+Evr8Av9iYS+aIfvKVcpVmL+rW86eZ4RZAC2tF9nZMk tUoXb+ajWjO0hrwWwW3AYZ3i5pqbUYqUuCJRitkmDXYZjvRXXNRwnFp2O4UVKMxv9Ld/W2vHlvR EdFlip+REkPeHg1ARDoFqqNUeYNlQYkni4UiumDp3DWWDwLDmvgaC6zwG8ZBawAJZ0Vl/ud5FvT d1/YxeEmS8g+vhwg6iaUCQYSCFYZdqBQrxmsNrSLccaNBH4SubKTgOY0OFs2JLzg3bjjDX3w2a5 bUaePhPQRuyy8mGlAPgUzpYhDCBNq/xMzjh29xgDqPlzZh3FXUJuAYrgYY2EYP3LPUSRp0rX9VO USZWOIJHZSKEXEv0jhIGaXjbaZqK1j20= X-Google-Smtp-Source: AGHT+IEE1qilgWIh3pxXydXZ0bWdqn/O6gt4ipZA8bONAZ98md2ZwNQj3KoiLPdb9oY5kuqGEF6Z2pRsiXJ4 X-Received: by 2002:a53:7b04:0:b0:62d:9854:f1c3 with SMTP id 956f58d0204a3-63f378a4cffmr4080802d50.33.1761336536378; Fri, 24 Oct 2025 13:08:56 -0700 (PDT) Received: from postal.iol.unh.edu (postal.iol.unh.edu. [132.177.123.84]) by smtp-relay.gmail.com with ESMTPS id 956f58d0204a3-63f4c3cff59sm3897d50.5.2025.10.24.13.08.56 (version=TLS1_2 cipher=ECDHE-ECDSA-AES128-GCM-SHA256 bits=128/128); Fri, 24 Oct 2025 13:08:56 -0700 (PDT) X-Relaying-Domain: iol.unh.edu Date: Fri, 24 Oct 2025 13:08:56 -0700 (PDT) Message-ID: <68fbdcd8.050a0220.26c033.0315SMTPIN_ADDED_MISSING@mx.google.com> Received: from [172.21.0.2] (unknown [172.18.0.240]) by postal.iol.unh.edu (Postfix) with ESMTP id 1347B604D420; Fri, 24 Oct 2025 16:08:56 -0400 (EDT) Subject: |SUCCESS| pw158095-158097 [PATCH] [v4,3/3] dts: add virtio forwardin From: dpdklab@iol.unh.edu To: Test Report Cc: dpdk-test-reports@iol.unh.edu In-Reply-To: <20251024185056.607160-3-dmarx@iol.unh.edu> References: <20251024185056.607160-3-dmarx@iol.unh.edu> Content-Type: text/plain X-BeenThere: test-report@dpdk.org X-Mailman-Version: 2.1.29 Precedence: list List-Id: automatic DPDK test reports List-Unsubscribe: , List-Archive: List-Post: List-Help: List-Subscribe: , Errors-To: test-report-bounces@dpdk.org Test-Label: iol-compile-amd64-testing Test-Status: SUCCESS http://dpdk.org/patch/158097 _Testing PASS_ Submitter: Dean Marx Date: Friday, October 24 2025 18:50:55 DPDK git baseline: Repo:dpdk-next-dts Branch: master CommitID:c1abcee5a9656fb4890b733e6051aa604c60f146 158095-158097 --> testing pass Upstream job id: Windows-Compile-DPDK-VS#7315 Test environment and result as below: +---------------------+--------------------+-------------------+ | Environment | dpdk_meson_compile | dpdk_msvc_compile | +=====================+====================+===================+ | FreeBSD 14.2 | PASS | SKIPPED | +---------------------+--------------------+-------------------+ | Ubuntu 20.04 | PASS | SKIPPED | +---------------------+--------------------+-------------------+ | Windows Server 2022 | SKIPPED | PASS | +---------------------+--------------------+-------------------+ FreeBSD 14.2 Kernel: 14.2-RELEASE Compiler: clang 18.1.6 Ubuntu 20.04 Kernel: 4.19 Compiler: gcc gcc (Ubuntu 9.4.0-1ubuntu1~20.04.2) 9.4.0 Windows Server 2022 Kernel: 10.0.20348.2031 Compiler: clang 15.0.7, gcc 14.1.0 (MinGW), and MSVC VS 19.39.33521 To view detailed results, visit: https://lab.dpdk.org/results/dashboard/patchsets/34379/ UNH-IOL DPDK Community Lab To manage your email subscriptions, visit: https://lab.dpdk.org/results/dashboard/preferences/subscriptions/