From: dpdklab@iol.unh.edu
To: Test Report <test-report@dpdk.org>
Cc: dpdk-test-reports@iol.unh.edu, Akhil Goyal <gakhil@marvell.com>
Subject: |SUCCESS| pw158094 [PATCH] app/compress-perf: fix coverity issue
Date: Fri, 24 Oct 2025 13:10:11 -0700 (PDT) [thread overview]
Message-ID: <68fbdd23.050a0220.ecc52.05aeSMTPIN_ADDED_MISSING@mx.google.com> (raw)
In-Reply-To: <20251024184745.1698409-1-svaze@qti.qualcomm.com>
Test-Label: iol-compile-amd64-testing
Test-Status: SUCCESS
http://dpdk.org/patch/158094
_Testing PASS_
Submitter: Sameer Vaze <svaze@qti.qualcomm.com>
Date: Friday, October 24 2025 18:47:45
DPDK git baseline: Repo:dpdk-next-crypto
Branch: master
CommitID:6edcec237e31fcdb848cca6c151ee7a5bf057c28
158094 --> testing pass
Upstream job id: Windows-Compile-DPDK-Native#31880
Test environment and result as below:
+---------------------+--------------------+-------------------+-------------------------+----------------------+
| Environment | dpdk_meson_compile | dpdk_msvc_compile | dpdk_llvm_clang_compile | dpdk_mingw64_compile |
+=====================+====================+===================+=========================+======================+
| FreeBSD 14.2 | PASS | SKIPPED | SKIPPED | SKIPPED |
+---------------------+--------------------+-------------------+-------------------------+----------------------+
| Ubuntu 20.04 | PASS | SKIPPED | SKIPPED | SKIPPED |
+---------------------+--------------------+-------------------+-------------------------+----------------------+
| Windows Server 2022 | SKIPPED | PASS | PASS | PASS |
+---------------------+--------------------+-------------------+-------------------------+----------------------+
FreeBSD 14.2
Kernel: 14.2-RELEASE
Compiler: clang 18.1.6
Ubuntu 20.04
Kernel: 4.19
Compiler: gcc gcc (Ubuntu 9.4.0-1ubuntu1~20.04.2) 9.4.0
Windows Server 2022
Kernel: 10.0.20348.2031
Compiler: clang 15.0.7, gcc 14.1.0 (MinGW), and MSVC VS 19.39.33521
To view detailed results, visit:
https://lab.dpdk.org/results/dashboard/patchsets/34377/
UNH-IOL DPDK Community Lab
To manage your email subscriptions, visit:
https://lab.dpdk.org/results/dashboard/preferences/subscriptions/
next prev parent reply other threads:[~2025-10-24 20:10 UTC|newest]
Thread overview: 25+ messages / expand[flat|nested] mbox.gz Atom feed top
[not found] <20251024184745.1698409-1-svaze@qti.qualcomm.com>
2025-10-24 18:13 ` qemudev
2025-10-24 18:18 ` qemudev
2025-10-24 18:48 ` checkpatch
2025-10-24 19:14 ` |PENDING| " dpdklab
2025-10-24 19:17 ` |SUCCESS| " dpdklab
2025-10-24 19:22 ` dpdklab
2025-10-24 19:27 ` |PENDING| " dpdklab
2025-10-24 19:30 ` |WARNING| " dpdklab
2025-10-24 19:34 ` |SUCCESS| " dpdklab
2025-10-24 19:39 ` dpdklab
2025-10-24 19:41 ` |PENDING| " dpdklab
2025-10-24 19:48 ` dpdklab
2025-10-24 20:07 ` |SUCCESS| " dpdklab
2025-10-24 20:10 ` dpdklab [this message]
2025-10-24 20:25 ` |WARNING| " dpdklab
2025-10-24 20:27 ` |SUCCESS| " dpdklab
2025-10-24 21:19 ` dpdklab
2025-10-24 21:41 ` dpdklab
2025-10-24 22:56 ` dpdklab
2025-10-24 23:09 ` dpdklab
2025-10-24 23:48 ` dpdklab
2025-10-25 0:56 ` dpdklab
2025-10-25 11:57 ` dpdklab
2025-10-25 18:28 ` |WARNING| " dpdklab
2025-10-25 18:52 ` dpdklab
Reply instructions:
You may reply publicly to this message via plain-text email
using any one of the following methods:
* Save the following mbox file, import it into your mail client,
and reply-to-all from there: mbox
Avoid top-posting and favor interleaved quoting:
https://en.wikipedia.org/wiki/Posting_style#Interleaved_style
* Reply using the --to, --cc, and --in-reply-to
switches of git-send-email(1):
git send-email \
--in-reply-to=68fbdd23.050a0220.ecc52.05aeSMTPIN_ADDED_MISSING@mx.google.com \
--to=dpdklab@iol.unh.edu \
--cc=dpdk-test-reports@iol.unh.edu \
--cc=gakhil@marvell.com \
--cc=test-report@dpdk.org \
/path/to/YOUR_REPLY
https://kernel.org/pub/software/scm/git/docs/git-send-email.html
* If your mail client supports setting the In-Reply-To header
via mailto: links, try the mailto: link
Be sure your reply has a Subject: header at the top and a blank line
before the message body.
This is a public inbox, see mirroring instructions
for how to clone and mirror all data and code used for this inbox;
as well as URLs for NNTP newsgroup(s).