From mboxrd@z Thu Jan 1 00:00:00 1970 Return-Path: Received: from mails.dpdk.org (mails.dpdk.org [217.70.189.124]) by inbox.dpdk.org (Postfix) with ESMTP id EAA22489C9 for ; Fri, 24 Oct 2025 22:10:12 +0200 (CEST) Received: from mails.dpdk.org (localhost [127.0.0.1]) by mails.dpdk.org (Postfix) with ESMTP id E4AB04014F; Fri, 24 Oct 2025 22:10:12 +0200 (CEST) Received: from mail-yw1-f225.google.com (mail-yw1-f225.google.com [209.85.128.225]) by mails.dpdk.org (Postfix) with ESMTP id D820B4014F for ; Fri, 24 Oct 2025 22:10:11 +0200 (CEST) Received: by mail-yw1-f225.google.com with SMTP id 00721157ae682-71d60157747so24250217b3.0 for ; Fri, 24 Oct 2025 13:10:11 -0700 (PDT) DKIM-Signature: v=1; a=rsa-sha256; c=relaxed/relaxed; d=iol.unh.edu; s=unh-iol; t=1761336611; x=1761941411; darn=dpdk.org; h=references:in-reply-to:cc:to:from:subject:message-id:date:from:to :cc:subject:date:message-id:reply-to; bh=DC3F04TU7pLN37KqoJUTvY7tHfDw6K94BFCsr4bU6Fc=; b=U/RsXv/MhTOYofNmoiTuySMosipMPMhtDTcnWvvpdCl6NGV730i68lcvUfWVoKVsIA A/VJJP/EJ60Pbsl1h559rNlwWFpo750w4sX6cr65JN1zC/72Oa96qxjD570ig14l8Z2/ Fb6fOjvA+somKmnXj+GAOmZmNhusyPvkry09M= X-Google-DKIM-Signature: v=1; a=rsa-sha256; c=relaxed/relaxed; d=1e100.net; s=20230601; t=1761336611; x=1761941411; h=references:in-reply-to:cc:to:from:subject:message-id:date :x-gm-message-state:from:to:cc:subject:date:message-id:reply-to; bh=DC3F04TU7pLN37KqoJUTvY7tHfDw6K94BFCsr4bU6Fc=; b=bv3wLSF0h1Vg6M4jmrqwwNZIpdMKOJmtiM0uMCecNLxbbkiBze/LUZPYdpjzzemfLx egDxN1GCz8FZFr+jTSErnRv34p3VF5bexb+p0nUqIcZow8TW62swVEpYrMzB+oNeguo4 +MvQAuIkHbfPu9m96G5E3uli+0a3m+kEqk3YklqpD9Q4czGeXQnnoH4cLUkDE+PObFGl z8lydUVVqkEj3dB1JmjXC/c1abq2mUr53quJ8NsOUtlSzZcEH7pEtMkb/ciO6HiIYuk1 honTzkLMh0mFE6jO3wK48dfsiM6EpuIYXIOILmunCTLGPJgLuZAAtrDfZvotN9XggWW1 bWbQ== X-Gm-Message-State: AOJu0Yzqg+gqRTq36bNJj3T7GbHlECZSuku6/RAcdA1s1QI05oEbqQRI SOyOCu+xF3e9CRKn6Pn2je8EiBVpx7YjhrglsOH2Ju8zHMuCJpErhTb17BkWpwh0LoH1Ykth6kD h/CCi5ng2RBcju1J8NhapKISh+Agh4bzbV0M5SbEBNioY X-Gm-Gg: ASbGncuMb56no0IxIkpiJDQ6TVHBOClGL/8VtWX8ujFSBjspLWRmBZvBFKGy9zMgFsY MBuwoB1iwVSeUlxfEfjFHaDlgT8YUwYJQEZClW+QH6Qe0opd54OPbbSZB4fFlVDnQZggRSKkQIo plevDn1tUr8BUvhX4qbmV/F0FDX+2b2cicD98AGG/OGUQcS+QRmbDHWmTKTsDENzF+70S+scTzt 9MpaCxMTy9Bgy59MtONGONPqVFU0HlgLTEYcJQ+YWnyahsZPtTAZQBLz8y5uNK1eu5yFl25aCOY eKeuUu19ILA2HqYg6BaZCmoq1VO1JBgIhHyfmg4R1sb1WjGVwZh4otDtUJ2xmcHtmlkWK9DSaVI q212leZpwe7d97YxhvDTpWDq+htPsCB4= X-Google-Smtp-Source: AGHT+IECMf9nueZWXU2nR1WNlv1nJWXVFTP3JcwoU1+u9GipqepTa/nOpyAaaOoRGw74R3MCM/yGe7KVy8NL X-Received: by 2002:a05:690e:1593:10b0:63b:5b6e:2967 with SMTP id 956f58d0204a3-63e16109f8bmr20918674d50.5.1761336611249; Fri, 24 Oct 2025 13:10:11 -0700 (PDT) Received: from postal.iol.unh.edu (postal.iol.unh.edu. [132.177.123.84]) by smtp-relay.gmail.com with ESMTPS id 00721157ae682-785ed1f9a1esm48957b3.33.2025.10.24.13.10.11 (version=TLS1_2 cipher=ECDHE-ECDSA-AES128-GCM-SHA256 bits=128/128); Fri, 24 Oct 2025 13:10:11 -0700 (PDT) X-Relaying-Domain: iol.unh.edu Date: Fri, 24 Oct 2025 13:10:11 -0700 (PDT) Message-ID: <68fbdd23.050a0220.ecc52.05aeSMTPIN_ADDED_MISSING@mx.google.com> Received: from [172.21.0.2] (unknown [172.18.0.240]) by postal.iol.unh.edu (Postfix) with ESMTP id E4561604D420; Fri, 24 Oct 2025 16:10:10 -0400 (EDT) Subject: |SUCCESS| pw158094 [PATCH] app/compress-perf: fix coverity issue From: dpdklab@iol.unh.edu To: Test Report Cc: dpdk-test-reports@iol.unh.edu, Akhil Goyal In-Reply-To: <20251024184745.1698409-1-svaze@qti.qualcomm.com> References: <20251024184745.1698409-1-svaze@qti.qualcomm.com> Content-Type: text/plain X-BeenThere: test-report@dpdk.org X-Mailman-Version: 2.1.29 Precedence: list List-Id: automatic DPDK test reports List-Unsubscribe: , List-Archive: List-Post: List-Help: List-Subscribe: , Errors-To: test-report-bounces@dpdk.org Test-Label: iol-compile-amd64-testing Test-Status: SUCCESS http://dpdk.org/patch/158094 _Testing PASS_ Submitter: Sameer Vaze Date: Friday, October 24 2025 18:47:45 DPDK git baseline: Repo:dpdk-next-crypto Branch: master CommitID:6edcec237e31fcdb848cca6c151ee7a5bf057c28 158094 --> testing pass Upstream job id: Windows-Compile-DPDK-Native#31880 Test environment and result as below: +---------------------+--------------------+-------------------+-------------------------+----------------------+ | Environment | dpdk_meson_compile | dpdk_msvc_compile | dpdk_llvm_clang_compile | dpdk_mingw64_compile | +=====================+====================+===================+=========================+======================+ | FreeBSD 14.2 | PASS | SKIPPED | SKIPPED | SKIPPED | +---------------------+--------------------+-------------------+-------------------------+----------------------+ | Ubuntu 20.04 | PASS | SKIPPED | SKIPPED | SKIPPED | +---------------------+--------------------+-------------------+-------------------------+----------------------+ | Windows Server 2022 | SKIPPED | PASS | PASS | PASS | +---------------------+--------------------+-------------------+-------------------------+----------------------+ FreeBSD 14.2 Kernel: 14.2-RELEASE Compiler: clang 18.1.6 Ubuntu 20.04 Kernel: 4.19 Compiler: gcc gcc (Ubuntu 9.4.0-1ubuntu1~20.04.2) 9.4.0 Windows Server 2022 Kernel: 10.0.20348.2031 Compiler: clang 15.0.7, gcc 14.1.0 (MinGW), and MSVC VS 19.39.33521 To view detailed results, visit: https://lab.dpdk.org/results/dashboard/patchsets/34377/ UNH-IOL DPDK Community Lab To manage your email subscriptions, visit: https://lab.dpdk.org/results/dashboard/preferences/subscriptions/