From mboxrd@z Thu Jan 1 00:00:00 1970 Return-Path: Received: from mails.dpdk.org (mails.dpdk.org [217.70.189.124]) by inbox.dpdk.org (Postfix) with ESMTP id 99198489C9 for ; Fri, 24 Oct 2025 22:15:59 +0200 (CEST) Received: from mails.dpdk.org (localhost [127.0.0.1]) by mails.dpdk.org (Postfix) with ESMTP id 7F6974014F; Fri, 24 Oct 2025 22:15:59 +0200 (CEST) Received: from mail-qv1-f97.google.com (mail-qv1-f97.google.com [209.85.219.97]) by mails.dpdk.org (Postfix) with ESMTP id E66DD4014F for ; Fri, 24 Oct 2025 22:15:57 +0200 (CEST) Received: by mail-qv1-f97.google.com with SMTP id 6a1803df08f44-78ea15d3489so21107726d6.3 for ; Fri, 24 Oct 2025 13:15:57 -0700 (PDT) DKIM-Signature: v=1; a=rsa-sha256; c=relaxed/relaxed; d=iol.unh.edu; s=unh-iol; t=1761336957; x=1761941757; darn=dpdk.org; h=cc:to:from:subject:message-id:date:from:to:cc:subject:date :message-id:reply-to; bh=AcOVsTm2Nl+UTt8K2+dXAfEF6jSLmGcZPKqUaodyagg=; b=HDkECZEpn/eWhr9E42a/sBbO1v5uG33v3ZIZcM7YSiIC6BFPoyaf1/IgwakmjsK/Ut mmlV+Q4uC6xPFaNvKQAYJajm3tPWFE8HvEzOARPodlg4RqLjGslsNy/DGIn0wqN0ioed UItqWDo7+8/EyFa7FYXfitdq1nHP0gXB8nIiY= X-Google-DKIM-Signature: v=1; a=rsa-sha256; c=relaxed/relaxed; d=1e100.net; s=20230601; t=1761336957; x=1761941757; h=cc:to:from:subject:message-id:date:x-gm-message-state:from:to:cc :subject:date:message-id:reply-to; bh=AcOVsTm2Nl+UTt8K2+dXAfEF6jSLmGcZPKqUaodyagg=; b=Am0hc+NltKSgvDuUhgB5H1c1gREuwh/shhWBCp2qUj3mOakgDH3tDrO4Ajh737Uloy 375U/nAGz6DCZWtp2WLRmodG6umQUL/W9dVFppOvOv82yU/2cHuJKYI8SH6yi0IN9+Dg uMtFtlJyEyC6uF1/aMnTNa+XE3YmcIP7Ea4H7wWeoiIUkCq1GMtnLFs2tKT260SHUn/8 EqZWE4lV4SK3ZOGTazkyb0/9jljVyqavFSJIAFE8JJ6vtYESqCeQopLPaBYPOi2S9V/s 8+kS11nLvkkW4WLGTLhg9EjV+mZbOO2QL0BD1Fqtl7ziUFv05KhtKagkQmOwsUbu94za 7gIg== X-Gm-Message-State: AOJu0Yzhyj3F5NpIyD3zP7PBGoh8v61UcRty7ZPR+Xhd041otyU5RNq8 RhKTziWar73QJWTpP6nDGGvOc23lH1+E8CAwt7lvVCGSmRfYBrQTm6U/qvnUUpO7ZhBXzWWqpNa ZPpdbFB5/gQ1GZ7r6A6lucHcEHIkCeuwsS1Q7ZodFewxyu/A6qgQt X-Gm-Gg: ASbGncvK5g9Wtcnq8w7FeqDaDmumTZtsqvFUJv2E6lG/ISeYtKXvfEhohDBazzNnjYf 184IlGFdjBKy+vJ9QSE/in0fF1JkxWTy86igElnFp1A+ZnKpP8UBacvCavu9SQlN93NBWlu8fQo QDBX8dJUBheJO7xHxSXNZQuhOKX/QVWmxq7dExr+qss7WseGagx0nX3fS17VPGmGwarLHR7N8jy wtdsyvGxA3U6cyNo7Em7HfSq7kIsGBfZkMd3gNEqWNhNOWinLkZMmMG55LUmTuhak/BZPcs/IYA Jc57Jq3ikYnA8TLGQWqfmgRQXY4vN1vacsWu53zM8ka6eBXvagzo/nFNjy1QOS0dU0M/xrjcrDa xmm9V725R X-Google-Smtp-Source: AGHT+IF6b2i0QsogfdQ8r3AXQX88K8vqYHq+qdNs79C8RRPTwQP5U+NcHYJbJHieJEUo3k81fQnV4sKkZHQ5 X-Received: by 2002:a05:6214:4a8c:b0:87c:21b0:79e8 with SMTP id 6a1803df08f44-87c21b07feamr395975156d6.60.1761336957237; Fri, 24 Oct 2025 13:15:57 -0700 (PDT) Received: from postal.iol.unh.edu (postal.iol.unh.edu. [2606:4100:3880:1234::84]) by smtp-relay.gmail.com with ESMTPS id 6a1803df08f44-87fc494d47csm81426d6.18.2025.10.24.13.15.57 (version=TLS1_2 cipher=ECDHE-ECDSA-AES128-GCM-SHA256 bits=128/128); Fri, 24 Oct 2025 13:15:57 -0700 (PDT) X-Relaying-Domain: iol.unh.edu Date: Fri, 24 Oct 2025 13:15:57 -0700 (PDT) Message-ID: <68fbde7d.050a0220.44e04.083bSMTPIN_ADDED_MISSING@mx.google.com> Received: from [172.21.0.2] (unknown [172.18.0.240]) by postal.iol.unh.edu (Postfix) with ESMTP id ED9E6604D420; Fri, 24 Oct 2025 16:15:56 -0400 (EDT) Subject: |SUCCESS| [GIT MASTER] b287e404643aeab5bb5db084c142789df187844e From: dpdklab@iol.unh.edu To: Test Report Cc: dpdk-test-reports@iol.unh.edu, Xueming Li , Christian Ehrhardt , Kevin Traynor , Luca Boccassi Content-Type: text/plain X-BeenThere: test-report@dpdk.org X-Mailman-Version: 2.1.29 Precedence: list List-Id: automatic DPDK test reports List-Unsubscribe: , List-Archive: List-Post: List-Help: List-Subscribe: , Errors-To: test-report-bounces@dpdk.org _Testing PASS_ Branch: tags/v24.11 b287e404643aeab5bb5db084c142789df187844e --> testing pass Upstream job id: Generic-DPDK-Compile-Meson#437369 Test environment and result as below: +---------------------+--------------------+-------------------+-------------------------+----------------------+-------------------+ | Environment | dpdk_meson_compile | dpdk_msvc_compile | dpdk_llvm_clang_compile | dpdk_mingw64_compile | dpdk_compile_spdk | +=====================+====================+===================+=========================+======================+===================+ | FreeBSD 14.2 | PASS | SKIPPED | SKIPPED | SKIPPED | SKIPPED | +---------------------+--------------------+-------------------+-------------------------+----------------------+-------------------+ | Ubuntu 20.04 | PASS | SKIPPED | SKIPPED | SKIPPED | SKIPPED | +---------------------+--------------------+-------------------+-------------------------+----------------------+-------------------+ | CentOS Stream 9 | PASS | SKIPPED | SKIPPED | SKIPPED | PASS | +---------------------+--------------------+-------------------+-------------------------+----------------------+-------------------+ | CentOS Stream 10 | PASS | SKIPPED | SKIPPED | SKIPPED | SKIPPED | +---------------------+--------------------+-------------------+-------------------------+----------------------+-------------------+ | Windows Server 2022 | SKIPPED | PASS | PASS | PASS | SKIPPED | +---------------------+--------------------+-------------------+-------------------------+----------------------+-------------------+ FreeBSD 14.2 Kernel: 14.2-RELEASE Compiler: clang 18.1.6 Ubuntu 20.04 Kernel: 4.19 Compiler: gcc gcc (Ubuntu 9.4.0-1ubuntu1~20.04.2) 9.4.0 CentOS Stream 9 Kernel: 5.15 Compiler: gcc gcc (GCC) 11.5.0 20240719 (Red Hat 11.5.0-11) CentOS Stream 10 Kernel: 5.15 Compiler: gcc gcc (GCC) 14.2.1 20250110 (Red Hat 14.2.1-8) Windows Server 2022 Kernel: 10.0.20348.2031 Compiler: clang 15.0.7, gcc 14.1.0 (MinGW), and MSVC VS 19.39.33521 To view detailed results, visit: https://lab.dpdk.org/results/dashboard/tarballs/35326/ UNH-IOL DPDK Community Lab To manage your email subscriptions, visit: https://lab.dpdk.org/results/dashboard/preferences/subscriptions/