From mboxrd@z Thu Jan 1 00:00:00 1970 Return-Path: Received: from mails.dpdk.org (mails.dpdk.org [217.70.189.124]) by inbox.dpdk.org (Postfix) with ESMTP id EC2FF489C9 for ; Fri, 24 Oct 2025 22:27:43 +0200 (CEST) Received: from mails.dpdk.org (localhost [127.0.0.1]) by mails.dpdk.org (Postfix) with ESMTP id CD2424014F; Fri, 24 Oct 2025 22:27:43 +0200 (CEST) Received: from mail-oo1-f100.google.com (mail-oo1-f100.google.com [209.85.161.100]) by mails.dpdk.org (Postfix) with ESMTP id DB8AF4014F for ; Fri, 24 Oct 2025 22:27:41 +0200 (CEST) Received: by mail-oo1-f100.google.com with SMTP id 006d021491bc7-654ef376363so21771eaf.0 for ; Fri, 24 Oct 2025 13:27:41 -0700 (PDT) DKIM-Signature: v=1; a=rsa-sha256; c=relaxed/relaxed; d=iol.unh.edu; s=unh-iol; t=1761337661; x=1761942461; darn=dpdk.org; h=references:in-reply-to:cc:to:from:subject:message-id:date:from:to :cc:subject:date:message-id:reply-to; bh=MhR9mGv8ce6uG74omXf+GRAfbMV20vmf3h5TQHnztRo=; b=YxrVnle/FlJwL/Cx0qDslovvPtRf/pRmBDdH9BuC7FTnFDPPH7BXMM88n2eLsInIAz 8X1bbwXbHr7t1doweEpLny9WGu3eHW4AbW3PzxxgEK0Ee7dweEJL/jFLniXoO3c/CkxA ePYZvkXDLu/BtHx4MVhY4D/cU++VNbdLIocZw= X-Google-DKIM-Signature: v=1; a=rsa-sha256; c=relaxed/relaxed; d=1e100.net; s=20230601; t=1761337661; x=1761942461; h=references:in-reply-to:cc:to:from:subject:message-id:date :x-gm-message-state:from:to:cc:subject:date:message-id:reply-to; bh=MhR9mGv8ce6uG74omXf+GRAfbMV20vmf3h5TQHnztRo=; b=RN5+FZXwMrqpF4NukSq3V+DMXTwq84HKSnrpxUJFrqepuEpc7dQNzhTEmqqtJn0VpX U8CF4viMC8mC5eDDMQHiI59QrFAETLCT2sG2kn3GoHAo3dKPT668pMiCHrgMXHPCuJc1 HwfvF9M3RVVwCP1F3zuPADhxbAMrrAe04a/OgUEQstU+lZVs+/WvqnHh2wuwLP8w0AHA BKkoKsW2al7Os/aV2sdX9yQoa7FMCBDImzsS7gpIb+Pevh+KOXGsYxNLxMCb+6GkxneD FewVcXIEi08EFl5+dGbYqDU4MnTdjRfs2paPMqWO5NCJmfhrkUXPJgh9ADbf4RSKzoTP aW5Q== X-Gm-Message-State: AOJu0Yym1m0xT9DaMGioJARbtKOm69lMC8WZvkR4AqStXwahHpyTpruS s4NoKiwejm1mb5Pr8MIUZTKA1AGgyq1Gs6PA+2lnr7jRmnZ33Lx0Z4exq8KyO2V9yVZrtfFMsYx Xpk4Slc3lG//uQNza4cFyhIjfPw13t2jOVh88JDl3woQh X-Gm-Gg: ASbGncsxmbDLRkDyB4R+koY5TR3nPf/r4rQTS1CYpJzTNrIziVSjkam+VjfCEHPPsw0 ZtinZ1g3N9hZ05DKGiW5hP0aWqSBIAzTsBpfvWuYCTSr7k8F4T7n9g3r+y6mZ2wVXT/2md257gp 1AxJZe51wgsBV+R5pjjcylP7CmzWy1MgtbD3k/E9JT4y3niclUFM2X+fiORjRIOWTZCYwRmyy6u o4kIbvqOcJQxcsp+J9EaJG7XBA0u4FHhu1pIPqznTPB+DivCAezn1V1vOFJXStPboNj8xe7ryWf 9ep0a59zLBQGv2+k8h2alju6J6h3amqp52CWqnMlzu2LCH7gQlzgf3t4u4wg04iusfpCjrUypSD nxr0zRgQSBzc0JkPn0ad6SdUvX4YSCCE= X-Google-Smtp-Source: AGHT+IEM5VoUB1ac4OYmyKr6/Mwbx/7QY2xL2rDvtrTLpRe0jdiMSyxxKKz/9o1BWGlDtZo5/pXsgilVfZfa X-Received: by 2002:a05:6870:3908:b0:3c9:7220:7123 with SMTP id 586e51a60fabf-3c98cf840admr11616479fac.17.1761337661128; Fri, 24 Oct 2025 13:27:41 -0700 (PDT) Received: from postal.iol.unh.edu (postal.iol.unh.edu. [132.177.123.84]) by smtp-relay.gmail.com with ESMTPS id 586e51a60fabf-3d1e3f66fc1sm11956fac.21.2025.10.24.13.27.41 (version=TLS1_2 cipher=ECDHE-ECDSA-AES128-GCM-SHA256 bits=128/128); Fri, 24 Oct 2025 13:27:41 -0700 (PDT) X-Relaying-Domain: iol.unh.edu Date: Fri, 24 Oct 2025 13:27:41 -0700 (PDT) Message-ID: <68fbe13d.050a0220.1fe981.0af1SMTPIN_ADDED_MISSING@mx.google.com> Received: from [172.21.0.2] (unknown [172.18.0.240]) by postal.iol.unh.edu (Postfix) with ESMTP id A64CC604D420; Fri, 24 Oct 2025 16:27:40 -0400 (EDT) Subject: |SUCCESS| pw158094 [PATCH] app/compress-perf: fix coverity issue From: dpdklab@iol.unh.edu To: Test Report Cc: dpdk-test-reports@iol.unh.edu, Akhil Goyal In-Reply-To: <20251024184745.1698409-1-svaze@qti.qualcomm.com> References: <20251024184745.1698409-1-svaze@qti.qualcomm.com> Content-Type: text/plain X-BeenThere: test-report@dpdk.org X-Mailman-Version: 2.1.29 Precedence: list List-Id: automatic DPDK test reports List-Unsubscribe: , List-Archive: List-Post: List-Help: List-Subscribe: , Errors-To: test-report-bounces@dpdk.org Test-Label: iol-unit-amd64-testing Test-Status: SUCCESS http://dpdk.org/patch/158094 _Testing PASS_ Submitter: Sameer Vaze Date: Friday, October 24 2025 18:47:45 DPDK git baseline: Repo:dpdk-next-crypto Branch: master CommitID:6edcec237e31fcdb848cca6c151ee7a5bf057c28 158094 --> testing pass Upstream job id: Generic-Unit-Test-DPDK#385129 Test environment and result as below: +-------------------------------+----------------+ | Environment | dpdk_unit_test | +===============================+================+ | CentOS Stream 9 | PASS | +-------------------------------+----------------+ | Fedora Linux 40 | PASS | +-------------------------------+----------------+ | Debian GNU/Linux 12 | PASS | +-------------------------------+----------------+ | CentOS Stream 10 | PASS | +-------------------------------+----------------+ | Fedora Linux 41 | PASS | +-------------------------------+----------------+ | Fedora Linux 42 | PASS | +-------------------------------+----------------+ | Ubuntu 20.04 | PASS | +-------------------------------+----------------+ | Red Hat Enterprise Linux 8.10 | PASS | +-------------------------------+----------------+ | Red Hat Enterprise Linux 9.5 | PASS | +-------------------------------+----------------+ | Ubuntu 24.04 | PASS | +-------------------------------+----------------+ | Ubuntu 22.04 | PASS | +-------------------------------+----------------+ | Windows Server 2022 | PASS | +-------------------------------+----------------+ CentOS Stream 9 Kernel: 5.15 Compiler: gcc gcc (GCC) 11.5.0 20240719 (Red Hat 11.5.0-11) Fedora Linux 40 Kernel: 5.15 Compiler: gcc gcc (GCC) 14.2.1 20240912 (Red Hat 14.2.1-3) Debian GNU/Linux 12 Kernel: 5.15 Compiler: gcc gcc (Debian 12.2.0-14+deb12u1) 12.2.0 CentOS Stream 10 Kernel: 5.15 Compiler: gcc gcc (GCC) 14.2.1 20250110 (Red Hat 14.2.1-8) Fedora Linux 41 Kernel: 5.15 Compiler: gcc gcc (GCC) 14.3.1 20250523 (Red Hat 14.3.1-1) Fedora Linux 42 Kernel: 5.15 Compiler: clang gcc (GCC) 15.2.1 20250808 (Red Hat 15.2.1-1) Ubuntu 20.04 Kernel: 5.15 Compiler: gcc gcc (Ubuntu 9.4.0-1ubuntu1~20.04.2) 9.4.0 Red Hat Enterprise Linux 8.10 Kernel: 5.15 Compiler: gcc gcc (GCC) 8.5.0 20210514 (Red Hat 8.5.0-22) Red Hat Enterprise Linux 9.5 Kernel: 5.15 Compiler: gcc gcc (GCC) 11.5.0 20240719 (Red Hat 11.5.0-2) Ubuntu 24.04 Kernel: 5.15 Compiler: gcc gcc (Ubuntu 13.3.0-6ubuntu2~24.04) 13.3.0 Ubuntu 22.04 Kernel: 5.15 Compiler: gcc gcc (Ubuntu 11.4.0-1ubuntu1~22.04) 11.4.0 Windows Server 2022 Kernel: 10.0.20348.2031 Compiler: clang 15.0.7, gcc 14.1.0 (MinGW), and MSVC VS 19.39.33521 To view detailed results, visit: https://lab.dpdk.org/results/dashboard/patchsets/34377/ UNH-IOL DPDK Community Lab To manage your email subscriptions, visit: https://lab.dpdk.org/results/dashboard/preferences/subscriptions/