From mboxrd@z Thu Jan 1 00:00:00 1970 Return-Path: Received: from mails.dpdk.org (mails.dpdk.org [217.70.189.124]) by inbox.dpdk.org (Postfix) with ESMTP id C0143489C9 for ; Fri, 24 Oct 2025 22:37:01 +0200 (CEST) Received: from mails.dpdk.org (localhost [127.0.0.1]) by mails.dpdk.org (Postfix) with ESMTP id A19644014F; Fri, 24 Oct 2025 22:37:01 +0200 (CEST) Received: from mail-pl1-f227.google.com (mail-pl1-f227.google.com [209.85.214.227]) by mails.dpdk.org (Postfix) with ESMTP id 659244014F for ; Fri, 24 Oct 2025 22:37:00 +0200 (CEST) Received: by mail-pl1-f227.google.com with SMTP id d9443c01a7336-27c369f898fso39465575ad.3 for ; Fri, 24 Oct 2025 13:37:00 -0700 (PDT) DKIM-Signature: v=1; a=rsa-sha256; c=relaxed/relaxed; d=iol.unh.edu; s=unh-iol; t=1761338219; x=1761943019; darn=dpdk.org; h=references:in-reply-to:cc:to:from:subject:message-id:date:from:to :cc:subject:date:message-id:reply-to; bh=nmpY+uP0TLWz6rtMGlm4V65AblCR1QDSeIs+SDYYGH0=; b=gx7IggSvNfPUJZ3quh+Xrv0AyQp3AlzuM31BC4paRFD0KK2ppUZOPRkR2PAHeuDoAX hT35WWbGOctaj/7CDDvlK/8vsWnslEqRy7arTkJ6xTcl3IUoQn0F7lrgxXJqsV6HnrwJ zoLRI9SnngBSx1tQQgPudhfZLqVvPRfwxxnjM= X-Google-DKIM-Signature: v=1; a=rsa-sha256; c=relaxed/relaxed; d=1e100.net; s=20230601; t=1761338219; x=1761943019; h=references:in-reply-to:cc:to:from:subject:message-id:date :x-gm-message-state:from:to:cc:subject:date:message-id:reply-to; bh=nmpY+uP0TLWz6rtMGlm4V65AblCR1QDSeIs+SDYYGH0=; b=YJbLlP8O2lawQDVDV6oBUuHF27jTm0clZvaKL+oDtKusvcE+MCg1lVIF89uO+TB/NQ nvFaOVv02rjz6z2H/EbiY41Ub47+VwPl3zEml5BpJXhQTSWobJKw64SRPdUJrtr7Oi6W +6wP72jaa0JgTGOX4u9BByADiAXQg/vc7QabPbLJDD3QrUfBR+aRLL0IXmj1cGsH3ig0 +73kamHw4nY/i/lbCEfvPlYzR9UDRdeqmNog6485HNacjZaOsk6XHTvFpCuIbA7FGoaX BhXFJoSiHL56tXXwasZn2nfR7FpOhTOa3afw0vMyw/uM7ayTbw9svfRhHg/XvNyLGUZm bPVA== X-Gm-Message-State: AOJu0YymbeNJDdHEx7YmOBoXk0jntOO7aAnIssOmMfnjnEKQ2p+/bTNo A+1xMCyC2l1DG44DP3M4fExRxHc0tF1sHxhasbZ42BfisdNZQ4eOehIUxobVwz/Qr8yWTo1Lqa+ AtMMMcYzbCX3Z+jDl7FNIuL/LyXp8eT+ztYS5C97RnK99gosBeNGWEwe9I7yh X-Gm-Gg: ASbGnculFiLMYS6ZPMWxX/pRdieeEiR0xtR0BE0SCTVBjumWwUo/iHf279n/4sJK/w3 zeytJAjtzD6laNLlA6X211N1u2i4brGmjgmBPNLOpagqZAZMEtcwMLa624wmzTym1mz4hViPuti N5BvyCqwF9Fa4hDY11r2egiMnNjAQ48kw/znKIB3EM9WeAezMVc5Nl7pQqT4S0OBmOtpDPIngNC OkE7Q40+DY/irsS1p8DCC0I2P8vuEBo1sMDnBCKBa0V3oo2oiqgtFQsR1vs5Yog7eCUiVc71qxI RgB2hhlAG+UtYw1Q+Szvhqb65XLrvyBYgG1StdA8lUkj9yCX/ovAce3oPEL9XhoghVfSv12mbv8 6UY8gG2j4 X-Google-Smtp-Source: AGHT+IE8PYUaRxFUWQFQxkAJlW2dpMaHEUXvagVvzuxInjaL9KjiAv2QRhkj3s5VUvzGsxACb2hm7mC/JV8w X-Received: by 2002:a17:902:fc4b:b0:290:a70e:6261 with SMTP id d9443c01a7336-290c9c93c30mr370650405ad.11.1761338219441; Fri, 24 Oct 2025 13:36:59 -0700 (PDT) Received: from postal.iol.unh.edu (postal.iol.unh.edu. [2606:4100:3880:1234::84]) by smtp-relay.gmail.com with ESMTPS id d9443c01a7336-29498e41172sm125585ad.55.2025.10.24.13.36.59 (version=TLS1_2 cipher=ECDHE-ECDSA-AES128-GCM-SHA256 bits=128/128); Fri, 24 Oct 2025 13:36:59 -0700 (PDT) X-Relaying-Domain: iol.unh.edu Date: Fri, 24 Oct 2025 13:36:59 -0700 (PDT) Message-ID: <68fbe36b.170a0220.179b86.0aefSMTPIN_ADDED_MISSING@mx.google.com> Received: from [172.21.0.2] (unknown [172.18.0.240]) by postal.iol.unh.edu (Postfix) with ESMTP id A9FE3604D420; Fri, 24 Oct 2025 16:36:58 -0400 (EDT) Subject: |SUCCESS| pw158099 [PATCH] app/compress-perf: fix coverity issue From: dpdklab@iol.unh.edu To: Test Report Cc: dpdk-test-reports@iol.unh.edu, Akhil Goyal In-Reply-To: <20251024191125.1728953-1-svaze@qti.qualcomm.com> References: <20251024191125.1728953-1-svaze@qti.qualcomm.com> Content-Type: text/plain X-BeenThere: test-report@dpdk.org X-Mailman-Version: 2.1.29 Precedence: list List-Id: automatic DPDK test reports List-Unsubscribe: , List-Archive: List-Post: List-Help: List-Subscribe: , Errors-To: test-report-bounces@dpdk.org Test-Label: iol-compile-amd64-testing Test-Status: SUCCESS http://dpdk.org/patch/158099 _Testing PASS_ Submitter: Sameer Vaze Date: Friday, October 24 2025 19:11:25 DPDK git baseline: Repo:dpdk-next-crypto Branch: master CommitID:6edcec237e31fcdb848cca6c151ee7a5bf057c28 158099 --> testing pass Upstream job id: Windows-Compile-DPDK-VS#7316 Test environment and result as below: +---------------------+--------------------+-------------------+ | Environment | dpdk_meson_compile | dpdk_msvc_compile | +=====================+====================+===================+ | Ubuntu 20.04 | PASS | SKIPPED | +---------------------+--------------------+-------------------+ | FreeBSD 14.2 | PASS | SKIPPED | +---------------------+--------------------+-------------------+ | Windows Server 2022 | SKIPPED | PASS | +---------------------+--------------------+-------------------+ Ubuntu 20.04 Kernel: 4.19 Compiler: gcc gcc (Ubuntu 9.4.0-1ubuntu1~20.04.2) 9.4.0 FreeBSD 14.2 Kernel: 14.2-RELEASE Compiler: clang 18.1.6 Windows Server 2022 Kernel: 10.0.20348.2031 Compiler: clang 15.0.7, gcc 14.1.0 (MinGW), and MSVC VS 19.39.33521 To view detailed results, visit: https://lab.dpdk.org/results/dashboard/patchsets/34380/ UNH-IOL DPDK Community Lab To manage your email subscriptions, visit: https://lab.dpdk.org/results/dashboard/preferences/subscriptions/