From mboxrd@z Thu Jan 1 00:00:00 1970 Return-Path: Received: from mails.dpdk.org (mails.dpdk.org [217.70.189.124]) by inbox.dpdk.org (Postfix) with ESMTP id 6848E489C9 for ; Fri, 24 Oct 2025 23:03:32 +0200 (CEST) Received: from mails.dpdk.org (localhost [127.0.0.1]) by mails.dpdk.org (Postfix) with ESMTP id 648164014F; Fri, 24 Oct 2025 23:03:32 +0200 (CEST) Received: from mail-pl1-f227.google.com (mail-pl1-f227.google.com [209.85.214.227]) by mails.dpdk.org (Postfix) with ESMTP id CDDB34014F for ; Fri, 24 Oct 2025 23:03:31 +0200 (CEST) Received: by mail-pl1-f227.google.com with SMTP id d9443c01a7336-290d14e5c9aso32859815ad.3 for ; Fri, 24 Oct 2025 14:03:31 -0700 (PDT) DKIM-Signature: v=1; a=rsa-sha256; c=relaxed/relaxed; d=iol.unh.edu; s=unh-iol; t=1761339811; x=1761944611; darn=dpdk.org; h=references:in-reply-to:cc:to:from:subject:message-id:date:from:to :cc:subject:date:message-id:reply-to; bh=/B+fn0+H2L5NyNjUtvnE+ibXcf2snIIAIaRLM/A1iEA=; b=YxCcDIab7l0R50NShnga4Qsk/j2elY22rlNCRNZ9wM7jw81WhWx0oykhUWIR/i2kaF e4piWqIhFADJSGv32dLDaHGKfuln0KPvNtPbe/47ewvDxVLNp3YHKwO6WDm+f19w24WI qlHgbKdq5/sQqBwlWhIES9+rbznDQDvpt0xM0= X-Google-DKIM-Signature: v=1; a=rsa-sha256; c=relaxed/relaxed; d=1e100.net; s=20230601; t=1761339811; x=1761944611; h=references:in-reply-to:cc:to:from:subject:message-id:date :x-gm-message-state:from:to:cc:subject:date:message-id:reply-to; bh=/B+fn0+H2L5NyNjUtvnE+ibXcf2snIIAIaRLM/A1iEA=; b=ZuZzFwuNDgZ14PfXH9nvq3RxHPh/AgFdFUpyEPWWJVSZesbASFbf1sFVfvdP/i2rwg NC/jxSLvQziYF4RTUEQXDERcZTygu0jWAKdgqJTyknKNndKsvxE0uBI79sYSI2N2HdgC TIqKHz7DZRLj2bnqQBsPjnSwMjhQwbjgYoamJt+fEvVx/qDx+nVjV5F6EZnEYyHEAVSC 5XkKv4jZdu6TzSpDdV9P2TJka0lwEfmQiwdAjXELWnjM/9zrKVzQfiVUPkPWlYnjfvqc 0ZCU/aakoROWiSBAUr+MyNIoZkOSOp7Oi11fPQ9faYCdaw5+Xy0zWv0wfFYwe8BwFDPM pYnQ== X-Gm-Message-State: AOJu0YwZspJ/pjBdDbzBodhYy402gmgYjF1ZF3TBEKwu5cA67OubQSxa hCgIclszbLlSwgGsbo34GLfxt3rLNEGRAiz4cQNso8gZxTHY0nD2Vhk4xVegz1aiMfVlFJEZs3n hmW5ckJ86EAmBKkbvGyU+COROwvtu5HDV8lIgQK0aTnYM X-Gm-Gg: ASbGncv2cEdNS0fKXXeFE5+W0cIMJNHZu3r+6/U7JqhoFd5QIyV2FLpVrgfT8DnDdDQ 7EowmmN21X2imjBJ3o8KnJHzXiTAf7GqyJEIPsn6BNYmAPVcr/T8cDtmTc/6y8meGOhsGDwihhE nYc0xXReK1aDyCuW440C/Sn6ZohuD8lIWq2go3EtUXCKTenFsbMySUrwcZhiBX9/NMAyT+75IjP RbY9Odzuov/FlXTqdDO/DZ5sL4Y/15/Zy9K8x+y7s4Rd1UQP71oi7237y2XxaTqeTp5HEkdN5rt 0gMf8eAAEi2jTq6DaFefOCL+7FRuku4XrJ9qApIMnnd+yRpOtRUn658Vls8323fUbnDrKDfTohB Ca/8rlEKeUeCm+MvVw9eguacqc8X5Ik4= X-Google-Smtp-Source: AGHT+IF0N21zHMRGfTYpUyN5lcLmpbQwMtYYMxrTw6tV00zZFyY/ehnXTlZghXYV8binu2toatNc2jKQzJJs X-Received: by 2002:a17:902:cf4b:b0:27e:ed0d:f4ef with SMTP id d9443c01a7336-290cb27eec7mr378356855ad.41.1761339811113; Fri, 24 Oct 2025 14:03:31 -0700 (PDT) Received: from postal.iol.unh.edu (postal.iol.unh.edu. [132.177.123.84]) by smtp-relay.gmail.com with ESMTPS id d9443c01a7336-29498e41172sm174585ad.55.2025.10.24.14.03.31 (version=TLS1_2 cipher=ECDHE-ECDSA-AES128-GCM-SHA256 bits=128/128); Fri, 24 Oct 2025 14:03:31 -0700 (PDT) X-Relaying-Domain: iol.unh.edu Date: Fri, 24 Oct 2025 14:03:31 -0700 (PDT) Message-ID: <68fbe9a3.170a0220.179b86.0f26SMTPIN_ADDED_MISSING@mx.google.com> Received: from [172.21.0.2] (unknown [172.18.0.240]) by postal.iol.unh.edu (Postfix) with ESMTP id 654D06050A61; Fri, 24 Oct 2025 17:03:30 -0400 (EDT) Subject: |SUCCESS| pw158095-158097 [PATCH] [v4,3/3] dts: add virtio forwardin From: dpdklab@iol.unh.edu To: Test Report Cc: dpdk-test-reports@iol.unh.edu In-Reply-To: <20251024185056.607160-3-dmarx@iol.unh.edu> References: <20251024185056.607160-3-dmarx@iol.unh.edu> Content-Type: text/plain X-BeenThere: test-report@dpdk.org X-Mailman-Version: 2.1.29 Precedence: list List-Id: automatic DPDK test reports List-Unsubscribe: , List-Archive: List-Post: List-Help: List-Subscribe: , Errors-To: test-report-bounces@dpdk.org Test-Label: iol-unit-amd64-testing Test-Status: SUCCESS http://dpdk.org/patch/158097 _Testing PASS_ Submitter: Dean Marx Date: Friday, October 24 2025 18:50:55 DPDK git baseline: Repo:dpdk-next-dts Branch: master CommitID:c1abcee5a9656fb4890b733e6051aa604c60f146 158095-158097 --> testing pass Upstream job id: Generic-Unit-Test-DPDK#385163 Test environment and result as below: +-------------------------------+----------------+ | Environment | dpdk_unit_test | +===============================+================+ | CentOS Stream 9 | PASS | +-------------------------------+----------------+ | Fedora Linux 41 | PASS | +-------------------------------+----------------+ | Fedora Linux 42 | PASS | +-------------------------------+----------------+ | Fedora Linux 40 | PASS | +-------------------------------+----------------+ | Debian GNU/Linux 12 | PASS | +-------------------------------+----------------+ | CentOS Stream 10 | PASS | +-------------------------------+----------------+ | Red Hat Enterprise Linux 9.5 | PASS | +-------------------------------+----------------+ | Ubuntu 24.04 | PASS | +-------------------------------+----------------+ | Red Hat Enterprise Linux 8.10 | PASS | +-------------------------------+----------------+ | Ubuntu 20.04 | PASS | +-------------------------------+----------------+ | Ubuntu 22.04 | PASS | +-------------------------------+----------------+ | Windows Server 2022 | PASS | +-------------------------------+----------------+ CentOS Stream 9 Kernel: 5.15 Compiler: gcc gcc (GCC) 11.5.0 20240719 (Red Hat 11.5.0-11) Fedora Linux 41 Kernel: 5.15 Compiler: gcc gcc (GCC) 14.3.1 20250523 (Red Hat 14.3.1-1) Fedora Linux 42 Kernel: 5.15 Compiler: gcc gcc (GCC) 15.2.1 20250808 (Red Hat 15.2.1-1) Fedora Linux 40 Kernel: 5.15 Compiler: gcc gcc (GCC) 14.2.1 20240912 (Red Hat 14.2.1-3) Debian GNU/Linux 12 Kernel: 5.15 Compiler: gcc gcc (Debian 12.2.0-14+deb12u1) 12.2.0 CentOS Stream 10 Kernel: 5.15 Compiler: gcc gcc (GCC) 14.2.1 20250110 (Red Hat 14.2.1-8) Red Hat Enterprise Linux 9.5 Kernel: 5.15 Compiler: gcc gcc (GCC) 11.5.0 20240719 (Red Hat 11.5.0-2) Ubuntu 24.04 Kernel: 5.15 Compiler: gcc gcc (Ubuntu 13.3.0-6ubuntu2~24.04) 13.3.0 Red Hat Enterprise Linux 8.10 Kernel: 5.15 Compiler: gcc gcc (GCC) 8.5.0 20210514 (Red Hat 8.5.0-22) Ubuntu 20.04 Kernel: 5.15 Compiler: gcc gcc (Ubuntu 9.4.0-1ubuntu1~20.04.2) 9.4.0 Ubuntu 22.04 Kernel: 5.15 Compiler: gcc gcc (Ubuntu 11.4.0-1ubuntu1~22.04) 11.4.0 Windows Server 2022 Kernel: 10.0.20348.2031 Compiler: clang 15.0.7, gcc 14.1.0 (MinGW), and MSVC VS 19.39.33521 To view detailed results, visit: https://lab.dpdk.org/results/dashboard/patchsets/34379/ UNH-IOL DPDK Community Lab To manage your email subscriptions, visit: https://lab.dpdk.org/results/dashboard/preferences/subscriptions/