From mboxrd@z Thu Jan 1 00:00:00 1970 Return-Path: Received: from mails.dpdk.org (mails.dpdk.org [217.70.189.124]) by inbox.dpdk.org (Postfix) with ESMTP id DDF6A489C9 for ; Fri, 24 Oct 2025 23:08:41 +0200 (CEST) Received: from mails.dpdk.org (localhost [127.0.0.1]) by mails.dpdk.org (Postfix) with ESMTP id D86CC4014F; Fri, 24 Oct 2025 23:08:41 +0200 (CEST) Received: from mail-qt1-f228.google.com (mail-qt1-f228.google.com [209.85.160.228]) by mails.dpdk.org (Postfix) with ESMTP id 68A3F4014F for ; Fri, 24 Oct 2025 23:08:41 +0200 (CEST) Received: by mail-qt1-f228.google.com with SMTP id d75a77b69052e-4eb9ca96781so9139091cf.3 for ; Fri, 24 Oct 2025 14:08:41 -0700 (PDT) DKIM-Signature: v=1; a=rsa-sha256; c=relaxed/relaxed; d=iol.unh.edu; s=unh-iol; t=1761340121; x=1761944921; darn=dpdk.org; h=references:in-reply-to:cc:to:from:subject:message-id:date:from:to :cc:subject:date:message-id:reply-to; bh=XHolfFR72P1jGy8iOzBLZb0QaO4eUANZfsT0gPN0tSo=; b=b+pth5MgS8m8LSwozUPxOcrFiyQDIv3YAwJFoOKe90RUeOYWk0ltouyCUu8qYF9QIC 2+Z9QJt0dstiE4TSDkebrGnvOT/5/B9KM9KVz/3KvtRh0EGFeQ+neVEGyeaktpccU5ME s7qkpprY5+8cs7lGlF2pGHv8pTNUmo6WcL0A4= X-Google-DKIM-Signature: v=1; a=rsa-sha256; c=relaxed/relaxed; d=1e100.net; s=20230601; t=1761340121; x=1761944921; h=references:in-reply-to:cc:to:from:subject:message-id:date :x-gm-message-state:from:to:cc:subject:date:message-id:reply-to; bh=XHolfFR72P1jGy8iOzBLZb0QaO4eUANZfsT0gPN0tSo=; b=Kj0b4QwP5vNQYeRgjC+NozFheTz2+VPzZFpIPnKRPuuid8vU58B2KCx+ODKBkIFth9 fZeGCe01MrGS5smLAuPDZqtHPdxqd5r33vyCLvbi8iEgGdVnNOeUN8uBl8tGa/IVJ6Pm r4/31gkMPJnuqQalTK7RNcdClb0Rdqcbyds58yHpHoX6PB55pibwgHvFQ3jOhB2ih0tq 64YCbDscwzw4bAxGNSyb7gRbh7ZEu9BeU5IYYue1cQoXvsFeV/BJbdaCubRfgaM1w2y+ keJXvz+pmy/6WVH+FSo2kisC6mLnk4P6Y61W16Sr5WWJH8nMPfdIKSz0XFxNj8DTaJmN 68Rg== X-Gm-Message-State: AOJu0YyyJWJBjfpklG6Yxx6mRqSwQ7ld69iy3qwUPZ6tjnxAMWReJ3JX JiRC/ZfwVBrklCWTM7RBF3jpuwbPw8w9TqZUhMzKDjcmN7s89yxnY9CLR8XGBJGP+VfdyPOUfUp tFOoW6MXCL2MU/TwsRPoL83oewD22iS/S76FGve6+9b7e X-Gm-Gg: ASbGncuZw8axXQghQN4XW9ySwHslaA5n+iLTK+SMyKGf6sLLf44b9Bs8KCA0MG/+q59 wF013Ui7UoHd9HmfUHfbmLVRVWSItW5DEDYSPj77ZVWNOWhLy5L+HDxhhnoqdK60gEmOytC1BT1 24MUKS6ClCjkwgQSSHVhB/9p4w/orehC49lSNzaCK1OZkbG/RCQfMcCG+EqAuGIYqukHrR0jIrD mC6RRJU3dW9kVjOVOq73tWJRHkSNo8PVF1xfmlb/pxOYiQ2uROWrq433unL1ie/zX91N12xGZxz wkVE1vmrRrkkcJ7YLIva+8lGrbbJmkkVIGgKW0adHtvknQjJEX8EgYFTxZALw3N4p1EE/yNbYlk Rh+MG5m2fzu9YrcWvxAmt9xDnDzVwfd8= X-Google-Smtp-Source: AGHT+IGvqc0roeW3WqUdWkayZN2J5EPTeNh0d9zEBX7m0FDZhveka7TlBclJ15pflJHU33QOi8VRZ2vJ/wkr X-Received: by 2002:ac8:5a46:0:b0:4b3:3b2:2b4b with SMTP id d75a77b69052e-4e89d0507eemr332072201cf.0.1761340120808; Fri, 24 Oct 2025 14:08:40 -0700 (PDT) Received: from postal.iol.unh.edu (postal.iol.unh.edu. [132.177.123.84]) by smtp-relay.gmail.com with ESMTPS id 6a1803df08f44-87fc48dbb1asm182366d6.3.2025.10.24.14.08.40 (version=TLS1_2 cipher=ECDHE-ECDSA-AES128-GCM-SHA256 bits=128/128); Fri, 24 Oct 2025 14:08:40 -0700 (PDT) X-Relaying-Domain: iol.unh.edu Date: Fri, 24 Oct 2025 14:08:40 -0700 (PDT) Message-ID: <68fbead8.050a0220.37c869.0f01SMTPIN_ADDED_MISSING@mx.google.com> Received: from [172.21.0.2] (unknown [172.18.0.240]) by postal.iol.unh.edu (Postfix) with ESMTP id 8FFFB6050A61; Fri, 24 Oct 2025 17:08:40 -0400 (EDT) Subject: |SUCCESS| pw158095-158097 [PATCH] [v4,3/3] dts: add virtio forwardin From: dpdklab@iol.unh.edu To: Test Report Cc: dpdk-test-reports@iol.unh.edu In-Reply-To: <20251024185056.607160-3-dmarx@iol.unh.edu> References: <20251024185056.607160-3-dmarx@iol.unh.edu> Content-Type: text/plain X-BeenThere: test-report@dpdk.org X-Mailman-Version: 2.1.29 Precedence: list List-Id: automatic DPDK test reports List-Unsubscribe: , List-Archive: List-Post: List-Help: List-Subscribe: , Errors-To: test-report-bounces@dpdk.org Test-Label: iol-compile-amd64-testing Test-Status: SUCCESS http://dpdk.org/patch/158097 _Testing PASS_ Submitter: Dean Marx Date: Friday, October 24 2025 18:50:55 DPDK git baseline: Repo:dpdk-next-dts Branch: master CommitID:c1abcee5a9656fb4890b733e6051aa604c60f146 158095-158097 --> testing pass Upstream job id: Windows-Compile-DPDK-Native#31882 Test environment and result as below: +---------------------+--------------------+-------------------+-------------------------+----------------------+ | Environment | dpdk_meson_compile | dpdk_msvc_compile | dpdk_llvm_clang_compile | dpdk_mingw64_compile | +=====================+====================+===================+=========================+======================+ | FreeBSD 14.2 | PASS | SKIPPED | SKIPPED | SKIPPED | +---------------------+--------------------+-------------------+-------------------------+----------------------+ | Ubuntu 20.04 | PASS | SKIPPED | SKIPPED | SKIPPED | +---------------------+--------------------+-------------------+-------------------------+----------------------+ | Windows Server 2022 | SKIPPED | PASS | PASS | PASS | +---------------------+--------------------+-------------------+-------------------------+----------------------+ FreeBSD 14.2 Kernel: 14.2-RELEASE Compiler: clang 18.1.6 Ubuntu 20.04 Kernel: 4.19 Compiler: gcc gcc (Ubuntu 9.4.0-1ubuntu1~20.04.2) 9.4.0 Windows Server 2022 Kernel: 10.0.20348.2031 Compiler: clang 15.0.7, gcc 14.1.0 (MinGW), and MSVC VS 19.39.33521 To view detailed results, visit: https://lab.dpdk.org/results/dashboard/patchsets/34379/ UNH-IOL DPDK Community Lab To manage your email subscriptions, visit: https://lab.dpdk.org/results/dashboard/preferences/subscriptions/