From mboxrd@z Thu Jan 1 00:00:00 1970 Return-Path: Received: from mails.dpdk.org (mails.dpdk.org [217.70.189.124]) by inbox.dpdk.org (Postfix) with ESMTP id 36A3C489C9 for ; Fri, 24 Oct 2025 23:19:55 +0200 (CEST) Received: from mails.dpdk.org (localhost [127.0.0.1]) by mails.dpdk.org (Postfix) with ESMTP id 3216F4014F; Fri, 24 Oct 2025 23:19:55 +0200 (CEST) Received: from mail-oo1-f97.google.com (mail-oo1-f97.google.com [209.85.161.97]) by mails.dpdk.org (Postfix) with ESMTP id 784314014F for ; Fri, 24 Oct 2025 23:19:53 +0200 (CEST) Received: by mail-oo1-f97.google.com with SMTP id 006d021491bc7-650317ae979so760498eaf.2 for ; Fri, 24 Oct 2025 14:19:53 -0700 (PDT) DKIM-Signature: v=1; a=rsa-sha256; c=relaxed/relaxed; d=iol.unh.edu; s=unh-iol; t=1761340792; x=1761945592; darn=dpdk.org; h=references:in-reply-to:cc:to:from:subject:message-id:date:from:to :cc:subject:date:message-id:reply-to; bh=NUSJnTd2XbfUb8mpiSOAcDX3zNPLh5J/1mpq0Xw5vH0=; b=SSRlQK2u3Ia9P8De9Xcs3/uO0pE7u6d5AxFN9vTrvX9L2rIC78+WJ/5uhYojnPo3/J otzLBHIZEwUSXltLQLHE/ymw0Qyvx0sJuL61Z/DO1bNxdPrv5P0n0pg/LuJOtd/zzI33 hhnraLEGpRiIwpvw0hIXDXDHzLyC8vwKihSOM= X-Google-DKIM-Signature: v=1; a=rsa-sha256; c=relaxed/relaxed; d=1e100.net; s=20230601; t=1761340792; x=1761945592; h=references:in-reply-to:cc:to:from:subject:message-id:date :x-gm-message-state:from:to:cc:subject:date:message-id:reply-to; bh=NUSJnTd2XbfUb8mpiSOAcDX3zNPLh5J/1mpq0Xw5vH0=; b=sEah71KQyoxrVu7v7ut6XUPaHV9rLFs7YUzxIA8M4aheam5s0tYJ3lZ31oRnTnevH0 wTqYOA5GEOiUjZ0K9Trggcyy26tQ1nc0mu6XV7oIN3SH9hYC0sewbua2vUVIFc0dKWAX 40KVemD35KTmGVkpv4dBVL2Z7oN6ClzwI8o49rPyiWPmejdMeQ0h25nBPU4AbG8CapdM DQpXNh4S56Ga2noL7x+sQ7BFVZE1XT2dZuBdscKkd/7HmuOeJS29JFYAHXh1eHz/dblC 4+SZ9RCSqN0fZTbbD3ttQDIqyyXJXtT8uogpxRecu+5cbQSWzdOoe79z34J7+x+BSgmk Ql9w== X-Gm-Message-State: AOJu0YyCe4hOqX7rU+ZnDvnaBhyKZY2DlT8nMXu670JeQwDqO1NaQOKP 0DVwioy+T4pGsfhPf7HDcbXAdkVC1gnOnVbr3VQRMgJmnl7g6CesNU7QQm7pUbBfh3vb3QFB/xn eSIQ4Plfy8pnjXfeNNlHqhj7iEpyUR1xOSPB9N1m3gbuqzesXPG3OZ7ZrNhyK X-Gm-Gg: ASbGncsrbcBs6Abf9EAMe/xuhQZ+zYb1xTkEa4O6+An1DIJgKc28G8B67CujuC/8Hu0 QMVlisK/wFrznpHcbmvcIJgS9uJPF0ADpP20ORZPTE1yApYobVI4IW4FBv+ivyWMQjU2IPSy8gH tZR4rddwGQZAOABdeBTAW+k0Awe/LFYM/PCIc8d0gYzyQgI0EUOsly9Srw/GBD8QQQv9YmDpyUa R0hVHdSoTA3fEuye3ZlE6f1ieGbX/NZR7DobJldr/7Fl9aFj/ZB4Hh6P//nz4N/F1QxKMGhN0Dr yVlgxXTDIgC8X8yQh3yY2JSDy4YgCoSeK+gEjEObrCDsXrHUkTSbzB0xXmi3zP0dpRIp+4r/X+e LnNDFWpx5 X-Google-Smtp-Source: AGHT+IErs7IAQ5+Qd14t1PvrYjx39LOnGSOJLjs9AloSAoeOLm5pEM/orDzFN5+eCqQed+h+GL+CkxjDmt4X X-Received: by 2002:a05:6820:213:b0:650:2f1c:4f85 with SMTP id 006d021491bc7-654e1bc277cmr1508487eaf.2.1761340792600; Fri, 24 Oct 2025 14:19:52 -0700 (PDT) Received: from postal.iol.unh.edu (postal.iol.unh.edu. [2606:4100:3880:1234::84]) by smtp-relay.gmail.com with ESMTPS id 006d021491bc7-654ef28d6e8sm12972eaf.4.2025.10.24.14.19.52 (version=TLS1_2 cipher=ECDHE-ECDSA-AES128-GCM-SHA256 bits=128/128); Fri, 24 Oct 2025 14:19:52 -0700 (PDT) X-Relaying-Domain: iol.unh.edu Date: Fri, 24 Oct 2025 14:19:52 -0700 (PDT) Message-ID: <68fbed78.4a0a0220.26ab0.0a9dSMTPIN_ADDED_MISSING@mx.google.com> Received: from [172.21.0.2] (unknown [172.18.0.240]) by postal.iol.unh.edu (Postfix) with ESMTP id A7A7F6050A61; Fri, 24 Oct 2025 17:19:50 -0400 (EDT) Subject: |SUCCESS| pw158099 [PATCH] app/compress-perf: fix coverity issue From: dpdklab@iol.unh.edu To: Test Report Cc: dpdk-test-reports@iol.unh.edu, Akhil Goyal In-Reply-To: <20251024191125.1728953-1-svaze@qti.qualcomm.com> References: <20251024191125.1728953-1-svaze@qti.qualcomm.com> Content-Type: text/plain X-BeenThere: test-report@dpdk.org X-Mailman-Version: 2.1.29 Precedence: list List-Id: automatic DPDK test reports List-Unsubscribe: , List-Archive: List-Post: List-Help: List-Subscribe: , Errors-To: test-report-bounces@dpdk.org Test-Label: iol-compile-amd64-testing Test-Status: SUCCESS http://dpdk.org/patch/158099 _Testing PASS_ Submitter: Sameer Vaze Date: Friday, October 24 2025 19:11:25 DPDK git baseline: Repo:dpdk-next-crypto Branch: master CommitID:6edcec237e31fcdb848cca6c151ee7a5bf057c28 158099 --> testing pass Upstream job id: Windows-Compile-DPDK-Native#31883 Test environment and result as below: +---------------------+--------------------+-------------------+-------------------------+ | Environment | dpdk_meson_compile | dpdk_msvc_compile | dpdk_llvm_clang_compile | +=====================+====================+===================+=========================+ | Ubuntu 20.04 | PASS | SKIPPED | SKIPPED | +---------------------+--------------------+-------------------+-------------------------+ | FreeBSD 14.2 | PASS | SKIPPED | SKIPPED | +---------------------+--------------------+-------------------+-------------------------+ | Windows Server 2022 | SKIPPED | PASS | PASS | +---------------------+--------------------+-------------------+-------------------------+ Ubuntu 20.04 Kernel: 4.19 Compiler: gcc gcc (Ubuntu 9.4.0-1ubuntu1~20.04.2) 9.4.0 FreeBSD 14.2 Kernel: 14.2-RELEASE Compiler: clang 18.1.6 Windows Server 2022 Kernel: 10.0.20348.2031 Compiler: clang 15.0.7, gcc 14.1.0 (MinGW), and MSVC VS 19.39.33521 To view detailed results, visit: https://lab.dpdk.org/results/dashboard/patchsets/34380/ UNH-IOL DPDK Community Lab To manage your email subscriptions, visit: https://lab.dpdk.org/results/dashboard/preferences/subscriptions/