From mboxrd@z Thu Jan 1 00:00:00 1970 Return-Path: Received: from mails.dpdk.org (mails.dpdk.org [217.70.189.124]) by inbox.dpdk.org (Postfix) with ESMTP id 58DCB489C9 for ; Fri, 24 Oct 2025 23:21:11 +0200 (CEST) Received: from mails.dpdk.org (localhost [127.0.0.1]) by mails.dpdk.org (Postfix) with ESMTP id 53DF94014F; Fri, 24 Oct 2025 23:21:11 +0200 (CEST) Received: from mail-yw1-f225.google.com (mail-yw1-f225.google.com [209.85.128.225]) by mails.dpdk.org (Postfix) with ESMTP id 11F674014F for ; Fri, 24 Oct 2025 23:21:10 +0200 (CEST) Received: by mail-yw1-f225.google.com with SMTP id 00721157ae682-784807fa38dso30832297b3.2 for ; Fri, 24 Oct 2025 14:21:10 -0700 (PDT) DKIM-Signature: v=1; a=rsa-sha256; c=relaxed/relaxed; d=iol.unh.edu; s=unh-iol; t=1761340869; x=1761945669; darn=dpdk.org; h=references:in-reply-to:cc:to:from:subject:message-id:date:from:to :cc:subject:date:message-id:reply-to; bh=8SLZqxgntXe4t00EbPPeU7bDYgaUBewBh1ev/HmNfvM=; b=X/r80kykw/8V8pHUKmvFaWJT/7WhpT5EEDa59diHAGOPMaMOZZDaoXoIyXZRiOs0po Fn7BrxFg0p39VvUDJgEHpPtFwAAwyi1YsCsV0F1oeYo3bEiBECkMJ8klfS/UFq5isksK rH2IDbMNPxtZcCMPQqPAbOW/ZmH6xfoEK2fQQ= X-Google-DKIM-Signature: v=1; a=rsa-sha256; c=relaxed/relaxed; d=1e100.net; s=20230601; t=1761340869; x=1761945669; h=references:in-reply-to:cc:to:from:subject:message-id:date :x-gm-message-state:from:to:cc:subject:date:message-id:reply-to; bh=8SLZqxgntXe4t00EbPPeU7bDYgaUBewBh1ev/HmNfvM=; b=twnM3kpm11YNrdYCrl3CMyewMSrr86JxZcTVv8ooMOAoX6dPU2AqRKhcw5Km4oBhXs N/YqNiB0s2RnGlOdDIOb5DvbjK10fS4UjhCM8HFr1DLAMQiC1S4iXIO60iAdzd4skyQd 5jc87yaXHolTytSyzMhjwcFrwyOlvN8xZQiEUylvlYbLgaZKjk93vp9D2A19nBmymskY jBHXEj8nFUOUAo2exYMLJO7Ri7nIvIuXqnJup81ZKDcCSrdnRJdyBW7xqNf8KDMsn6rB o7/hzKazU4BNB1wT/IxNgTXhj6yjDxQmQqrRLCauNMy3mH4eKeGDGGxAztR3db1g2wNp Cbkw== X-Gm-Message-State: AOJu0YzkU0DugaDp38fuAwytDdS80uMasBdG9O+LMf3OfioOVzE+pE+I RVUj8T2gmJ44c2K+lJrERLtelfKmQhcbtd5JWlLwY7pzmI4lUetiVUxX+6vq6DLDFY+tBBMxV3f 38yZkHdN+pW+Qjy+yNbHTsGki3mxzf8dfT/6RYxArD+KU X-Gm-Gg: ASbGncv/2fRukPIOVhLjfxL6Gf5RdNk6DSVuCrSyL9nuLb1uAcx/SMPdVGgdqC95Axg NF62+DdLDkiAjUT+eHxBw4TogmSCMyEeydMICwUikNu7iZkkg+iR3ojb6zz+8kpXBhOF4K3gHZl vV5OsFj0FmrDzBOzEoiYOV5fgMaQrx5MOt/fY6IprC8xWPHZg7nF1jpUj3oX8Qaj1NT+0N1k1dY P3cxiUQKR/10U5sQFJ8aXCiQFnUQEZgAmT8OiOvtvJNtDPU9Mu+3+MOAv4HM8d2rTf2SeeIn2TI MlvKBnIUI58TGUyCCGuqWVkx4IqBSqH/ry0S1ZdEPoCPvOOVHJLkCPN1rmR/Hy6x1lZOG0bUJVn cMz10djTR2G43a3o1O/cwzcr9AxQ+N9s= X-Google-Smtp-Source: AGHT+IFuOzV4ndFIw3yJ0Wjgc4QVZVxtTZRuFJUIeKGM6uKnIsoppq/t7+5TbyB/UAxKs8t39xqSm9lvYfyu X-Received: by 2002:a53:c04b:0:20b0:63e:1ee2:eb12 with SMTP id 956f58d0204a3-63f434ee842mr2404487d50.23.1761340869446; Fri, 24 Oct 2025 14:21:09 -0700 (PDT) Received: from postal.iol.unh.edu (postal.iol.unh.edu. [132.177.123.84]) by smtp-relay.gmail.com with ESMTPS id 00721157ae682-785ed144417sm143067b3.4.2025.10.24.14.21.09 (version=TLS1_2 cipher=ECDHE-ECDSA-AES128-GCM-SHA256 bits=128/128); Fri, 24 Oct 2025 14:21:09 -0700 (PDT) X-Relaying-Domain: iol.unh.edu Date: Fri, 24 Oct 2025 14:21:09 -0700 (PDT) Message-ID: <68fbedc5.050a0220.236b38.0cc0SMTPIN_ADDED_MISSING@mx.google.com> Received: from [172.21.0.3] (unknown [172.18.0.240]) by postal.iol.unh.edu (Postfix) with ESMTP id 1F0896050A61; Fri, 24 Oct 2025 17:21:09 -0400 (EDT) Subject: |SUCCESS| pw158099 [PATCH] app/compress-perf: fix coverity issue From: dpdklab@iol.unh.edu To: Test Report Cc: dpdk-test-reports@iol.unh.edu, Akhil Goyal In-Reply-To: <20251024191125.1728953-1-svaze@qti.qualcomm.com> References: <20251024191125.1728953-1-svaze@qti.qualcomm.com> Content-Type: text/plain X-BeenThere: test-report@dpdk.org X-Mailman-Version: 2.1.29 Precedence: list List-Id: automatic DPDK test reports List-Unsubscribe: , List-Archive: List-Post: List-Help: List-Subscribe: , Errors-To: test-report-bounces@dpdk.org Test-Label: iol-compile-amd64-testing Test-Status: SUCCESS http://dpdk.org/patch/158099 _Testing PASS_ Submitter: Sameer Vaze Date: Friday, October 24 2025 19:11:25 DPDK git baseline: Repo:dpdk-next-crypto Branch: master CommitID:6edcec237e31fcdb848cca6c151ee7a5bf057c28 158099 --> testing pass Upstream job id: Windows-Compile-DPDK-Native#31884 Test environment and result as below: +---------------------+--------------------+-------------------+-------------------------+----------------------+ | Environment | dpdk_meson_compile | dpdk_msvc_compile | dpdk_llvm_clang_compile | dpdk_mingw64_compile | +=====================+====================+===================+=========================+======================+ | Ubuntu 20.04 | PASS | SKIPPED | SKIPPED | SKIPPED | +---------------------+--------------------+-------------------+-------------------------+----------------------+ | FreeBSD 14.2 | PASS | SKIPPED | SKIPPED | SKIPPED | +---------------------+--------------------+-------------------+-------------------------+----------------------+ | Windows Server 2022 | SKIPPED | PASS | PASS | PASS | +---------------------+--------------------+-------------------+-------------------------+----------------------+ Ubuntu 20.04 Kernel: 4.19 Compiler: gcc gcc (Ubuntu 9.4.0-1ubuntu1~20.04.2) 9.4.0 FreeBSD 14.2 Kernel: 14.2-RELEASE Compiler: clang 18.1.6 Windows Server 2022 Kernel: 10.0.20348.2031 Compiler: clang 15.0.7, gcc 14.1.0 (MinGW), and MSVC VS 19.39.33521 To view detailed results, visit: https://lab.dpdk.org/results/dashboard/patchsets/34380/ UNH-IOL DPDK Community Lab To manage your email subscriptions, visit: https://lab.dpdk.org/results/dashboard/preferences/subscriptions/