From mboxrd@z Thu Jan 1 00:00:00 1970 Return-Path: Received: from mails.dpdk.org (mails.dpdk.org [217.70.189.124]) by inbox.dpdk.org (Postfix) with ESMTP id C8E69489C9 for ; Fri, 24 Oct 2025 23:24:55 +0200 (CEST) Received: from mails.dpdk.org (localhost [127.0.0.1]) by mails.dpdk.org (Postfix) with ESMTP id A8F064014F; Fri, 24 Oct 2025 23:24:55 +0200 (CEST) Received: from mail-il1-f227.google.com (mail-il1-f227.google.com [209.85.166.227]) by mails.dpdk.org (Postfix) with ESMTP id 5344C4014F for ; Fri, 24 Oct 2025 23:24:54 +0200 (CEST) Received: by mail-il1-f227.google.com with SMTP id e9e14a558f8ab-430abca3354so24152775ab.2 for ; Fri, 24 Oct 2025 14:24:54 -0700 (PDT) DKIM-Signature: v=1; a=rsa-sha256; c=relaxed/relaxed; d=iol.unh.edu; s=unh-iol; t=1761341093; x=1761945893; darn=dpdk.org; h=references:in-reply-to:cc:to:from:subject:message-id:date:from:to :cc:subject:date:message-id:reply-to; bh=bu98kKBLS4OVL09AJxsy63IYFBHcLif5XtSfrRZkJUI=; b=fS5kSLWB5UvWJIp5eueqxA6EGur0PF3/LHA4hVdAcFCtuJS/GDJnynZ//3uRQvOKlX 0BsCarN5qo24E/a1gC/HC/YcExmJuzmBK0sieKugjEQK8tB9RQLPLRUxzYpRaqx63+5X 3+SOXgYVmt5vyAZQIVcClTIPn+4xjArCJ/4/s= X-Google-DKIM-Signature: v=1; a=rsa-sha256; c=relaxed/relaxed; d=1e100.net; s=20230601; t=1761341093; x=1761945893; h=references:in-reply-to:cc:to:from:subject:message-id:date :x-gm-message-state:from:to:cc:subject:date:message-id:reply-to; bh=bu98kKBLS4OVL09AJxsy63IYFBHcLif5XtSfrRZkJUI=; b=b4c5NeBb+AqlAo6ckiefEve+O7EKG/3+jY218nC1Z5UFHi578Jh034U3mhCaj8LbKG JRJoZNfI2BKcPV1xESc8sUj6FANxFQ39UvNYzZUnPEI5KGdvZK6NT/xkKUjJIHO6epFp LWOpnV1PBIQz+UqtMAUTW72AK+wAs/hrQNA7nZlKx+HrTqj8sA5YIKv0iNt2XsDPw3ER T4wTdpL7jmkScjbL2z87ly9F6ny4pZc5DwDP/ddIsvMuviL9Hi2lrspmzvv7RFjkyctU dmP1H7vh0LsA0IypeR5PRgNyusfDtEAVK9/gebWqgJeDnI13ec/Cb03jCeZECb50fUeP ZxUg== X-Gm-Message-State: AOJu0YwSMesbf3U5QugWio8v1q9kjTjhaw2bMymQLKsgvJnZwJfXRJCy 3W36bmM58NkpEGrbbaO57LQ5FfzbHt/3tFvYcviZPuBS6UMDtvjyHRNKnqrdBXH55zWEYyKsrER wkt8jD+YZ9qVHl2BM6y/KjWt+tybqcu5W9nqNwmmk3KoC X-Gm-Gg: ASbGncsbRDA+IVvIYj8Eym2ljp+F72tnz/ZrgqJEpw5V3X6cCPGH48w1wzNfEvIS0Fo mMhiqfhf1fLGgH4bCrY7y4qJaaZE3Hno0Min9IcsYTzihmswS8ozS3I1s5NJpJzzX0ovj0JkM0l JYLdcyps5PUzYZxS6lp63CdjH1wgrsX+7CGioGXQwK7L1FevFZ1sgumrxzoNSPHcZh1IUFaz4oW mtfPCn/3Mnb1elAvTONQcH6TbbaBne95mXxoDP2Sd4QGJFa+xTZdpvUrigFBeJykrH6JCB5RzYc 5ELQIy3H2Ym6maainqSiSGe+kx6DrWlw3v02+wofrqbHQpi4uHsB/50RTuzMTIT6pvtBsxl437+ TMaKYCwmlZJYQ6eh3KYfUnmkZtKRrj6w= X-Google-Smtp-Source: AGHT+IG/ivFsUVu0svO+BSp84tw2Xjc3PgpuWFrvbN0mdxupU8Rjjsah456ZZE2WU3Sr5fOOZg7++6gdIwac X-Received: by 2002:a05:6e02:1a2b:b0:430:ab98:7b27 with SMTP id e9e14a558f8ab-430c527d375mr395003915ab.20.1761341093578; Fri, 24 Oct 2025 14:24:53 -0700 (PDT) Received: from postal.iol.unh.edu (postal.iol.unh.edu. [132.177.123.84]) by smtp-relay.gmail.com with ESMTPS id 8926c6da1cb9f-5aea76ea627sm18048173.1.2025.10.24.14.24.53 (version=TLS1_2 cipher=ECDHE-ECDSA-AES128-GCM-SHA256 bits=128/128); Fri, 24 Oct 2025 14:24:53 -0700 (PDT) X-Relaying-Domain: iol.unh.edu Date: Fri, 24 Oct 2025 14:24:53 -0700 (PDT) Message-ID: <68fbeea5.050a0220.262e07.0fa0SMTPIN_ADDED_MISSING@mx.google.com> Received: from [172.21.0.2] (unknown [172.18.0.240]) by postal.iol.unh.edu (Postfix) with ESMTP id 2E5856050A61; Fri, 24 Oct 2025 17:24:53 -0400 (EDT) Subject: |SUCCESS| pw158098 [PATCH] compressdev: fix coverity issue From: dpdklab@iol.unh.edu To: Test Report Cc: dpdk-test-reports@iol.unh.edu, Akhil Goyal In-Reply-To: <20251024191108.1728811-1-svaze@qti.qualcomm.com> References: <20251024191108.1728811-1-svaze@qti.qualcomm.com> Content-Type: text/plain X-BeenThere: test-report@dpdk.org X-Mailman-Version: 2.1.29 Precedence: list List-Id: automatic DPDK test reports List-Unsubscribe: , List-Archive: List-Post: List-Help: List-Subscribe: , Errors-To: test-report-bounces@dpdk.org Test-Label: iol-compile-amd64-testing Test-Status: SUCCESS http://dpdk.org/patch/158098 _Testing PASS_ Submitter: Sameer Vaze Date: Friday, October 24 2025 19:11:08 DPDK git baseline: Repo:dpdk-next-crypto Branch: master CommitID:6edcec237e31fcdb848cca6c151ee7a5bf057c28 158098 --> testing pass Upstream job id: Windows-Compile-DPDK-Native#31885 Test environment and result as below: +---------------------+--------------------+-------------------+-------------------------+ | Environment | dpdk_meson_compile | dpdk_msvc_compile | dpdk_llvm_clang_compile | +=====================+====================+===================+=========================+ | Ubuntu 20.04 | PASS | SKIPPED | SKIPPED | +---------------------+--------------------+-------------------+-------------------------+ | FreeBSD 14.2 | PASS | SKIPPED | SKIPPED | +---------------------+--------------------+-------------------+-------------------------+ | Windows Server 2022 | SKIPPED | PASS | PASS | +---------------------+--------------------+-------------------+-------------------------+ Ubuntu 20.04 Kernel: 4.19 Compiler: gcc gcc (Ubuntu 9.4.0-1ubuntu1~20.04.2) 9.4.0 FreeBSD 14.2 Kernel: 14.2-RELEASE Compiler: clang 18.1.6 Windows Server 2022 Kernel: 10.0.20348.2031 Compiler: clang 15.0.7, gcc 14.1.0 (MinGW), and MSVC VS 19.39.33521 To view detailed results, visit: https://lab.dpdk.org/results/dashboard/patchsets/34381/ UNH-IOL DPDK Community Lab To manage your email subscriptions, visit: https://lab.dpdk.org/results/dashboard/preferences/subscriptions/